BEGIN:VCALENDAR
VERSION:2.0
PRODID:-//Bham Now - ECPv6.15.20//NONSGML v1.0//EN
CALSCALE:GREGORIAN
METHOD:PUBLISH
X-WR-CALNAME:Bham Now
X-ORIGINAL-URL:https://bhamnow.com
X-WR-CALDESC:Events for Bham Now
REFRESH-INTERVAL;VALUE=DURATION:PT1H
X-Robots-Tag:noindex
X-PUBLISHED-TTL:PT1H
BEGIN:VTIMEZONE
TZID:America/Chicago
BEGIN:DAYLIGHT
TZOFFSETFROM:-0600
TZOFFSETTO:-0500
TZNAME:CDT
DTSTART:20250309T080000
END:DAYLIGHT
BEGIN:STANDARD
TZOFFSETFROM:-0500
TZOFFSETTO:-0600
TZNAME:CST
DTSTART:20251102T070000
END:STANDARD
BEGIN:DAYLIGHT
TZOFFSETFROM:-0600
TZOFFSETTO:-0500
TZNAME:CDT
DTSTART:20260308T080000
END:DAYLIGHT
BEGIN:STANDARD
TZOFFSETFROM:-0500
TZOFFSETTO:-0600
TZNAME:CST
DTSTART:20261101T070000
END:STANDARD
BEGIN:DAYLIGHT
TZOFFSETFROM:-0600
TZOFFSETTO:-0500
TZNAME:CDT
DTSTART:20270314T080000
END:DAYLIGHT
BEGIN:STANDARD
TZOFFSETFROM:-0500
TZOFFSETTO:-0600
TZNAME:CST
DTSTART:20271107T070000
END:STANDARD
END:VTIMEZONE
BEGIN:VEVENT
DTSTART;TZID=America/Chicago:20260421T180000
DTEND;TZID=America/Chicago:20260421T210000
DTSTAMP:20260423T085807
CREATED:20260413T175826Z
LAST-MODIFIED:20260413T175826Z
UID:1637698-1776794400-1776805200@bhamnow.com
SUMMARY:Improv Fundraiser at TNT for InToto Creative Arts
DESCRIPTION:Local comedian\, emcee\, artist\, and InToto Arts teaching artist\, Chris Davis\, will host an improv comedy show at Terrific New Theatre benefitting InToto this month. This community fundraiser supports InToto’s healing arts programs across their six partner organizations. Audiences can expect quick wit\, unexpected moments\, and plenty of laughs\, all inspired by the planet we call home in honor of Earth Day.\nThe show is set to take place on Tuesday\, April 21\, 2026\, from 6:00-9:00 PM at Terrific New Theatre on 5th Avenue North. Guests are invited to peruse InToto’s pop-up art show in the lobby beginning at 6pm\, where they will enjoy complementary refreshments and a cash bar\, before settling in for a wildly hilarious show at 7pm.
URL:https://bhamnow.com/bhamn-event/improv-fundraiser-at-tnt-for-intoto-creative-arts/
LOCATION:Terrific New Theatre\, 2821 2nd Ave S Ste A\, Birmingham\, AL\, 35233\, United States
CATEGORIES:Community,Downtown,Fundraiser
ATTACH;FMTTYPE=image/jpeg:https://bhamnow.com/wp-content/uploads/2026/04/IntotoImprovApr21Square-1-scaled.jpg
ORGANIZER;CN="InToto Creative Arts":MAILTO:intotocreativearts@gmail.com
GEO:33.5160974;-86.7920443
X-APPLE-STRUCTURED-LOCATION;VALUE=URI;X-ADDRESS=Terrific New Theatre 2821 2nd Ave S Ste A Birmingham AL 35233 United States;X-APPLE-RADIUS=500;X-TITLE=2821 2nd Ave S Ste A:geo:-86.7920443,33.5160974
END:VEVENT
END:VCALENDAR