BEGIN:VCALENDAR
VERSION:2.0
PRODID:-//Bham Now - ECPv6.15.20//NONSGML v1.0//EN
CALSCALE:GREGORIAN
METHOD:PUBLISH
X-ORIGINAL-URL:https://bhamnow.com
X-WR-CALDESC:Events for Bham Now
REFRESH-INTERVAL;VALUE=DURATION:PT1H
X-Robots-Tag:noindex
X-PUBLISHED-TTL:PT1H
BEGIN:VTIMEZONE
TZID:America/Chicago
BEGIN:DAYLIGHT
TZOFFSETFROM:-0600
TZOFFSETTO:-0500
TZNAME:CDT
DTSTART:20240310T080000
END:DAYLIGHT
BEGIN:STANDARD
TZOFFSETFROM:-0500
TZOFFSETTO:-0600
TZNAME:CST
DTSTART:20241103T070000
END:STANDARD
BEGIN:DAYLIGHT
TZOFFSETFROM:-0600
TZOFFSETTO:-0500
TZNAME:CDT
DTSTART:20250309T080000
END:DAYLIGHT
BEGIN:STANDARD
TZOFFSETFROM:-0500
TZOFFSETTO:-0600
TZNAME:CST
DTSTART:20251102T070000
END:STANDARD
BEGIN:DAYLIGHT
TZOFFSETFROM:-0600
TZOFFSETTO:-0500
TZNAME:CDT
DTSTART:20260308T080000
END:DAYLIGHT
BEGIN:STANDARD
TZOFFSETFROM:-0500
TZOFFSETTO:-0600
TZNAME:CST
DTSTART:20261101T070000
END:STANDARD
END:VTIMEZONE
BEGIN:VEVENT
DTSTART;TZID=America/Chicago:20250710T173000
DTEND;TZID=America/Chicago:20250710T203000
DTSTAMP:20260424T104725
CREATED:20250609T182553Z
LAST-MODIFIED:20250609T182553Z
UID:10081965-1752168600-1752179400@bhamnow.com
SUMMARY:Wine Tasting Fundraiser
DESCRIPTION:We will be hosting a wine tasting\, with plenty of free drinks\, food and music. Benefiting the students\, educators and staff of Jefferson County School District.
URL:https://bhamnow.com/bhamn-event/wine-tasting-fundraiser/
LOCATION:Wine Loft Birmingham\, 2200 1st Ave N Ste 100\, Birmingham\, AL\, 35203\, United States
CATEGORIES:Downtown
ATTACH;FMTTYPE=image/jpeg:https://bhamnow.com/wp-content/uploads/2025/06/Screenshot_20250525_055003_Adobe-Acrobat.jpg
GEO:33.5161084;-86.8028032
X-APPLE-STRUCTURED-LOCATION;VALUE=URI;X-ADDRESS=Wine Loft Birmingham 2200 1st Ave N Ste 100 Birmingham AL 35203 United States;X-APPLE-RADIUS=500;X-TITLE=2200 1st Ave N Ste 100:geo:-86.8028032,33.5161084
END:VEVENT
END:VCALENDAR