BEGIN:VCALENDAR
VERSION:2.0
PRODID:-//Bham Now - ECPv6.15.20//NONSGML v1.0//EN
CALSCALE:GREGORIAN
METHOD:PUBLISH
X-WR-CALNAME:Bham Now
X-ORIGINAL-URL:https://bhamnow.com
X-WR-CALDESC:Events for Bham Now
REFRESH-INTERVAL;VALUE=DURATION:PT1H
X-Robots-Tag:noindex
X-PUBLISHED-TTL:PT1H
BEGIN:VTIMEZONE
TZID:America/Chicago
BEGIN:DAYLIGHT
TZOFFSETFROM:-0600
TZOFFSETTO:-0500
TZNAME:CDT
DTSTART:20240310T080000
END:DAYLIGHT
BEGIN:STANDARD
TZOFFSETFROM:-0500
TZOFFSETTO:-0600
TZNAME:CST
DTSTART:20241103T070000
END:STANDARD
BEGIN:DAYLIGHT
TZOFFSETFROM:-0600
TZOFFSETTO:-0500
TZNAME:CDT
DTSTART:20250309T080000
END:DAYLIGHT
BEGIN:STANDARD
TZOFFSETFROM:-0500
TZOFFSETTO:-0600
TZNAME:CST
DTSTART:20251102T070000
END:STANDARD
BEGIN:DAYLIGHT
TZOFFSETFROM:-0600
TZOFFSETTO:-0500
TZNAME:CDT
DTSTART:20260308T080000
END:DAYLIGHT
BEGIN:STANDARD
TZOFFSETFROM:-0500
TZOFFSETTO:-0600
TZNAME:CST
DTSTART:20261101T070000
END:STANDARD
END:VTIMEZONE
BEGIN:VEVENT
DTSTART;TZID=America/Chicago:20250516T193000
DTEND;TZID=America/Chicago:20250516T193000
DTSTAMP:20260420T162909
CREATED:20250320T162653Z
LAST-MODIFIED:20250320T162654Z
UID:10079438-1747423800-1747423800@bhamnow.com
SUMMARY:UNBOUND: A SERIES OF EVER-EVOLVING PERFORMANCES
DESCRIPTION:  \n\n\n\n\n\nA MIXED REPERTOIRE PERFORMANCE\n\n\n\n\nUnbound will feature Alabama Ballet Artistic Director Christopher Stuart’s Johnny Cash ballet ‘Under the Lights’: an ode to the Man in Black. We are delighted to showcase the full-length ballet production of ‘Under the Lights’\, building upon the resounding success of its excerpts featured during last season’s At Home performances. \nAlong with ‘Under the Lights\,’ Unbound will feature a world premiere by internationally-renowned dancer and choreographer James Whiteside. Choreographed specially for Alabama Ballet\, Whiteside’s new production will be performed on-stage for the very first time. \n\n\n\n\n\n\n\nDATE:\n\n\n5/16-5/18\n\n\n\n\n\n\nPLACE:\n\n\nALYS STEPHENS CENTER\n\n\n\n\n\n\n\nTICKETS\n\n\n\n\nPre-Sale (10% Off!): March 17-23\, 2025 \nOn-Sale: March 24\, 2025 \n\n\n\n\n\n\n“UNDER THE LIGHTS”\n\n\n\n\n\nCHOREOGRAPHY:\n\n\nCHRISTOPHER STUART\n\n\n\n\n\n\nMUSIC BY:\n\n\nJOHNNY AND JUNE CARTER CASH\n\n\n\n\n\n\n\n\n\nJAMES WHITESIDE – WORLD PREMIERE\n\n\n\n\n\nCHOREOGRAPHY:\n\n\nJAMES WHITESIDE\n\n\n\n\n\n\nMUSIC BY:\n\n\nTBD\n\n\n\n\n\n\n\n\n\n\n\n\n\n\n\n\n\nSHOW TIMES\n\n\n\n\n\n\n\nFRIDAY\, MAY 16\n\n\n7:30 P.M.\n\n\n\n\n\n\nSATURDAY\, MAY 17\n\n\n2:00 P.M.\n\n\n\n\n\n\nSATURDAY\, MAY 17\n\n\n7:30 P.M.\n\n\n\n\n\n\nSUNDAY\, MAY 18\n\n\n2:00 P.M.
URL:https://bhamnow.com/bhamn-event/unbound-a-series-of-ever-evolving-performances/
LOCATION:UAB’s Alys Stephens Center\, 1200 10th Ave South\, Birmingham\, AL\, 35205\, United States
CATEGORIES:Downtown
ATTACH;FMTTYPE=image/jpeg:https://alabamaballet.org/wp-content/uploads/2024/04/AF7I3352-Enhanced-NR-1-683x1024.jpg
GEO:33.4972299;-86.8078701
X-APPLE-STRUCTURED-LOCATION;VALUE=URI;X-ADDRESS=UAB’s Alys Stephens Center 1200 10th Ave South Birmingham AL 35205 United States;X-APPLE-RADIUS=500;X-TITLE=1200 10th Ave South:geo:-86.8078701,33.4972299
END:VEVENT
BEGIN:VEVENT
DTSTART;TZID=America/Chicago:20250516T080000
DTEND;TZID=America/Chicago:20250518T170000
DTSTAMP:20260420T162909
CREATED:20250422T215915Z
LAST-MODIFIED:20250422T215916Z
UID:10080586-1747382400-1747587600@bhamnow.com
SUMMARY:UNBOUND: A SERIES OF EVER-EVOLVING PERFORMANCES
DESCRIPTION:A MIXED REPERTOIRE PERFORMANCE\n\n\n\n\n Unbound will feature Alabama Ballet Artistic Director Christopher Stuart’s Johnny Cash ballet ‘Under the Lights’: an ode to the Man in Black. We are delighted to showcase the full-length ballet production of ‘Under the Lights’\, building upon the resounding success of its excerpts featured during last season’s At Home performances. \nAlong with ‘Under the Lights\,’ Unbound will feature a world premiere by internationally-renowned dancer and choreographer James Whiteside. Choreographed specially for Alabama Ballet\, Whiteside’s new production will be performed on-stage for the very first time with music by FKA twigs. \n\n\n\n\n\n\n\nDATE:\n\n\n5/16-5/18\n\n\n\n\n\n\nPLACE:\n\n\nALYS STEPHENS CENTER\n\n\n\n\n\nSPONSOR:\n\n\nPROTECTIVE \n\n\n\n\n\n\nTICKETS\n\n\n\n\n\n\n“UNDER THE LIGHTS”\n\n\n\n\n\nCHOREOGRAPHY:\n\n\nCHRISTOPHER STUART\n\n\n\n\n\n\nMUSIC BY:\n\n\nJOHNNY AND JUNE CARTER CASH\n\n\n\n\n\n\n\n\n\nJAMES WHITESIDE – WORLD PREMIERE
URL:https://bhamnow.com/bhamn-event/unbound-a-series-of-ever-evolving-performances-2/
LOCATION:UAB’s Alys Stephens Center\, 1200 10th Ave South\, Birmingham\, AL\, 35205\, United States
CATEGORIES:Downtown
ATTACH;FMTTYPE=image/jpeg:https://alabamaballet.org/wp-content/uploads/2024/04/AF7I3352-Enhanced-NR-1-683x1024.jpg
GEO:33.4972299;-86.8078701
X-APPLE-STRUCTURED-LOCATION;VALUE=URI;X-ADDRESS=UAB’s Alys Stephens Center 1200 10th Ave South Birmingham AL 35205 United States;X-APPLE-RADIUS=500;X-TITLE=1200 10th Ave South:geo:-86.8078701,33.4972299
END:VEVENT
BEGIN:VEVENT
DTSTART;TZID=America/Chicago:20250403T190000
DTEND;TZID=America/Chicago:20250403T220000
DTSTAMP:20260420T162909
CREATED:20240814T164553Z
LAST-MODIFIED:20240814T164553Z
UID:10064362-1743706800-1743717600@bhamnow.com
SUMMARY:Alex Cuba
DESCRIPTION:Alex Cuba creates genre-bending Latin music based on folk and popular traditions. Alex Cuba has released 9 albums to date and won a Grammy award\, 4 Latin Grammys\, and 2 Juno awards for his music. Alex Cuba is a Cuban singer-songwriter\, composer\, multi-instrumentalist and producer based in Canada\, whose work is distinguished by the avant-garde and multicultural nature of his sound. Their songs subvert what we traditionally recognize as Cuban music\, by creatively mixing elements of various musical genres\, such as jazz\, pop\, funk with Latin American popular tradition. All this global mix of sounds is accompanied by lyrics of the highest poetic flight. Throughout his career and with 9 albums to his name\, Alex has won two Juno awards\, four Latin Grammys\, and in 2022 a Grammy for Best Latin Pop Album as an artist\, producer\, and engineer\, in what was his fourth nomination the same. By renouncing the conventional stereotypes that typify much of the Latin music landscape\, Alex is instead defining his own “Latin Soul” genre\, keeping in mind his Afro-Cuban roots\, as well as the melodic and rhythmic exquisiteness of the school of the trova and the son. Essential weaponry to bring to the present and propel to the future the essential and eternal aspects of the cauntautor genre.
URL:https://bhamnow.com/bhamn-event/alex-cuba/
LOCATION:UAB’s Alys Stephens Center\, 1200 10th Ave South\, Birmingham\, AL\, 35205\, United States
CATEGORIES:Downtown,Music
ATTACH;FMTTYPE=image/jpeg:https://bhamnow.com/wp-content/uploads/2024/08/Alex-Cuba_Web-Art-1190x613-1.jpg
GEO:33.4972299;-86.8078701
X-APPLE-STRUCTURED-LOCATION;VALUE=URI;X-ADDRESS=UAB’s Alys Stephens Center 1200 10th Ave South Birmingham AL 35205 United States;X-APPLE-RADIUS=500;X-TITLE=1200 10th Ave South:geo:-86.8078701,33.4972299
END:VEVENT
BEGIN:VEVENT
DTSTART;TZID=America/Chicago:20250320T190000
DTEND;TZID=America/Chicago:20250320T210000
DTSTAMP:20260420T162909
CREATED:20240628T203551Z
LAST-MODIFIED:20240628T203551Z
UID:10063348-1742497200-1742504400@bhamnow.com
SUMMARY:Velocity Irish Dance
DESCRIPTION:Dingle native\, David Geaney\, a 5 X World Champion Dancer\, is taking the world by storm. \nVelocity is the next generation in Irish tap. Honoring past traditions but blasting them feet first into the 21st century\, Velocity breaks away from the idea of what an Irish dance show is to one that is expressive\, free\, fast-paced and edgy\, driven by passion and pride! \nLed by Guinness World Record holder for The Fastest Feet in the World\, James Devine\, and five-time World Champion Irish dancer\, David Geaney. Joined on stage by a motley crew of mind-blowing musicians and an old school scratch DJ\, it’s nothing like you’ve ever seen before!
URL:https://bhamnow.com/bhamn-event/velocity-irish-dance/
LOCATION:UAB’s Alys Stephens Center\, 1200 10th Ave South\, Birmingham\, AL\, 35205\, United States
CATEGORIES:Arts,Downtown,Events,Family Friendly Programs,Music,Uab
ATTACH;FMTTYPE=image/jpeg:https://bhamnow.com/wp-content/uploads/2024/06/Velocity_1920x1080-scaled.jpg
GEO:33.4972299;-86.8078701
X-APPLE-STRUCTURED-LOCATION;VALUE=URI;X-ADDRESS=UAB’s Alys Stephens Center 1200 10th Ave South Birmingham AL 35205 United States;X-APPLE-RADIUS=500;X-TITLE=1200 10th Ave South:geo:-86.8078701,33.4972299
END:VEVENT
END:VCALENDAR