BEGIN:VCALENDAR
VERSION:2.0
PRODID:-//Bham Now - ECPv6.15.20//NONSGML v1.0//EN
CALSCALE:GREGORIAN
METHOD:PUBLISH
X-WR-CALNAME:Bham Now
X-ORIGINAL-URL:https://bhamnow.com
X-WR-CALDESC:Events for Bham Now
REFRESH-INTERVAL;VALUE=DURATION:PT1H
X-Robots-Tag:noindex
X-PUBLISHED-TTL:PT1H
BEGIN:VTIMEZONE
TZID:America/Chicago
BEGIN:DAYLIGHT
TZOFFSETFROM:-0600
TZOFFSETTO:-0500
TZNAME:CDT
DTSTART:20240310T080000
END:DAYLIGHT
BEGIN:STANDARD
TZOFFSETFROM:-0500
TZOFFSETTO:-0600
TZNAME:CST
DTSTART:20241103T070000
END:STANDARD
BEGIN:DAYLIGHT
TZOFFSETFROM:-0600
TZOFFSETTO:-0500
TZNAME:CDT
DTSTART:20250309T080000
END:DAYLIGHT
BEGIN:STANDARD
TZOFFSETFROM:-0500
TZOFFSETTO:-0600
TZNAME:CST
DTSTART:20251102T070000
END:STANDARD
BEGIN:DAYLIGHT
TZOFFSETFROM:-0600
TZOFFSETTO:-0500
TZNAME:CDT
DTSTART:20260308T080000
END:DAYLIGHT
BEGIN:STANDARD
TZOFFSETFROM:-0500
TZOFFSETTO:-0600
TZNAME:CST
DTSTART:20261101T070000
END:STANDARD
BEGIN:DAYLIGHT
TZOFFSETFROM:-0600
TZOFFSETTO:-0500
TZNAME:CDT
DTSTART:20270314T080000
END:DAYLIGHT
BEGIN:STANDARD
TZOFFSETFROM:-0500
TZOFFSETTO:-0600
TZNAME:CST
DTSTART:20271107T070000
END:STANDARD
END:VTIMEZONE
BEGIN:VEVENT
DTSTART;TZID=America/Chicago:20260312T100000
DTEND;TZID=America/Chicago:20260312T150000
DTSTAMP:20260421T093017
CREATED:20260220T163600Z
LAST-MODIFIED:20260220T163600Z
UID:10092689-1773309600-1773327600@bhamnow.com
SUMMARY:Moving Forward: Birmingham
DESCRIPTION:Join our FREE Parkinson’s conference in Birmingham\, Alabama. Connect\, learn\, and support each other!\nMoving Forward: Birmingham | Parkinson’s Conference 2026 \nJoin us in Birmingham for an enriching and inspiring event tailored for people with Parkinson’s\, their care partners\, and healthcare professionals. Moving Forward: Birmingham offers a rare opportunity to connect with others in the Parkinson’s community\, gain valuable insights\, and find support. \nEvent Highlights: \nExpert Speakers: Learn from Alabama’s leading Parkinson’s disease specialists as they share the latest treatments\, management strategies\, and lifestyle tips. *Subject to change.\nPanel Discussions: Engage in meaningful conversations with our panel of experts\, ask questions\, and gain new perspectives.\nCommunity Building: Connect with fellow people with Parkinson’s\, care partners\, friends\, and family in a supportive and welcoming environment.\nComplimentary Lunch! \nThis FREE conference is more than just an event; it’s a chance to learn\, share experiences\, and build lasting connections. Together\, we can improve the quality of life and face the challenges of Parkinson’s disease with strength and resilience. \nDon’t miss this opportunity to participate in a day filled with knowledge\, support\, and community spirit. Join us and move forward with confidence! \nSponsor + Exhibitor Information \nWe are thrilled to invite you to sponsor or exhibit at our Moving Forward conferences. Partnering with us not only supports our mission but also offers a valuable opportunity to connect with our vibrant community. \nFor full details on sponsorship and exhibitor opportunities\, please visit our event page and select ‘Sponsor/Exhibitor.’ This document includes all the key information you need to get involved and make a meaningful impact. \nA big thank you to all our sponsors!
URL:https://bhamnow.com/bhamn-event/moving-forward-birmingham/
LOCATION:The Harbert Center\, 2019 Fourth Ave N\, Birmingham\, 35203\, United States
CATEGORIES:Downtown,Health and Wellness
ATTACH;FMTTYPE=image/png:https://bhamnow.com/wp-content/uploads/2026/02/MF-Birmingham-Event-Page.png
GEO:33.517263;-86.807235
X-APPLE-STRUCTURED-LOCATION;VALUE=URI;X-ADDRESS=The Harbert Center 2019 Fourth Ave N Birmingham 35203 United States;X-APPLE-RADIUS=500;X-TITLE=2019 Fourth Ave N:geo:-86.807235,33.517263
END:VEVENT
BEGIN:VEVENT
DTSTART;TZID=America/Chicago:20260226T073000
DTEND;TZID=America/Chicago:20260226T160000
DTSTAMP:20260421T093017
CREATED:20260102T170239Z
LAST-MODIFIED:20260102T170239Z
UID:10088749-1772091000-1772121600@bhamnow.com
SUMMARY:ACREcom 2026
DESCRIPTION:Join the Alabama Center for Real Estate for Alabama’s largest commercial real estate conference\, bringing together industry leaders\, alumni\, and students for a full day of insight\, networking\, and innovation. ACREcom has been submitted for approval for CE\, CLE\, and CPE.
URL:https://bhamnow.com/bhamn-event/acrecom-2026/
LOCATION:The Harbert Center\, 2019 Fourth Ave N\, Birmingham\, 35203\, United States
CATEGORIES:Conference,Downtown
ATTACH;FMTTYPE=image/png:https://bhamnow.com/wp-content/uploads/2025/12/ACREcom-2026-Image-BHAMnow.png
GEO:33.517263;-86.807235
X-APPLE-STRUCTURED-LOCATION;VALUE=URI;X-ADDRESS=The Harbert Center 2019 Fourth Ave N Birmingham 35203 United States;X-APPLE-RADIUS=500;X-TITLE=2019 Fourth Ave N:geo:-86.807235,33.517263
END:VEVENT
BEGIN:VEVENT
DTSTART;TZID=America/Chicago:20250913T110000
DTEND;TZID=America/Chicago:20250913T150000
DTSTAMP:20260421T093017
CREATED:20250217T171820Z
LAST-MODIFIED:20250217T171820Z
UID:10076821-1757761200-1757775600@bhamnow.com
SUMMARY:Behind the Ink
DESCRIPTION:Presented by Me Time Book Club\, “Behind the Ink” is a premiere book event featuring bestselling authors and vendors. The theme for this year’s 5th annual event is Endurance\, a testament to the resilience\, creativity\, and transformative power of literature. This free family friendly event will feature an event host\, panels on the third floor\, live music\, free giveaways\, complimentary mimosas\, special guests\, and much more!!! \n“Behind the Ink\,” has featured amazing bestselling authors such as ZANE\, Curtis Bunn\, Kimberla Lawson Roby\, and Detective Chris Anderson! \nThe featured author this year is New York Times and USA Today bestselling author Kennedy Ryan. Kennedy writes for women from all walks of life\, empowering them and placing them firmly at the center of each story and in charge of their own destinies. Kennedy and her writings have been featured in NPR\, Entertainment Weekly\, USA Today\, Glamour\, Cosmo\, Ebony\, TIME\, and many others. The audio edition of her novel Reel received the prestigious Audie® Award\, and her Skyland series is currently in development for television at Peacock. The co-founder of LIFT 4 Autism\, an annual charitable book auction\, Kennedy has a passion for raising Autism awareness. Dubbed “Queen of Hugs” by her readers\, she is a wife to her “lifetime lover\,” and mother to an extraordinary son.
URL:https://bhamnow.com/bhamn-event/behind-the-ink/
LOCATION:The Harbert Center\, 2019 Fourth Ave N\, Birmingham\, 35203\, United States
CATEGORIES:Downtown,Family Festival
ATTACH;FMTTYPE=image/png:https://bhamnow.com/wp-content/uploads/2025/02/Untitled-design.png
GEO:33.517263;-86.807235
X-APPLE-STRUCTURED-LOCATION;VALUE=URI;X-ADDRESS=The Harbert Center 2019 Fourth Ave N Birmingham 35203 United States;X-APPLE-RADIUS=500;X-TITLE=2019 Fourth Ave N:geo:-86.807235,33.517263
END:VEVENT
BEGIN:VEVENT
DTSTART;TZID=America/Chicago:20250905T083000
DTEND;TZID=America/Chicago:20250905T163000
DTSTAMP:20260421T093017
CREATED:20250811T161755Z
LAST-MODIFIED:20250811T161803Z
UID:10083811-1757061000-1757089800@bhamnow.com
SUMMARY:Understanding & Addressing Complex Trauma and Loss In Childhood (Birmingham)
DESCRIPTION:🗓️ Date: September 5th\n📍 Location: Birmingham\, The Harbert Center\n🕘 Time: 8:30 am – 4:30 pm\nEarn 5.5 NBCC Approved CEU Credits\n***No registration fee for any attendee\nLunch is included! \nChildren who’ve experienced separation from their birth families\, whether through foster care\, adoption\, or kinship placement; often carry unseen wounds of trauma and loss that can deeply impact their development\, behavior\, and relationships. \nJoin us for a powerful\, full-day in-person training that goes beyond the surface to explore how complex trauma shows up in children and adolescents\, and how caregivers and professionals can respond with intention\, empathy\, and effective strategies. \nLed by nationally recognized trauma and adoption expert\, Laura Ornelas\, LCSW\, this interactive workshop will empower attendees to understand the bio-psycho-social effects of trauma and grief\, and equip them with meaningful\, trauma-informed interventions rooted in relationship-based healing.\n💡 You’ll Learn How To:\nUnderstand the impact of trauma and loss on childhood development\nIdentify behavioral and emotional responses linked to complex trauma\nApply empowering\, practical strategies that support long-term healing\nWhether you’re a mental health professional\, social worker\, educator\, or a foster\, adoptive\, or kinship caregiver\, this training will deepen your understanding and sharpen your ability to walk alongside children on their path to resilience.\nAbout the Trainer – Laura Ornelas\, LCSW\nLaura brings over 30 years of experience in child welfare\, clinical practice\, and curriculum design. Formerly the Regional Director of Mental Health Services for California’s Kinship Center and current senior faculty at the Center for Adoption Support and Education (C.A.S.E.)\, Laura is a national thought leader in attachment\, loss\, trauma\, and permanency. She co-developed the National Training and Development Curriculum (NTDC) for foster and adoptive parents and now leads the Academy of Elevating Clinical Practice in Permanency.\nHer workshops are known for blending deep clinical insight with warmth\, humor\, and humanity.\n🎯 Who Should Attend?\nThis training is designed for:\n– Therapists and clinicians\n– Case managers and social workers\n– Foster\, adoptive\, and kinship parents\n– Educators\, child welfare professionals\, and youth advocates\nSpace is limited. Reserve your seat and be part of this transformational day of learning and connection.\n🔗 https://training.childrensaid.org/…/understanding…/…\n📧 For questions\, contact training@childrensaid.org
URL:https://bhamnow.com/bhamn-event/understanding-addressing-complex-trauma-and-loss-in-childhood-birmingham/
LOCATION:The Harbert Center\, 2019 Fourth Ave N\, Birmingham\, 35203\, United States
CATEGORIES:Adult Classes,Agency Training,Community,Downtown,Early Childhood,Workshop
ATTACH;FMTTYPE=image/png:https://bhamnow.com/wp-content/uploads/2025/08/Trauma-Informed-Care-Sept.-Training-Slide-forEventbrite.png
GEO:33.517263;-86.807235
X-APPLE-STRUCTURED-LOCATION;VALUE=URI;X-ADDRESS=The Harbert Center 2019 Fourth Ave N Birmingham 35203 United States;X-APPLE-RADIUS=500;X-TITLE=2019 Fourth Ave N:geo:-86.807235,33.517263
END:VEVENT
BEGIN:VEVENT
DTSTART;TZID=America/Chicago:20250905T083000
DTEND;TZID=America/Chicago:20250905T163000
DTSTAMP:20260421T093017
CREATED:20250707T212435Z
LAST-MODIFIED:20250707T212435Z
UID:10083014-1757061000-1757089800@bhamnow.com
SUMMARY:Understanding & Addressing Complex Trauma and Loss In Childhood
DESCRIPTION:Date: September 5th\nLocation: Birmingham\, The Harbert Center\nTime: 8:30 am – 4:30 pm\nEarn 5.5 NBCC Approved CEU Credits\n$55.00 fee for your certification\nLunch is included! \nProtected: Understanding & Addressing Complex Trauma and Loss In Childhood (Birmingham) \n \nChildren who’ve experienced separation from their birth families\, whether through foster care\, adoption\, or kinship placement; often carry unseen wounds of trauma and loss that can deeply impact their development\, behavior\, and relationships.\nJoin us for a powerful\, full-day in-person training that goes beyond the surface to explore how complex trauma shows up in children and adolescents\, and how caregivers and professionals can respond with intention\, empathy\, and effective strategies.\nLed by nationally recognized trauma and adoption expert\, Laura Ornelas\, LCSW\, this interactive workshop will empower attendees to understand the bio-psycho-social effects of trauma and grief\, and equip them with meaningful\, trauma-informed interventions rooted in relationship-based healing. \nYou’ll Learn How To: \nUnderstand the impact of trauma and loss on childhood development\nIdentify behavioral and emotional responses linked to complex trauma\nApply empowering\, practical strategies that support long-term healing\nWhether you’re a mental health professional\, social worker\, educator\, or a foster\, adoptive\, or kinship caregiver\, this training will deepen your understanding and sharpen your ability to walk alongside children on their path to resilience. \nAbout the Trainer – Laura Ornelas\, LCSW\nLaura brings over 30 years of experience in child welfare\, clinical practice\, and curriculum design. Formerly the Regional Director of Mental Health Services for California’s Kinship Center and current senior faculty at the Center for Adoption Support and Education (C.A.S.E.)\, Laura is a national thought leader in attachment\, loss\, trauma\, and permanency. She co-developed the National Training and Development Curriculum (NTDC) for foster and adoptive parents and now leads the Academy of Elevating Clinical Practice in Permanency.\nHer workshops are known for blending deep clinical insight with warmth\, humor\, and humanity. \nWho Should Attend?\nThis training is designed for:\n– Therapists and clinicians\n– Case managers and social workers\n– Foster\, adoptive\, and kinship parents\n– Educators\, child welfare professionals\, and youth advocates \nThis training is a collaborative effort between Alabama Pre/Post Adoption Connections and Children’s of Alabama’s PATHS program. https://training.childrensaid.org/events/understanding-addressing-complex-trauma-and-loss-in-childhood/#event-detailsSpace is limited. Reserve your seat and be part of this transformational day of learning and connection.
URL:https://bhamnow.com/bhamn-event/understanding-addressing-complex-trauma-and-loss-in-childhood/
LOCATION:The Harbert Center\, 2019 Fourth Ave N\, Birmingham\, 35203\, United States
CATEGORIES:Downtown,Workshop
ATTACH;FMTTYPE=image/png:https://bhamnow.com/wp-content/uploads/2025/07/Trauma-Informed-Care-Sept.-Training-Site-Graphic-1.png
GEO:33.517263;-86.807235
X-APPLE-STRUCTURED-LOCATION;VALUE=URI;X-ADDRESS=The Harbert Center 2019 Fourth Ave N Birmingham 35203 United States;X-APPLE-RADIUS=500;X-TITLE=2019 Fourth Ave N:geo:-86.807235,33.517263
END:VEVENT
BEGIN:VEVENT
DTSTART;TZID=America/Chicago:20250501T063000
DTEND;TZID=America/Chicago:20250501T083000
DTSTAMP:20260421T093017
CREATED:20250407T185807Z
LAST-MODIFIED:20250407T185807Z
UID:10080269-1746081000-1746088200@bhamnow.com
SUMMARY:61st Annual Greater Birmingham Mayors' Prayer Breakfast
DESCRIPTION:Join us on Thursday\, May 1\, 2025\, at The Harbert Center in Birmingham\, Alabama\, for the 61st Annual Greater Birmingham Mayors’ Prayer Breakfast as we gather with community leaders throughout the area to seek God and pray for our families\, our cities\, and our nation. The theme for this year’s National Day of Prayer is “HOPE” and is based on Romans 15:13.\nWe are thrilled to have Jeremiah Castille share an encouraging message as the keynote speaker during the breakfast program. Please mark your calendars and make plans to attend as we aspire for greater unity and collaboration among the municipalities and communities in our region!
URL:https://bhamnow.com/bhamn-event/61st-annual-greater-birmingham-mayors-prayer-breakfast/
LOCATION:The Harbert Center\, 2019 Fourth Ave N\, Birmingham\, 35203\, United States
CATEGORIES:Community,Downtown
ATTACH;FMTTYPE=image/png:https://bhamnow.com/wp-content/uploads/2025/04/2025-GBMPB-Eventbrite.png
GEO:33.517263;-86.807235
X-APPLE-STRUCTURED-LOCATION;VALUE=URI;X-ADDRESS=The Harbert Center 2019 Fourth Ave N Birmingham 35203 United States;X-APPLE-RADIUS=500;X-TITLE=2019 Fourth Ave N:geo:-86.807235,33.517263
END:VEVENT
END:VCALENDAR