BEGIN:VCALENDAR
VERSION:2.0
PRODID:-//Bham Now - ECPv6.15.20//NONSGML v1.0//EN
CALSCALE:GREGORIAN
METHOD:PUBLISH
X-ORIGINAL-URL:https://bhamnow.com
X-WR-CALDESC:Events for Bham Now
REFRESH-INTERVAL;VALUE=DURATION:PT1H
X-Robots-Tag:noindex
X-PUBLISHED-TTL:PT1H
BEGIN:VTIMEZONE
TZID:America/Chicago
BEGIN:DAYLIGHT
TZOFFSETFROM:-0600
TZOFFSETTO:-0500
TZNAME:CDT
DTSTART:20250309T080000
END:DAYLIGHT
BEGIN:STANDARD
TZOFFSETFROM:-0500
TZOFFSETTO:-0600
TZNAME:CST
DTSTART:20251102T070000
END:STANDARD
BEGIN:DAYLIGHT
TZOFFSETFROM:-0600
TZOFFSETTO:-0500
TZNAME:CDT
DTSTART:20260308T080000
END:DAYLIGHT
BEGIN:STANDARD
TZOFFSETFROM:-0500
TZOFFSETTO:-0600
TZNAME:CST
DTSTART:20261101T070000
END:STANDARD
BEGIN:DAYLIGHT
TZOFFSETFROM:-0600
TZOFFSETTO:-0500
TZNAME:CDT
DTSTART:20270314T080000
END:DAYLIGHT
BEGIN:STANDARD
TZOFFSETFROM:-0500
TZOFFSETTO:-0600
TZNAME:CST
DTSTART:20271107T070000
END:STANDARD
END:VTIMEZONE
BEGIN:VEVENT
DTSTART;TZID=America/Chicago:20260122T113000
DTEND;TZID=America/Chicago:20260122T130000
DTSTAMP:20260422T095445
CREATED:20260117T001811Z
LAST-MODIFIED:20260122T001810Z
UID:10091539-1769081400-1769086800@bhamnow.com
SUMMARY:Mayor Derzis State of the City Address
DESCRIPTION:https://www.hooveralabama.gov/calendar.aspx?EID=11308
URL:https://bhamnow.com/bhamn-event/mayor-derzis-state-of-the-city-address/
LOCATION:The City of Hoover invites you to attend the 2026 State of the City Address\, taking place on Tuesday\, January 22 and hosted by the Hoover Area Chamber of Commerce.This event is an opportunity for our community to come together to hear about the current state of the city\, the progress we’ve made\, and the priorities guiding our work in the year ahead. We value your engagement and hope you will join us for this important conversation about Hoover’s future.For tickets and additional information\, please visit:<a href="https://business.hooverchamber.org/events/details/2026-state-of-the-city-address-featuring-mayor-nick-derzis">business.hooverchamber.org/events/details/2026-state-of-the-city-address-featuring-mayor-nick-derzis</a>We look forward to seeing you there. –   Hoover AL 35216
CATEGORIES:Fun
END:VEVENT
END:VCALENDAR