BEGIN:VCALENDAR
VERSION:2.0
PRODID:-//Bham Now - ECPv6.15.20//NONSGML v1.0//EN
CALSCALE:GREGORIAN
METHOD:PUBLISH
X-WR-CALNAME:Bham Now
X-ORIGINAL-URL:https://bhamnow.com
X-WR-CALDESC:Events for Bham Now
REFRESH-INTERVAL;VALUE=DURATION:PT1H
X-Robots-Tag:noindex
X-PUBLISHED-TTL:PT1H
BEGIN:VTIMEZONE
TZID:America/Chicago
BEGIN:DAYLIGHT
TZOFFSETFROM:-0600
TZOFFSETTO:-0500
TZNAME:CDT
DTSTART:20240310T080000
END:DAYLIGHT
BEGIN:STANDARD
TZOFFSETFROM:-0500
TZOFFSETTO:-0600
TZNAME:CST
DTSTART:20241103T070000
END:STANDARD
BEGIN:DAYLIGHT
TZOFFSETFROM:-0600
TZOFFSETTO:-0500
TZNAME:CDT
DTSTART:20250309T080000
END:DAYLIGHT
BEGIN:STANDARD
TZOFFSETFROM:-0500
TZOFFSETTO:-0600
TZNAME:CST
DTSTART:20251102T070000
END:STANDARD
BEGIN:DAYLIGHT
TZOFFSETFROM:-0600
TZOFFSETTO:-0500
TZNAME:CDT
DTSTART:20260308T080000
END:DAYLIGHT
BEGIN:STANDARD
TZOFFSETFROM:-0500
TZOFFSETTO:-0600
TZNAME:CST
DTSTART:20261101T070000
END:STANDARD
BEGIN:DAYLIGHT
TZOFFSETFROM:-0600
TZOFFSETTO:-0500
TZNAME:CDT
DTSTART:20270314T080000
END:DAYLIGHT
BEGIN:STANDARD
TZOFFSETFROM:-0500
TZOFFSETTO:-0600
TZNAME:CST
DTSTART:20271107T070000
END:STANDARD
END:VTIMEZONE
BEGIN:VEVENT
DTSTART;TZID=America/Chicago:20260211T080000
DTEND;TZID=America/Chicago:20260211T110000
DTSTAMP:20260419T120016
CREATED:20260212T163858Z
LAST-MODIFIED:20260212T163858Z
UID:10092231-1770796800-1770807600@bhamnow.com
SUMMARY:2026 Bell Center 5K
DESCRIPTION:Join us at the 2026 Bell Center 5K & Children’s Run on March 14\, 2026!\nYour Pace. Your Purpose. Our Mission. Every participant in The Bell Center 5K & Children’s Run brings a deeply personal purpose to their miles — and we celebrate all of them. Maybe you’re working toward better health\, honoring a child at The Bell Center\, raising awareness for a diagnosis that shaped your life\, or striving for a new personal best. Whatever brings you to the race\, your pace is perfect\, and your purpose is valued. Because when your individual purpose meets our mission of providing life-changing early intervention services for children with special needs\, your steps become part of the impact. Every pace\, every stride\, every finish-line moment strengthens the vital work happening inside The Bell Center each day. You bring the purpose. And together\, we continue our mission — ensuring every child has the opportunity to maximize their potential. \nThere are two ways to participate: \n1. Register as a BellRunner to raise funds in honor of a child receiving therapy at TBC. We ask that BellRunners raise $100/mile for a total of $310. See below for a list of full benefits!\n2. Register as a participant in the race and run/walk Homewood with your friends and family without raising funds.
URL:https://bhamnow.com/bhamn-event/2026-bell-center-5k/
LOCATION:The Bell Center\, 1700 29th Ct S\, Birmingham\, United States
CATEGORIES:Fundraiser
ATTACH;FMTTYPE=image/jpeg:https://bhamnow.com/wp-content/uploads/2026/02/YOUR-Pace.-Your-Purpose.-Our-Mission.-970-x-250-px.jpg
END:VEVENT
BEGIN:VEVENT
DTSTART;TZID=America/Chicago:20250315T080000
DTEND;TZID=America/Chicago:20250315T120000
DTSTAMP:20260419T120016
CREATED:20250226T195548Z
LAST-MODIFIED:20250226T195548Z
UID:10077108-1742025600-1742040000@bhamnow.com
SUMMARY:The Bell Center 5K & Children's Run
DESCRIPTION:Lace up your running shoes to make a difference in the lives of infants and toddlers with disabilities! The 2025 Bell Center 5K is a community-oriented race benefiting The Bell Center\, which provides vital early intervention therapy for hundreds of children across Alabama. This family-friendly event is not just about the thrill of crossing the finish line; it’s about creating lasting impacts and fostering a more inclusive and supportive community. \nRegister at: https://runsignup.com/2025bellcenter5k
URL:https://bhamnow.com/bhamn-event/the-bell-center-5k-childrens-run/
LOCATION:The Bell Center\, 1700 29th Ct S\, Birmingham\, United States
CATEGORIES:Coming Soon,Community,Early Childhood,Events,Family Days,Featured Event,Fun Outside,Fundraiser
ATTACH;FMTTYPE=image/jpeg:https://bhamnow.com/wp-content/uploads/2025/02/IMG_8104-scaled.jpg
END:VEVENT
END:VCALENDAR