BEGIN:VCALENDAR
VERSION:2.0
PRODID:-//Bham Now - ECPv6.15.20//NONSGML v1.0//EN
CALSCALE:GREGORIAN
METHOD:PUBLISH
X-WR-CALNAME:Bham Now
X-ORIGINAL-URL:https://bhamnow.com
X-WR-CALDESC:Events for Bham Now
REFRESH-INTERVAL;VALUE=DURATION:PT1H
X-Robots-Tag:noindex
X-PUBLISHED-TTL:PT1H
BEGIN:VTIMEZONE
TZID:America/Chicago
BEGIN:DAYLIGHT
TZOFFSETFROM:-0600
TZOFFSETTO:-0500
TZNAME:CDT
DTSTART:20240310T080000
END:DAYLIGHT
BEGIN:STANDARD
TZOFFSETFROM:-0500
TZOFFSETTO:-0600
TZNAME:CST
DTSTART:20241103T070000
END:STANDARD
BEGIN:DAYLIGHT
TZOFFSETFROM:-0600
TZOFFSETTO:-0500
TZNAME:CDT
DTSTART:20250309T080000
END:DAYLIGHT
BEGIN:STANDARD
TZOFFSETFROM:-0500
TZOFFSETTO:-0600
TZNAME:CST
DTSTART:20251102T070000
END:STANDARD
BEGIN:DAYLIGHT
TZOFFSETFROM:-0600
TZOFFSETTO:-0500
TZNAME:CDT
DTSTART:20260308T080000
END:DAYLIGHT
BEGIN:STANDARD
TZOFFSETFROM:-0500
TZOFFSETTO:-0600
TZNAME:CST
DTSTART:20261101T070000
END:STANDARD
END:VTIMEZONE
BEGIN:VEVENT
DTSTART;TZID=America/Chicago:20250318T100000
DTEND;TZID=America/Chicago:20250318T120000
DTSTAMP:20260421T075740
CREATED:20250227T211732Z
LAST-MODIFIED:20250227T211732Z
UID:10078234-1742292000-1742299200@bhamnow.com
SUMMARY:Off the Hook Crochet
DESCRIPTION:Library: Smithfield Branch Library\nLocation: Smithfield Branch Library\nAudience: Adults\,Seniors\nEvent Kind: Recurring\nContact Name: Sequoria Lewis\nContact Email: sequoria.lewis@cobpl.org\nCategory: Arts & Crafts\nRegistration Required: No\nDescription: Join in the fun. Come crochet with us. \nJoin in the fun. Come crochet with us.
URL:https://bhamnow.com/bhamn-event/off-the-hook-crochet-3/
LOCATION:Smithfield Branch Library
CATEGORIES:Birmingham Public Library Calendar,Community
END:VEVENT
BEGIN:VEVENT
DTSTART;TZID=America/Chicago:20250317T140000
DTEND;TZID=America/Chicago:20250317T170000
DTSTAMP:20260421T075740
CREATED:20250227T211907Z
LAST-MODIFIED:20250227T211907Z
UID:10078226-1742220000-1742230800@bhamnow.com
SUMMARY:Between the Lines
DESCRIPTION:Library: Smithfield Branch Library\nLocation: Smithfield Branch Library\nAudience: Children\,Tweens\,Teens\nEvent Kind: Recurring\nContact Name: Sequoria Lewis\nContact Email: sequoria.lewis@cobpl.org\nCategory: Arts & Crafts\nRegistration Required: No\nEvent Type: Arts & Crafts\nDescription: Monday afternoon coloring activity. \nMonday afternoon coloring activity.
URL:https://bhamnow.com/bhamn-event/between-the-lines-5/
LOCATION:Smithfield Branch Library
CATEGORIES:Birmingham Public Library Calendar,Community
END:VEVENT
BEGIN:VEVENT
DTSTART;TZID=America/Chicago:20250314T153000
DTEND;TZID=America/Chicago:20250314T170000
DTSTAMP:20260421T075740
CREATED:20250226T194554Z
LAST-MODIFIED:20250227T185651Z
UID:10077139-1741966200-1741971600@bhamnow.com
SUMMARY:Chill Mode
DESCRIPTION:Library: Smithfield Branch Library\nLocation: Smithfield Branch Library\nAudience: Children\,Tweens\,Teens\,Adults\,Seniors\nEvent Kind: Recurring\nContact Name: Sequoria Lewis\nContact Phone Number: 205-324-8428\nContact Email: sequoria.lewis@cobpl.org\nCategory: Games and Gaming\nRegistration Required: No\nDescription: Stop by\, enjoy a game\, and chill with us. \nStop by\, enjoy a game\, and chill with us.
URL:https://bhamnow.com/bhamn-event/chill-mode-5/
LOCATION:Smithfield Branch Library
CATEGORIES:Birmingham Public Library Calendar,Community
END:VEVENT
BEGIN:VEVENT
DTSTART;TZID=America/Chicago:20250313T153000
DTEND;TZID=America/Chicago:20250313T163000
DTSTAMP:20260421T075740
CREATED:20250226T195450Z
LAST-MODIFIED:20250227T185547Z
UID:10077120-1741879800-1741883400@bhamnow.com
SUMMARY:Anime-nia
DESCRIPTION:Library: Smithfield Branch Library\nLocation: Smithfield Branch Library\nAudience: Children\,Tweens\,Teens\,Adults\,Seniors\nEvent Kind: Recurring\nContact Name: Sequoria Lewis\nContact Email: sequoria.lewis@cobpl.org\nCategory: Film\nRegistration Required: No\nEvent Type: Film\nDescription: Anime for kids of all ages to watch. \nAnime for kids of all ages to watch
URL:https://bhamnow.com/bhamn-event/anime-nia-4/
LOCATION:Smithfield Branch Library
CATEGORIES:Birmingham Public Library Calendar,Community
END:VEVENT
BEGIN:VEVENT
DTSTART;TZID=America/Chicago:20250312T100000
DTEND;TZID=America/Chicago:20250312T140000
DTSTAMP:20260421T075740
CREATED:20250225T162055Z
LAST-MODIFIED:20250227T185520Z
UID:10077079-1741773600-1741788000@bhamnow.com
SUMMARY:Health & Wellness Expo
DESCRIPTION:Library: Smithfield Branch Library\nLocation: Smithfield Branch Library\nAudience: Tweens\,Teens\,Adults\nEvent Kind: One-time\nContact Name: Amber Jackson\nContact Phone Number: 205-324-8428\nContact Email: amber.jackson@cobpl.org\nCategory: Health & Fitness\nRegistration Required: No\nDescription: Health & Wellness Expo with Live HealthSmart Alabama. \nHealth & Wellness Expo with Live HealthSmart Alabama
URL:https://bhamnow.com/bhamn-event/health-wellness-expo/
LOCATION:Smithfield Branch Library
CATEGORIES:Birmingham Public Library Calendar,Community
END:VEVENT
BEGIN:VEVENT
DTSTART;TZID=America/Chicago:20250311T130000
DTEND;TZID=America/Chicago:20250311T143000
DTSTAMP:20260421T075740
CREATED:20250225T234240Z
LAST-MODIFIED:20250227T185438Z
UID:10077045-1741698000-1741703400@bhamnow.com
SUMMARY:Smithfield Book Club
DESCRIPTION:Library: Smithfield Branch LibraryLocation: Smithfield Branch LibraryAudience: Adults\,SeniorsEvent Kind: RecurringContact Name: Sequoria LewisContact Email: sequoria.lewis@cobpl.orgCategory: Authors & Literary Arts\,Clubs & Groups\,ReadingRegistration Required: NoEvent Type: Authors & Literary Arts\,Book Clubs\,Clubs & GroupsDescription: Monthly book club meeting. \nMonthly book club meeting.
URL:https://bhamnow.com/bhamn-event/smithfield-book-club/
LOCATION:Smithfield Branch Library
CATEGORIES:Birmingham Public Library Calendar,Community
END:VEVENT
BEGIN:VEVENT
DTSTART;TZID=America/Chicago:20250310T143000
DTEND;TZID=America/Chicago:20250310T173000
DTSTAMP:20260421T075740
CREATED:20250225T233836Z
LAST-MODIFIED:20250227T185413Z
UID:10077035-1741617000-1741627800@bhamnow.com
SUMMARY:Live Healthsmart Alabama
DESCRIPTION:Library: Smithfield Branch LibraryLocation: Smithfield Branch LibraryEvent Kind: OngoingContact Name: Earnest WrennContact Phone Number: (205) 324-8428Contact Email: earnest.wrenn@cobpl.orgCategory: Art & Exhibits\,Health & FitnessAudience: Adults\,SeniorsRegistration Required: NoDescription: UAB and Cooper Green representatives will set up health related displays\, provide health related information\, and take applications for Cooper Green membership cards from under insured residents. \nUAB and Cooper Green representatives will set up health related displays\, provide health related information\, and take applications for Cooper Green membership cards from under insured residents.
URL:https://bhamnow.com/bhamn-event/live-healthsmart-alabama/
LOCATION:Smithfield Branch Library
CATEGORIES:Birmingham Public Library Calendar,Community
END:VEVENT
BEGIN:VEVENT
DTSTART;TZID=America/Chicago:20250310T140000
DTEND;TZID=America/Chicago:20250310T170000
DTSTAMP:20260421T075740
CREATED:20250225T233838Z
LAST-MODIFIED:20250227T185414Z
UID:10077033-1741615200-1741626000@bhamnow.com
SUMMARY:Between the Lines
DESCRIPTION:Library: Smithfield Branch LibraryLocation: Smithfield Branch LibraryAudience: Children\,Tweens\,TeensEvent Kind: RecurringContact Name: Sequoria LewisContact Email: sequoria.lewis@cobpl.orgCategory: Arts & CraftsRegistration Required: NoEvent Type: Arts & CraftsDescription: Monday afternoon coloring activity. \nMonday afternoon coloring activity. 
URL:https://bhamnow.com/bhamn-event/between-the-lines-4/
LOCATION:Smithfield Branch Library
CATEGORIES:Birmingham Public Library Calendar,Community
END:VEVENT
BEGIN:VEVENT
DTSTART;TZID=America/Chicago:20250307T153000
DTEND;TZID=America/Chicago:20250307T170000
DTSTAMP:20260421T075740
CREATED:20250225T233904Z
LAST-MODIFIED:20250227T185348Z
UID:10077020-1741361400-1741366800@bhamnow.com
SUMMARY:Chill Mode
DESCRIPTION:Library: Smithfield Branch LibraryLocation: Smithfield Branch LibraryAudience: Children\,Tweens\,Teens\,Adults\,SeniorsEvent Kind: RecurringContact Name: Sequoria LewisContact Phone Number: 205-324-8428Contact Email: sequoria.lewis@cobpl.orgCategory: Games and GamingRegistration Required: NoDescription: Stop by\, enjoy a game\, and chill with us. \nStop by\, enjoy a game\, and chill with us. 
URL:https://bhamnow.com/bhamn-event/chill-mode-4/
LOCATION:Smithfield Branch Library
CATEGORIES:Birmingham Public Library Calendar,Community
END:VEVENT
END:VCALENDAR