BEGIN:VCALENDAR
VERSION:2.0
PRODID:-//Bham Now - ECPv6.15.20//NONSGML v1.0//EN
CALSCALE:GREGORIAN
METHOD:PUBLISH
X-ORIGINAL-URL:https://bhamnow.com
X-WR-CALDESC:Events for Bham Now
REFRESH-INTERVAL;VALUE=DURATION:PT1H
X-Robots-Tag:noindex
X-PUBLISHED-TTL:PT1H
BEGIN:VTIMEZONE
TZID:America/Chicago
BEGIN:DAYLIGHT
TZOFFSETFROM:-0600
TZOFFSETTO:-0500
TZNAME:CDT
DTSTART:20240310T080000
END:DAYLIGHT
BEGIN:STANDARD
TZOFFSETFROM:-0500
TZOFFSETTO:-0600
TZNAME:CST
DTSTART:20241103T070000
END:STANDARD
BEGIN:DAYLIGHT
TZOFFSETFROM:-0600
TZOFFSETTO:-0500
TZNAME:CDT
DTSTART:20250309T080000
END:DAYLIGHT
BEGIN:STANDARD
TZOFFSETFROM:-0500
TZOFFSETTO:-0600
TZNAME:CST
DTSTART:20251102T070000
END:STANDARD
BEGIN:DAYLIGHT
TZOFFSETFROM:-0600
TZOFFSETTO:-0500
TZNAME:CDT
DTSTART:20260308T080000
END:DAYLIGHT
BEGIN:STANDARD
TZOFFSETFROM:-0500
TZOFFSETTO:-0600
TZNAME:CST
DTSTART:20261101T070000
END:STANDARD
END:VTIMEZONE
BEGIN:VEVENT
DTSTART;TZID=America/Chicago:20250510T100000
DTEND;TZID=America/Chicago:20250510T120000
DTSTAMP:20260422T064457
CREATED:20250505T193646Z
LAST-MODIFIED:20250505T193646Z
UID:10080673-1746871200-1746878400@bhamnow.com
SUMMARY:Sense & Response - Nature Drawing Workshop
DESCRIPTION:As the contemporary art world witnesses an exciting revival in drawing directly from nature\, come join the movement with local interdisciplinary artist Annie Kammerer Butrus as she leads a creativity workshop in this timeless practice. \nThe workshop will begin in the field with Butrus teaching her methods for shadow tracing and blind contour drawing. These exercises focus on the physicality of light as well as intentional studying. While the workshop will include technical guidance\, no technical ability or proficiency is required. The final goal? For each artist to leave with a greater confidence in their ability to visually capture their unique reactions to the natural world. \nEach workshop participant will be provided with a small wire-bound sketchbook\, pencil\, and a Sakura micron pen that they can keep for their own practice. \nAnnie Kammerer Butrus (b. Evanston\, Illinois) is an award-winning artist with an M.F.A. in Painting and Printmaking from the University of Notre Dame and a B.A. from Wellesley College\, where she studied architecture\, landscape architecture and studio art. She exhibits her work in major cities\, galleries and academic institutions. Realized primarily through painting\, Butrus’ artistic practice focuses on the intersection of science\, landscape\, and memory. Her interest lies in how mapping shapes our idea of place and belonging\, how to document change and time\, and how often the source of our interaction with nature is from the inside looking out. Her process employs many series of latex resist and layers of opaque and translucent acrylic paint\, applied in succession to create lines and boundaries. Labor intensive\, the resist application records the act of painting\, allows complete control of the painted surface and then\, once removed\, transforms the painting over and over\, creating positive and negative voids.
URL:https://bhamnow.com/bhamn-event/sense-response-nature-drawing-workshop/
LOCATION:Ruffner Mountain Nature Preserve\, 1214 81st Street South\, Birmingham\, AL\, United States
CATEGORIES:Adult Classes,Art,Nature
ATTACH;FMTTYPE=image/png:https://bhamnow.com/wp-content/uploads/2025/05/Nature-Drawing-with-Annie-Butrus-for-website-1.png
GEO:33.5595505;-86.7074459
X-APPLE-STRUCTURED-LOCATION;VALUE=URI;X-ADDRESS=Ruffner Mountain Nature Preserve 1214 81st Street South Birmingham AL United States;X-APPLE-RADIUS=500;X-TITLE=1214 81st Street South:geo:-86.7074459,33.5595505
END:VEVENT
END:VCALENDAR