BEGIN:VCALENDAR
VERSION:2.0
PRODID:-//Bham Now - ECPv6.15.20//NONSGML v1.0//EN
CALSCALE:GREGORIAN
METHOD:PUBLISH
X-ORIGINAL-URL:https://bhamnow.com
X-WR-CALDESC:Events for Bham Now
REFRESH-INTERVAL;VALUE=DURATION:PT1H
X-Robots-Tag:noindex
X-PUBLISHED-TTL:PT1H
BEGIN:VTIMEZONE
TZID:America/Chicago
BEGIN:DAYLIGHT
TZOFFSETFROM:-0600
TZOFFSETTO:-0500
TZNAME:CDT
DTSTART:20240310T080000
END:DAYLIGHT
BEGIN:STANDARD
TZOFFSETFROM:-0500
TZOFFSETTO:-0600
TZNAME:CST
DTSTART:20241103T070000
END:STANDARD
BEGIN:DAYLIGHT
TZOFFSETFROM:-0600
TZOFFSETTO:-0500
TZNAME:CDT
DTSTART:20250309T080000
END:DAYLIGHT
BEGIN:STANDARD
TZOFFSETFROM:-0500
TZOFFSETTO:-0600
TZNAME:CST
DTSTART:20251102T070000
END:STANDARD
BEGIN:DAYLIGHT
TZOFFSETFROM:-0600
TZOFFSETTO:-0500
TZNAME:CDT
DTSTART:20260308T080000
END:DAYLIGHT
BEGIN:STANDARD
TZOFFSETFROM:-0500
TZOFFSETTO:-0600
TZNAME:CST
DTSTART:20261101T070000
END:STANDARD
END:VTIMEZONE
BEGIN:VEVENT
DTSTART;TZID=America/Chicago:20250724T183000
DTEND;TZID=America/Chicago:20250724T193000
DTSTAMP:20260421T002352
CREATED:20250619T175029Z
LAST-MODIFIED:20250724T205513Z
UID:10082530-1753381800-1753385400@bhamnow.com
SUMMARY:Audubon Online Courses: Introduction to Alabama's Shorebirds ($)
DESCRIPTION:Description: July marks the beginning of fall shorebird migration\, and Alabama Audubon is here to help you prepare! Join Program Coordinator Andrew Lydeard for an online course that covers the expected sandpipers and plovers found throughout Alabama. Andrew will discuss where and when to search for these birds throughout the state and region\, and the course will include information about shorebird life histories\, important field marks\, and other valuable tips to improve your field skills on this challenging group of birds. The course will run for about 45 – 50 minutes with time for questions at the end.\nLOCATION DETAILS: This course is offered only online. A zoom link will be sent… — Event details: https://www.addevent.com/event/Wo25964493\n——\nPowered by addevent.com\nShare your next event with us!
URL:https://bhamnow.com/bhamn-event/audubon-online-courses-introduction-to-alabamas-shorebirds/
LOCATION:Online\, Harpersville\, AL\, United States
CATEGORIES:Outdoors
GEO:33.324739;-86.383349
END:VEVENT
BEGIN:VEVENT
DTSTART;TZID=America/Chicago:20250626T183000
DTEND;TZID=America/Chicago:20250626T193000
DTSTAMP:20260421T002352
CREATED:20250619T175016Z
LAST-MODIFIED:20250626T192012Z
UID:10082526-1750962600-1750966200@bhamnow.com
SUMMARY:Audubon Online Courses: Introduction to eBird and Merlin ID App ($)
DESCRIPTION:Join Alabama Audubon’s Program Coordinator Andrew Lydeard for an online course that covers everything you wanted to know about using eBird and the Merlin app\, but were afraid to ask! Some of the best\, new tools for new and experienced birders alike come in the form of mobile apps\, websites\, or other digital resources. However\, using these resources correctly is essential for boosting your birding and identification skills\, and many new users often have questions about the functions\, guidelines\, and tips for best use practices of both eBird and Merlin. We will cover the basics of the eBird website and app\, including how to download and use regional packs\, do’s and don’ts\, and some common…\n—\nEvent details:\nhttps://www.addevent.com/event/Do25957211\n——\nPowered by addevent.com\nShare your next event with us!
URL:https://bhamnow.com/bhamn-event/audubon-online-courses-introduction-to-ebird-and-merlin-id-app/
LOCATION:Online\, Harpersville\, AL\, United States
CATEGORIES:Outdoors
GEO:33.324739;-86.383349
END:VEVENT
END:VCALENDAR