BEGIN:VCALENDAR
VERSION:2.0
PRODID:-//Bham Now - ECPv6.15.20//NONSGML v1.0//EN
CALSCALE:GREGORIAN
METHOD:PUBLISH
X-ORIGINAL-URL:https://bhamnow.com
X-WR-CALDESC:Events for Bham Now
REFRESH-INTERVAL;VALUE=DURATION:PT1H
X-Robots-Tag:noindex
X-PUBLISHED-TTL:PT1H
BEGIN:VTIMEZONE
TZID:America/Chicago
BEGIN:DAYLIGHT
TZOFFSETFROM:-0600
TZOFFSETTO:-0500
TZNAME:CDT
DTSTART:20240310T080000
END:DAYLIGHT
BEGIN:STANDARD
TZOFFSETFROM:-0500
TZOFFSETTO:-0600
TZNAME:CST
DTSTART:20241103T070000
END:STANDARD
BEGIN:DAYLIGHT
TZOFFSETFROM:-0600
TZOFFSETTO:-0500
TZNAME:CDT
DTSTART:20250309T080000
END:DAYLIGHT
BEGIN:STANDARD
TZOFFSETFROM:-0500
TZOFFSETTO:-0600
TZNAME:CST
DTSTART:20251102T070000
END:STANDARD
BEGIN:DAYLIGHT
TZOFFSETFROM:-0600
TZOFFSETTO:-0500
TZNAME:CDT
DTSTART:20260308T080000
END:DAYLIGHT
BEGIN:STANDARD
TZOFFSETFROM:-0500
TZOFFSETTO:-0600
TZNAME:CST
DTSTART:20261101T070000
END:STANDARD
BEGIN:DAYLIGHT
TZOFFSETFROM:-0600
TZOFFSETTO:-0500
TZNAME:CDT
DTSTART:20270314T080000
END:DAYLIGHT
BEGIN:STANDARD
TZOFFSETFROM:-0500
TZOFFSETTO:-0600
TZNAME:CST
DTSTART:20271107T070000
END:STANDARD
END:VTIMEZONE
BEGIN:VEVENT
DTSTART;TZID=America/Chicago:20260328T070000
DTEND;TZID=America/Chicago:20260328T130000
DTSTAMP:20260424T091035
CREATED:20251228T200632Z
LAST-MODIFIED:20260327T191811Z
UID:10089218-1774681200-1774702800@bhamnow.com
SUMMARY:Oak Mountain State Park: Lake Trail (Free!)
DESCRIPTION:Oak Mountain State Park is Alabama’s largest park\, with over 10\,000 acres of woods and lakes to explore. We’ll look for early spring migrants\, lingering winter birds\, and perhaps some early nesters on this trip. We may see Bald eagles and Osprey\, and we should have excellent looks at Purple Martins. Expect a good sampling of woodland songbirds\, too.\nTRAVEL INFORMATION : Meet in the parking lot of the lower fishing lake\, accessed by the EASTERN park entrance off Hwy 119 (the entrance nearer US 280 ).\nPut 5601 Oak Mountain Lake Rd in your GPS\, and it will get you to the entrance road. \nWe will hike the trail around the lower fishing lake\, look for birds in and above the upper… — Event details: https://www.addevent.com/event/fdc1rsq1wm8q\n——\nPowered by addevent.com\nShare your next event with us!
URL:https://bhamnow.com/bhamn-event/oak-mountain-state-park-lake-trail-free/
LOCATION:Oak Mountain State Park\, 200 Terrace Dr\, Pelham\, AL\, 35124\, United States
CATEGORIES:Outdoors
GEO:33.33846;-86.742165
X-APPLE-STRUCTURED-LOCATION;VALUE=URI;X-ADDRESS=Oak Mountain State Park 200 Terrace Dr Pelham AL 35124 United States;X-APPLE-RADIUS=500;X-TITLE=200 Terrace Dr:geo:-86.742165,33.33846
END:VEVENT
BEGIN:VEVENT
DTSTART;VALUE=DATE:20250503
DTEND;VALUE=DATE:20250506
DTSTAMP:20260424T091035
CREATED:20250322T092029Z
LAST-MODIFIED:20250503T153519Z
UID:10079460-1746234000-1746406799@bhamnow.com
SUMMARY:Cahaba BioBlitz 2025
DESCRIPTION:WEATHER UPDATE:\nDue to the threat of severe weather and thunderstorms\, we’re canceling Saturday’s portion of Cahaba River Society’s BioBlitz at Oak Mountain State Park. Your safety comes first — and we appreciate your understanding! SUNDAY IS STILL ON! Join us for a half-day of biodiversity discovery. \nBioBlitz is Back!\n \nThis free\, family-friendly conservation & environmental education event – led by some of our region’s premiere nature and wildlife experts –  is a chance for people from all backgrounds to be introduced to citizen science and safe recreation in the outdoors. At a BioBlitz\, scientists\, families\, students\, teachers\, and other community members work together to get a snapshot of an area’s biodiversity. Enjoy connecting to nature and discovering new critters while contributing to scientific data collection on local biodiversity. \nFun Fact: The last BioBlitz at this location was almost 10 years ago\, making this a rare opportunity to gather new data on the park’s changing ecosystem. \nWHEN: May 4\, 2025\n6–7 AM: Birding walk \n7 AM–12 PM: BioBlitz activities (guided & solo) \n9–11 AM: Macroinvertebrate surveying at the archery range \n12 PM: Official wrap-up \nWHERE: Oak Mountain State Park\nCheck in at BioBlitz Headquarters when you arrive: South Trailhead Field \nAs you enter the park\, tell the gate attendant that you are here for BioBlitz and you will not have to pay park entry. \nRegister HERE for free!\nWe’ll email you a detailed schedule\, a map of points of interest\, and other helpful information in advance of the event. \n\n\nWhat is a BioBlitz?\nAt a BioBlitz\, scientists\, families\, students\, teachers\, and other community members work together to get a snapshot of an area’s biodiversity. This BioBlitz will bring local scientists\, educators\, conservation organizations\, and community members together to build an awareness of the biodiversity within local ecosystems while collecting useful scientific data. Teams of volunteers will work with onsite experts to find and identify as many species of plants and animals\, on land and in the water\, as can be found on this special site. \nWhat will we be documenting and how will it be recorded? \nWith your help\, we will be documenting a variety of species\, including: \n\nBirds and mammals\nFish\, mussels\, and aquatic macroinvertebrates\nReptiles and amphibians\nInsects and arachnids\nPlant species\, lichens and fungi\nWater quality\n\nWe will record observations using iNaturalist or good old pen and paper. \niNaturalist is a FREE online database and smart phone app that allows users to upload and share photos of living things that they observe in nature. It helps users to identify their own observations and share them with their community\, connecting people to nature and advancing biodiversity science and conservation. \nTo participate in the BioBlitz\, anyone can use their smart phone to take a photo of a living thing at Oak Mountain State Park on the day of the BioBlitz\, and upload it to iNaturalist using either the smartphone app or the website. \nWe recommend using the app and downloading the app and setting up your free account ahead of time. This will give you a chance to check it out and practice uploading observations. Also\, cell service can be spotty in some areas of the park\, so you may not be able to download it there. Don’t worry–you can still record observations in the app even if you don’t have phone service. They will sync next time you connect to the internet.
URL:https://bhamnow.com/bhamn-event/cahaba-bioblitz-2025/
LOCATION:Oak Mountain State Park\, 200 Terrace Dr\, Pelham\, AL\, 35124\, United States
CATEGORIES:BioBlitz,Events,Fun
ATTACH;FMTTYPE=image/jpeg:https://cahabariversociety.org/wp-content/uploads/2025/03/IMG_0341-2-300x200.jpg
GEO:33.33846;-86.742165
X-APPLE-STRUCTURED-LOCATION;VALUE=URI;X-ADDRESS=Oak Mountain State Park 200 Terrace Dr Pelham AL 35124 United States;X-APPLE-RADIUS=500;X-TITLE=200 Terrace Dr:geo:-86.742165,33.33846
END:VEVENT
BEGIN:VEVENT
DTSTART;VALUE=DATE:20250419
DTEND;VALUE=DATE:20250421
DTSTAMP:20260424T091035
CREATED:20250402T192212Z
LAST-MODIFIED:20250402T192212Z
UID:10079608-1745024400-1745110799@bhamnow.com
SUMMARY:The 2025 HDSA Team Hope Walk Pelham\, Alabama
DESCRIPTION:The Southern Region of the Huntington’s Disease Society of America (HDSA) will host the Alabama Team Hope Walk on Saturday\, April 19th at Oak Mountain State Park\, 200 Terrace Drive\, Pelham\, AL. All proceeds support HDSA’s mission to improve the lives of people affected by Huntington’s disease (HD) and their families. \nTeam Hope is HDSA’s largest national grassroots fundraising event\, which takes place in over 100 cities across the U.S. and has raised more than $28 million for HD since its inception in 2007. Thousands of families\, friends\, co-workers\, neighbors\, and communities walk together each year to support HDSA’s mission to improve the lives of people affected by HD and their families. \nFor more information about the event\, please contact Shelly Luna (lunashelley@gmail.com). \nOnline registration and donation information can be found HERE \nHDSA’s Team Hope Walk Program is nationally sponsored by Neurocrine Biosciences and Teva Pharmaceuticals.
URL:https://bhamnow.com/bhamn-event/the-2025-hdsa-team-hope-walk-pelham-alabama/
LOCATION:Oak Mountain State Park\, 200 Terrace Dr\, Pelham\, AL\, 35124\, United States
GEO:33.33846;-86.742165
X-APPLE-STRUCTURED-LOCATION;VALUE=URI;X-ADDRESS=Oak Mountain State Park 200 Terrace Dr Pelham AL 35124 United States;X-APPLE-RADIUS=500;X-TITLE=200 Terrace Dr:geo:-86.742165,33.33846
END:VEVENT
END:VCALENDAR