BEGIN:VCALENDAR
VERSION:2.0
PRODID:-//Bham Now - ECPv6.15.20//NONSGML v1.0//EN
CALSCALE:GREGORIAN
METHOD:PUBLISH
X-ORIGINAL-URL:https://bhamnow.com
X-WR-CALDESC:Events for Bham Now
REFRESH-INTERVAL;VALUE=DURATION:PT1H
X-Robots-Tag:noindex
X-PUBLISHED-TTL:PT1H
BEGIN:VTIMEZONE
TZID:America/Chicago
BEGIN:DAYLIGHT
TZOFFSETFROM:-0600
TZOFFSETTO:-0500
TZNAME:CDT
DTSTART:20240310T080000
END:DAYLIGHT
BEGIN:STANDARD
TZOFFSETFROM:-0500
TZOFFSETTO:-0600
TZNAME:CST
DTSTART:20241103T070000
END:STANDARD
BEGIN:DAYLIGHT
TZOFFSETFROM:-0600
TZOFFSETTO:-0500
TZNAME:CDT
DTSTART:20250309T080000
END:DAYLIGHT
BEGIN:STANDARD
TZOFFSETFROM:-0500
TZOFFSETTO:-0600
TZNAME:CST
DTSTART:20251102T070000
END:STANDARD
BEGIN:DAYLIGHT
TZOFFSETFROM:-0600
TZOFFSETTO:-0500
TZNAME:CDT
DTSTART:20260308T080000
END:DAYLIGHT
BEGIN:STANDARD
TZOFFSETFROM:-0500
TZOFFSETTO:-0600
TZNAME:CST
DTSTART:20261101T070000
END:STANDARD
END:VTIMEZONE
BEGIN:VEVENT
DTSTART;TZID=America/Chicago:20250317T150000
DTEND;TZID=America/Chicago:20250317T170000
DTSTAMP:20260422T033453
CREATED:20250227T211917Z
LAST-MODIFIED:20250227T211917Z
UID:10078225-1742223600-1742230800@bhamnow.com
SUMMARY:Coding Club
DESCRIPTION:Library: North Avondale Branch Library\nLocation: North Avondale Branch Library\nAudience: Tweens\nEvent Kind: Recurring\nContact Name: Olivia Evans\nContact Phone Number: 205-592-2082\nContact Email: Olivia.Evans@cobpl.org\nCategory: Computers & Technology\,Seasonal\nRegistration Required: No\nEvent Type: Computers & Technology\,Seasonal\nDescription: Join us as we learn to code\, build a mobile app\, and develop our own Artificial Intelligence project. We will also play fun games on Code.org and Scratch.com. \nJoin us as we learn to code\, build a mobile app\, and develop our own Artificial Intelligence project. We will also play fun games on Code.org and Scratch.com.
URL:https://bhamnow.com/bhamn-event/coding-club-5/
LOCATION:North Avondale Branch Library
CATEGORIES:Birmingham Public Library Calendar,Community
END:VEVENT
BEGIN:VEVENT
DTSTART;TZID=America/Chicago:20250312T150000
DTEND;TZID=America/Chicago:20250312T170000
DTSTAMP:20260422T033453
CREATED:20250226T195528Z
LAST-MODIFIED:20250227T185526Z
UID:10077113-1741791600-1741798800@bhamnow.com
SUMMARY:Dance Club
DESCRIPTION:Library: North Avondale Branch Library\nLocation: North Avondale Branch Library\nAudience: Tweens\nEvent Kind: Recurring\nContact Name: Olivia Evans\nContact Phone Number: 205-592-2082\nContact Email: Olivia.Evans@cobpl.org\nCategory: Health & Fitness\nRegistration Required: No\nEvent Type: Health & Fitness\nDescription: Come join the fun\, as we dance. We will dance along to Just Dance videos on YouTube. \nCome join the fun\, as we dance. We will dance along to Just Dance videos on YouTube.
URL:https://bhamnow.com/bhamn-event/dance-club-5/
LOCATION:North Avondale Branch Library
CATEGORIES:Birmingham Public Library Calendar,Community
END:VEVENT
BEGIN:VEVENT
DTSTART;TZID=America/Chicago:20250312T150000
DTEND;TZID=America/Chicago:20250312T170000
DTSTAMP:20260422T033453
CREATED:20250226T195526Z
LAST-MODIFIED:20250227T185525Z
UID:10077114-1741791600-1741798800@bhamnow.com
SUMMARY:Dance Club
DESCRIPTION:Library: North Avondale Branch Library\nLocation: North Avondale Branch Library\nAudience: Tweens\nEvent Kind: Recurring\nContact Name: Olivia Evans\nContact Phone Number: 205-592-2082\nContact Email: Olivia.Evans@cobpl.org\nCategory: Health & Fitness\nRegistration Required: No\nEvent Type: Health & Fitness\nDescription: Come join the fun\, as we dance. We will dance along to Just Dance videos on YouTube. \nCome join the fun\, as we dance. We will dance along to Just Dance videos on YouTube.
URL:https://bhamnow.com/bhamn-event/dance-club-4/
LOCATION:North Avondale Branch Library
CATEGORIES:Birmingham Public Library Calendar,Community
END:VEVENT
BEGIN:VEVENT
DTSTART;TZID=America/Chicago:20250311T150000
DTEND;TZID=America/Chicago:20250311T170000
DTSTAMP:20260422T033453
CREATED:20250225T234242Z
LAST-MODIFIED:20250227T185455Z
UID:10077047-1741705200-1741712400@bhamnow.com
SUMMARY:Beyblade and Lego Club
DESCRIPTION:Library: North Avondale Branch LibraryLocation: North Avondale Branch LibraryAudience: TweensEvent Kind: RecurringContact Name: Olivia EvansContact Phone Number: 205-592-2082Contact Email: Olivia.Evans@cobpl.orgCategory: Games and Gaming\,SeasonalRegistration Required: NoEvent Type: Games and Gaming\,SeasonalDescription: Join us as we unite with our Beyblade friends in epic free play and tournament battles. In 3\, 2\, 1\, Let it Rip! Also\, join us as we build and create fun projects with Legos. \nJoin us as we unite with our Beyblade friends in epic free play and tournament battles. In 3\, 2\, 1\, Let it Rip! Also\, join us as we build and create fun projects with Legos.
URL:https://bhamnow.com/bhamn-event/beyblade-and-lego-club-4/
LOCATION:North Avondale Branch Library
CATEGORIES:Birmingham Public Library Calendar,Community
END:VEVENT
BEGIN:VEVENT
DTSTART;TZID=America/Chicago:20250310T150000
DTEND;TZID=America/Chicago:20250310T170000
DTSTAMP:20260422T033453
CREATED:20250225T233835Z
LAST-MODIFIED:20250227T185412Z
UID:10077034-1741618800-1741626000@bhamnow.com
SUMMARY:Coding Club
DESCRIPTION:Library: North Avondale Branch LibraryLocation: North Avondale Branch LibraryAudience: TweensEvent Kind: RecurringContact Name: Olivia EvansContact Phone Number: 205-592-2082Contact Email: Olivia.Evans@cobpl.orgCategory: Computers & Technology\,SeasonalRegistration Required: NoEvent Type: Computers & Technology\,SeasonalDescription: Join us as we learn to code\, build a mobile app\, and develop our own Artificial Intelligence project. We will also play fun games on Code.org and Scratch.com. \nJoin us as we learn to code\, build a mobile app\, and develop our own Artificial Intelligence project. We will also play fun games on Code.org and Scratch.com.
URL:https://bhamnow.com/bhamn-event/coding-club-3/
LOCATION:North Avondale Branch Library
CATEGORIES:Birmingham Public Library Calendar,Community
END:VEVENT
END:VCALENDAR