BEGIN:VCALENDAR
VERSION:2.0
PRODID:-//Bham Now - ECPv6.15.20//NONSGML v1.0//EN
CALSCALE:GREGORIAN
METHOD:PUBLISH
X-ORIGINAL-URL:https://bhamnow.com
X-WR-CALDESC:Events for Bham Now
REFRESH-INTERVAL;VALUE=DURATION:PT1H
X-Robots-Tag:noindex
X-PUBLISHED-TTL:PT1H
BEGIN:VTIMEZONE
TZID:America/Chicago
BEGIN:DAYLIGHT
TZOFFSETFROM:-0600
TZOFFSETTO:-0500
TZNAME:CDT
DTSTART:20240310T080000
END:DAYLIGHT
BEGIN:STANDARD
TZOFFSETFROM:-0500
TZOFFSETTO:-0600
TZNAME:CST
DTSTART:20241103T070000
END:STANDARD
BEGIN:DAYLIGHT
TZOFFSETFROM:-0600
TZOFFSETTO:-0500
TZNAME:CDT
DTSTART:20250309T080000
END:DAYLIGHT
BEGIN:STANDARD
TZOFFSETFROM:-0500
TZOFFSETTO:-0600
TZNAME:CST
DTSTART:20251102T070000
END:STANDARD
BEGIN:DAYLIGHT
TZOFFSETFROM:-0600
TZOFFSETTO:-0500
TZNAME:CDT
DTSTART:20260308T080000
END:DAYLIGHT
BEGIN:STANDARD
TZOFFSETFROM:-0500
TZOFFSETTO:-0600
TZNAME:CST
DTSTART:20261101T070000
END:STANDARD
BEGIN:DAYLIGHT
TZOFFSETFROM:-0600
TZOFFSETTO:-0500
TZNAME:CDT
DTSTART:20270314T080000
END:DAYLIGHT
BEGIN:STANDARD
TZOFFSETFROM:-0500
TZOFFSETTO:-0600
TZNAME:CST
DTSTART:20271107T070000
END:STANDARD
END:VTIMEZONE
BEGIN:VEVENT
DTSTART;TZID=America/Chicago:20260425T083000
DTEND;TZID=America/Chicago:20260425T113000
DTSTAMP:20260425T200341
CREATED:20250210T224903Z
LAST-MODIFIED:20250210T224903Z
UID:10076068-1777105800-1777116600@bhamnow.com
SUMMARY:Guitar Camp for Beginners
DESCRIPTION:For the 10-15-year-old who has never picked up a guitar but wants to learn how to play in an encouraging environment\, our Guitar Camp for Beginners will guide you through guitar basics like chords\, strumming\, reading\, tuning\, and best practice habits to get you playing real songs by the end of the week! \nAges 10-15\n8:30-11:30 AM\nPrice: $290\nRegistration closes one week before camp session starts\nDate/Location: \nJuly 28-August 1 – Cahaba Heights studio \nLocation: Mason Music 3187 Cahaba Heights Rd Birmingham\, AL 35243\nOrganized by: Mason Music
URL:https://bhamnow.com/bhamn-event/guitar-camp-for-beginners/2026-04-25/
LOCATION:Mason Music Mountain Brook\, 2903 Cahaba Road\, Birmingham\, AL\, 35223\, United States
ATTACH;FMTTYPE=image/png:https://bhamnow.com/wp-content/uploads/2025/02/96603.png
END:VEVENT
BEGIN:VEVENT
DTSTART;TZID=America/Chicago:20250707T083000
DTEND;TZID=America/Chicago:20250711T113000
DTSTAMP:20260425T200341
CREATED:20250210T224908Z
LAST-MODIFIED:20250210T224908Z
UID:10075747-1751877000-1752233400@bhamnow.com
SUMMARY:Vocal Camp for Beginners
DESCRIPTION:Get ready to rock your next solo with Mason Music’s Vocal Camp for Beginners! Our experienced camp instructors will equip you with exercises to master skills like projection\, diction\, tone\, ear training\, performance techniques\, preparing for an audition\, and more. In this camp\, each camper will create a vocal portfolio recording piece of their singing to share with friends and family. \nAges 10-15\n8:30-11:30 AM\nPrice: $315\nRegistration closes one week before camp session starts\nDate/Location: \nJuly 7-11 – Mountain Brook studio
URL:https://bhamnow.com/bhamn-event/vocal-camp-for-beginners/
LOCATION:Mason Music Mountain Brook\, 2903 Cahaba Road\, Birmingham\, AL\, 35223\, United States
ATTACH;FMTTYPE=image/jpeg:https://bhamnow.com/wp-content/uploads/2025/02/96605.jpeg
END:VEVENT
BEGIN:VEVENT
DTSTART;TZID=America/Chicago:20250616T083000
DTEND;TZID=America/Chicago:20250616T143000
DTSTAMP:20260425T200341
CREATED:20250210T181708Z
LAST-MODIFIED:20250210T181708Z
UID:10075746-1750062600-1750084200@bhamnow.com
SUMMARY:Rock Band Camp: Performance Edition
DESCRIPTION:It’s time to rock the stage! Sign up with your friends to form a band\, or register to be placed with other musicians like you (similar age and skill level)\, then get ready to learn the songs you’ve always wanted to play and perform them live for family and friends on the last day of camp. Bands are typically composed of vocalists\, drummers\, guitarists\, bassists\, and pianists\, but other instruments may also be considered. This camp is open to students aged 10-18 who already have a grasp of their instrument and are ready to show off their skills while they grow their confidence! \nAges 10-18\n8:30 AM-2:30 PM\nPrice: $425\nDate/Location: \nJune 16-20 – Cahaba Heights studio
URL:https://bhamnow.com/bhamn-event/rock-band-camp-performance-edition/
LOCATION:Mason Music Mountain Brook\, 2903 Cahaba Road\, Birmingham\, AL\, 35223\, United States
ATTACH;FMTTYPE=image/jpeg:https://bhamnow.com/wp-content/uploads/2025/02/96607.jpeg
END:VEVENT
BEGIN:VEVENT
DTSTART;TZID=America/Chicago:20250609T083000
DTEND;TZID=America/Chicago:20250718T113000
DTSTAMP:20260425T200341
CREATED:20250210T181719Z
LAST-MODIFIED:20250210T181719Z
UID:10075743-1749457800-1752838200@bhamnow.com
SUMMARY:Stars Preschool Music Camp
DESCRIPTION:Stars Preschool Music Camp is the perfect way for your little one to have lots of fun exploring musical concepts in a creative environment. Each child will learn the basics of music theory\, like dynamics\, tempo\, and pitch\, while getting an introduction to singing\, and playing the piano and percussion instruments. There will also be time for crafts and musical movement! This camp is suggested for 3 to 5-year-olds who are potty-trained. \nAges 3-5\n8:30-11:30 AM\nPrice: $210\nRegistration closes one week before each camp session starts \nDates/Locations: \nJune 9-13 (Session 1) – Bluff Park studio\nJune 23-27 (Session 2) –Cahaba Heights studio\nJuly 7-11 (Session 3) – Greystone studio\nJuly 14-18 (Session 4) – Mountain Brook studio \nHappens on the following Dates:\nJun 9\, 2025\, 8:30am to\nJun 13\, 2025\, 11:30am Timezone: CDT\nJun 23\, 2025\, 8:30am to\nJun 27\, 2025\, 11:30am Timezone: CDT\nJul 7\, 2025\, 8:30am to\nJul 11\, 2025\, 11:30am Timezone: CDT\nJul 14\, 2025\, 8:30am to\nJul 18\, 2025\, 11:30am Timezone: CDT
URL:https://bhamnow.com/bhamn-event/stars-preschool-music-camp/
LOCATION:Mason Music Mountain Brook\, 2903 Cahaba Road\, Birmingham\, AL\, 35223\, United States
ATTACH;FMTTYPE=image/jpeg:https://bhamnow.com/wp-content/uploads/2025/02/96600.jpeg
END:VEVENT
BEGIN:VEVENT
DTSTART;TZID=America/Chicago:20250602T083000
DTEND;TZID=America/Chicago:20250606T113000
DTSTAMP:20260425T200341
CREATED:20250210T224858Z
LAST-MODIFIED:20250210T224858Z
UID:10076118-1748853000-1749209400@bhamnow.com
SUMMARY:Music Camp for Beginners
DESCRIPTION:For students aged 6-9 who have little or no experience with music and may be wondering which instrument is right for them\, Mason Music offers a half-day music camp this summer where campers are given the opportunity to sing and play the guitar\, piano\, drums\, and ukulele. Campers will get hands-on experience with real instruments while learning foundational music theory concepts\, making crafts\, and playing games. The goal of this week is for students to explore several instruments and learn general music concepts like pitch and rhythm\, all while having a lot of fun! Recommendations will be sent home for which instrument(s) each student shows the most aptitude with so you don’t have to guess which instrument to start them on for lessons. \nAges 6-9\n8:30-11:30 AM\nPrice: $235\nRegistration closes one week before each camp session starts\nDates/Locations: \nJune 2-6 (Session 1) – Cahaba Heights studio\nJune 9-13 (Session 2) – Mountain Brook studio\nJune 16-20 (Session 3) – Greystone studio\nJuly 14-18 (Session 4) – Cahaba Heights studio\nJuly 21-25 (Session 5) – Bluff Park studio\nJuly 28-August 1 (Session 6) – Mountain Brook studio
URL:https://bhamnow.com/bhamn-event/music-camp-for-beginners/
LOCATION:Mason Music Mountain Brook\, 2903 Cahaba Road\, Birmingham\, AL\, 35223\, United States
ATTACH;FMTTYPE=image/png:https://bhamnow.com/wp-content/uploads/2025/02/96601.png
END:VEVENT
END:VCALENDAR