BEGIN:VCALENDAR
VERSION:2.0
PRODID:-//Bham Now - ECPv6.15.20//NONSGML v1.0//EN
CALSCALE:GREGORIAN
METHOD:PUBLISH
X-ORIGINAL-URL:https://bhamnow.com
X-WR-CALDESC:Events for Bham Now
REFRESH-INTERVAL;VALUE=DURATION:PT1H
X-Robots-Tag:noindex
X-PUBLISHED-TTL:PT1H
BEGIN:VTIMEZONE
TZID:America/Chicago
BEGIN:DAYLIGHT
TZOFFSETFROM:-0600
TZOFFSETTO:-0500
TZNAME:CDT
DTSTART:20250309T080000
END:DAYLIGHT
BEGIN:STANDARD
TZOFFSETFROM:-0500
TZOFFSETTO:-0600
TZNAME:CST
DTSTART:20251102T070000
END:STANDARD
BEGIN:DAYLIGHT
TZOFFSETFROM:-0600
TZOFFSETTO:-0500
TZNAME:CDT
DTSTART:20260308T080000
END:DAYLIGHT
BEGIN:STANDARD
TZOFFSETFROM:-0500
TZOFFSETTO:-0600
TZNAME:CST
DTSTART:20261101T070000
END:STANDARD
BEGIN:DAYLIGHT
TZOFFSETFROM:-0600
TZOFFSETTO:-0500
TZNAME:CDT
DTSTART:20270314T080000
END:DAYLIGHT
BEGIN:STANDARD
TZOFFSETFROM:-0500
TZOFFSETTO:-0600
TZNAME:CST
DTSTART:20271107T070000
END:STANDARD
END:VTIMEZONE
BEGIN:VEVENT
DTSTART;TZID=America/Chicago:20260429T150000
DTEND;TZID=America/Chicago:20260429T150000
DTSTAMP:20260424T140146
CREATED:20260404T035448Z
LAST-MODIFIED:20260410T065041Z
UID:10097744-1777474800-1777474800@bhamnow.com
SUMMARY:Ani DiFranco: Spirit of Love Tour with special guest Sweet Petunia
DESCRIPTION:Buy Tickets \n \nDoors open at 7 p.m.\, show at 8 p.m. \nParking Info: \n\nThe Lyric Theatre is not responsible for parking and does not provide any free parking for concerts.\nParking meters are free after 6pm on weekdays and all day on Saturday and Sunday.\nPlease be aware of tow-away zones. Lots marked “permit parking only” are tow-away zones and they will tow your vehicle at your expense.
URL:https://bhamnow.com/bhamn-event/ani-difranco-spirit-of-love-tour-with-special-guest-sweet-petunia/
LOCATION:Lyric Theatre\, 1800 Third Avenue North\, Birmingham\, AL\, 35203\, United States
CATEGORIES:Concert,Downtown,Fun
ATTACH;FMTTYPE=image/jpeg:http://lyricbham.com/wp-content/uploads/2026/02/ANI_LOVE_TOUR_SINGLE_1080X1080-copy-1030x1030.png
GEO:33.5152132;-86.8095985
X-APPLE-STRUCTURED-LOCATION;VALUE=URI;X-ADDRESS=Lyric Theatre 1800 Third Avenue North Birmingham AL 35203 United States;X-APPLE-RADIUS=500;X-TITLE=1800 Third Avenue North:geo:-86.8095985,33.5152132
END:VEVENT
BEGIN:VEVENT
DTSTART;TZID=America/Chicago:20260430T150000
DTEND;TZID=America/Chicago:20260430T150000
DTSTAMP:20260424T140146
CREATED:20260404T035449Z
LAST-MODIFIED:20260410T065042Z
UID:10097745-1777561200-1777561200@bhamnow.com
SUMMARY:Marc Broussard
DESCRIPTION:Buy Tickets \n \nDoors at 7 p.m.\, show at 8 p.m. \n\nParking Info: \n\nThe Lyric Theatre is not responsible for parking and does not provide any free parking for concerts.\nParking meters are free after 6pm on weekdays and all day on Saturday and Sunday.\nPlease be aware of tow-away zones. Lots marked “permit parking only” are tow-away zones and they will tow your vehicle at your expense.
URL:https://bhamnow.com/bhamn-event/marc-broussard/
LOCATION:Lyric Theatre\, 1800 Third Avenue North\, Birmingham\, AL\, 35203\, United States
CATEGORIES:Concert,Downtown,Fun
ATTACH;FMTTYPE=image/jpeg:http://lyricbham.com/wp-content/uploads/2026/03/Marc-Broussard-4.30.26-Admat-824x1030.png
GEO:33.5152132;-86.8095985
X-APPLE-STRUCTURED-LOCATION;VALUE=URI;X-ADDRESS=Lyric Theatre 1800 Third Avenue North Birmingham AL 35203 United States;X-APPLE-RADIUS=500;X-TITLE=1800 Third Avenue North:geo:-86.8095985,33.5152132
END:VEVENT
BEGIN:VEVENT
DTSTART;TZID=America/Chicago:20260501T143000
DTEND;TZID=America/Chicago:20260501T143000
DTSTAMP:20260424T140146
CREATED:20260404T035451Z
LAST-MODIFIED:20260410T065044Z
UID:10097746-1777645800-1777645800@bhamnow.com
SUMMARY:C.S. Lewis: Beyond the Wardrobe
DESCRIPTION:Buy Tickets \n \nDoors open at 6:30 p.m.\, show at 7:30 p.m. \nC.S. Lewis: Beyond the Wardrobe – the year is 1963 and C.S. Lewis\, the famous British author\, is hosting a group of American writers at his home near Oxford. They are about to experience a captivating evening with a man whose engaging conversation and spontaneous humor made him one of the great raconteurs of his day. \nSeated in his living room and in front of a warm fire he recalls the people and events that inspired his thought and shaped his life; of his friendship with J.R.R. Tolkien; why he nearly abandoned the Narnia Chronicles; how he came to embrace Christianity and of the American woman who turned his life upside down. \nDescribed by critics as ‘Extraordinary!’ ‘A Must See!’ ‘A Master Class!’ An Evening with C.S. Lewis has proved again and again to be an enthralling theatrical experience and one which has led many thousands to discover (or rediscover) the continuing impact of a man who died over 50 years ago and whose collected works made him one of the literary giants of the 20th Century. \nParking Info: \n\nThe Lyric Theatre is not responsible for parking and does not provide any free parking for concerts.\nParking meters are free after 6pm on weekdays and all day on Saturday and Sunday.\nPlease be aware of tow-away zones. Lots marked “permit parking only” are tow-away zones and they will tow your vehicle at your expense.\n\n \n 
URL:https://bhamnow.com/bhamn-event/c-s-lewis-beyond-the-wardrobe/
LOCATION:Lyric Theatre\, 1800 Third Avenue North\, Birmingham\, AL\, 35203\, United States
CATEGORIES:Downtown,Fun,Play,Speaking Event
ATTACH;FMTTYPE=image/jpeg:http://lyricbham.com/wp-content/uploads/2026/03/CSLewisReg_NEWEblast_BirmGWW.jpg
GEO:33.5152132;-86.8095985
X-APPLE-STRUCTURED-LOCATION;VALUE=URI;X-ADDRESS=Lyric Theatre 1800 Third Avenue North Birmingham AL 35203 United States;X-APPLE-RADIUS=500;X-TITLE=1800 Third Avenue North:geo:-86.8095985,33.5152132
END:VEVENT
BEGIN:VEVENT
DTSTART;TZID=America/Chicago:20260605T143000
DTEND;TZID=America/Chicago:20260605T143000
DTSTAMP:20260424T140146
CREATED:20260404T035452Z
LAST-MODIFIED:20260410T065045Z
UID:10097747-1780669800-1780669800@bhamnow.com
SUMMARY:Gillian Welch & David Rawlings: Woodland Tour
DESCRIPTION:Buy Tickets \n \nDoors open at 6:30 p.m.\, show at 7:30 p.m. \nParking Info: \n\nThe Lyric Theatre is not responsible for parking and does not provide any free parking for concerts.\nParking meters are free after 6pm on weekdays and all day on Saturday and Sunday.\nPlease be aware of tow-away zones. Lots marked “permit parking only” are tow-away zones and they will tow your vehicle at your expense.
URL:https://bhamnow.com/bhamn-event/gillian-welch-david-rawlings-woodland-tour/
LOCATION:Lyric Theatre\, 1800 Third Avenue North\, Birmingham\, AL\, 35203\, United States
CATEGORIES:Downtown,Fun
ATTACH;FMTTYPE=image/jpeg:http://lyricbham.com/wp-content/uploads/2026/03/Static_Social-Instagram_1080x1080_GillianWelchDavidRawlings_2026_Regional_LyricTheatre_0605-1030x1030.jpg
GEO:33.5152132;-86.8095985
X-APPLE-STRUCTURED-LOCATION;VALUE=URI;X-ADDRESS=Lyric Theatre 1800 Third Avenue North Birmingham AL 35203 United States;X-APPLE-RADIUS=500;X-TITLE=1800 Third Avenue North:geo:-86.8095985,33.5152132
END:VEVENT
END:VCALENDAR