BEGIN:VCALENDAR
VERSION:2.0
PRODID:-//Bham Now - ECPv6.15.20//NONSGML v1.0//EN
CALSCALE:GREGORIAN
METHOD:PUBLISH
X-ORIGINAL-URL:https://bhamnow.com
X-WR-CALDESC:Events for Bham Now
REFRESH-INTERVAL;VALUE=DURATION:PT1H
X-Robots-Tag:noindex
X-PUBLISHED-TTL:PT1H
BEGIN:VTIMEZONE
TZID:America/Chicago
BEGIN:DAYLIGHT
TZOFFSETFROM:-0600
TZOFFSETTO:-0500
TZNAME:CDT
DTSTART:20240310T080000
END:DAYLIGHT
BEGIN:STANDARD
TZOFFSETFROM:-0500
TZOFFSETTO:-0600
TZNAME:CST
DTSTART:20241103T070000
END:STANDARD
BEGIN:DAYLIGHT
TZOFFSETFROM:-0600
TZOFFSETTO:-0500
TZNAME:CDT
DTSTART:20250309T080000
END:DAYLIGHT
BEGIN:STANDARD
TZOFFSETFROM:-0500
TZOFFSETTO:-0600
TZNAME:CST
DTSTART:20251102T070000
END:STANDARD
BEGIN:DAYLIGHT
TZOFFSETFROM:-0600
TZOFFSETTO:-0500
TZNAME:CDT
DTSTART:20260308T080000
END:DAYLIGHT
BEGIN:STANDARD
TZOFFSETFROM:-0500
TZOFFSETTO:-0600
TZNAME:CST
DTSTART:20261101T070000
END:STANDARD
BEGIN:DAYLIGHT
TZOFFSETFROM:-0600
TZOFFSETTO:-0500
TZNAME:CDT
DTSTART:20270314T080000
END:DAYLIGHT
BEGIN:STANDARD
TZOFFSETFROM:-0500
TZOFFSETTO:-0600
TZNAME:CST
DTSTART:20271107T070000
END:STANDARD
END:VTIMEZONE
BEGIN:VEVENT
DTSTART;TZID=America/Chicago:20260423T150000
DTEND;TZID=America/Chicago:20260423T150000
DTSTAMP:20260424T154130
CREATED:20260404T035447Z
LAST-MODIFIED:20260410T065039Z
UID:10097743-1776956400-1776956400@bhamnow.com
SUMMARY:Bruce Hornsby & The Noisemakers: Indigo Park Tour
DESCRIPTION:Buy Tickets \n \nDoors open at 7 p.m.\, show at 8 p.m. \n\nParking Info: \n\nThe Lyric Theatre is not responsible for parking and does not provide any free parking for concerts.\nParking meters are free after 6pm on weekdays and all day on Saturday and Sunday.\nPlease be aware of tow-away zones. Lots marked “permit parking only” are tow-away zones and they will tow your vehicle at your expense.
URL:https://bhamnow.com/bhamn-event/bruce-hornsby-the-noisemakers-indigo-park-tour/
LOCATION:Lyric Theatre\, 1800 Third Avenue North\, Birmingham\, AL\, 35203\, United States
CATEGORIES:Concert,Downtown,Fun
ATTACH;FMTTYPE=image/jpeg:http://lyricbham.com/wp-content/uploads/2026/01/BHTN-1X1-1030x1030.png
GEO:33.5152132;-86.8095985
X-APPLE-STRUCTURED-LOCATION;VALUE=URI;X-ADDRESS=Lyric Theatre 1800 Third Avenue North Birmingham AL 35203 United States;X-APPLE-RADIUS=500;X-TITLE=1800 Third Avenue North:geo:-86.8095985,33.5152132
END:VEVENT
BEGIN:VEVENT
DTSTART;TZID=America/Chicago:20260418T143000
DTEND;TZID=America/Chicago:20260418T143000
DTSTAMP:20260424T154130
CREATED:20260404T035445Z
LAST-MODIFIED:20260410T065038Z
UID:10097742-1776522600-1776522600@bhamnow.com
SUMMARY:The Rush Tribute Project
DESCRIPTION:Buy Tickets \n \nThe RUSH Tribute Project is an homage to one of the most enduring and influential bands in rock music. \nCombining skilled musicianship with exciting performances\, The RUSH Tribute Project (known as RTP to its dedicated fanbase) delivers the magic of Rush’s famous live concerts. Covering all 40-plus years of Rush’s amazing career\, RTP painstakingly recreates the sound and energy that made Rush one of the top-selling rock bands of all time. With a lineup that has performed Rush tribute shows for over a decade across North America and around the world\, including RushCon\, RTP stands out as one of the premiere tributes to this legendary\, RnR HOF power-trio. \nUsing vintage instruments\, multi-camera projection\, state-of-the-art lighting & lasers\, and signature virtuosity\, RTP delivers an unparalleled concert experience for the casual fan as well as the most discerning Rush loyalist. \nSEAN JONES is a classically trained multi-instrumentalist\, which comes in handy when needing to cover Geddy Lee. He has played nationally and internationally in various Rush tributes over the past 20 years\, including playing for RushCon and touring army bases in Kuwait. Along with Geddy\, some of Sean’s biggest bass influences include Chris Squire and John Entwistle\, all of whom incorporated keyboards\, synth pedals\, guitars\, and other instruments into their performances. \nBILL HECK is a 37-year veteran of guitar and has been playing at some level since childhood. Bill was the proud recipient of the Wisconsin Area Music Industry (WAMI) Award for best guitarist in 2017. He has always been heavily influenced by guitar-hero rock\, hard rock\, and metal\, but always considered Rush and Alex Lifeson as the primary force behind his love for guitar playing. Bill could be considered the “new guy” in The Rush Tribute Project as he had to go through the heavy scrutiny of auditioning for the band but has happily been a member of RTP since its beginnings over eight years ago. \nTHOMAS SLAWNIK is the percussionist and has been with RTP since its start in 2013. Thomas started banging the drums at the young age of 4 and hasn’t stopped since. He has performed with several Milwaukee bands since the late ’70s. Thomas’ influences include Neil Peart and Scott Rockenfield. His current drum kit is a “Frankenstein” collection of drums and cymbals which include DW drums\, Zildjian and Sabian cymbals\, and various electronics. The kit is influenced by Rush’s R30 tour kit. When he’s not on tour\, Thomas spends his free time with his daughter\, Ina\, and enjoys golf\, bike rides\, and a good IPA. \nReviews \nWISCONSIN AREA MUSIC INDUSTRY AWARDS – “Best Tribute Band” (winner\, 2018; nominee 2021\, 2019\, 2017\, 2016) “Best Guitarist” (winner\, Bill Heck\, 2017) \nPABST THEATER GROUP – “An incredible recreation of the RUSH live experience [with] an incredibly loyal fanbase. It’s always a pleasure working with a band as good as The Rush Tribute Project. Highly recommended!” \nGO VENUE – “If you’re a fan of RUSH\, then you’re a fan of The Rush Tribute Project… catch their show as often as you can!” Read More \n\nParking Info: \nThe Lyric Theatre is not responsible for parking and does not provide any free parking for concerts.\nParking meters are free after 6pm on weekdays and all day on Saturday and Sunday.\nPlease be aware of tow-away zones. Lots marked “permit parking only” are tow-away zones and they will tow your vehicle at your expense. \n \n\n\n\n\n 
URL:https://bhamnow.com/bhamn-event/the-rush-tribute-project/
LOCATION:Lyric Theatre\, 1800 Third Avenue North\, Birmingham\, AL\, 35203\, United States
CATEGORIES:Downtown,Fun
ATTACH;FMTTYPE=image/jpeg:http://lyricbham.com/wp-content/uploads/2025/09/Rush-Birmingham-041826-1080px1080-1030x1030.jpg
GEO:33.5152132;-86.8095985
X-APPLE-STRUCTURED-LOCATION;VALUE=URI;X-ADDRESS=Lyric Theatre 1800 Third Avenue North Birmingham AL 35203 United States;X-APPLE-RADIUS=500;X-TITLE=1800 Third Avenue North:geo:-86.8095985,33.5152132
END:VEVENT
BEGIN:VEVENT
DTSTART;TZID=America/Chicago:20260416T150000
DTEND;TZID=America/Chicago:20260416T150000
DTSTAMP:20260424T154130
CREATED:20260404T035444Z
LAST-MODIFIED:20260410T065036Z
UID:10097741-1776351600-1776351600@bhamnow.com
SUMMARY:Alabama Appleseed presents Celebrate Justice 2026 with special guest Jason Isbell
DESCRIPTION:Buy Tickets \n \nAll proceeds from tickets sales on this event will go towards Appleseed’s mission to create more justice and opportunity across Alabama.  \nDoors open at 7:00 p.m.\, show at 8:00 p.m. \nParking Info: \n\nThe Lyric Theatre is not responsible for parking and does not provide any free parking for concerts.\nParking meters are free after 6pm on weekdays and all day on Saturday and Sunday.\nPlease be aware of tow-away zones. Lots marked “permit parking only” are tow-away zones and they will tow your vehicle at your expense.
URL:https://bhamnow.com/bhamn-event/alabama-appleseed-presents-celebrate-justice-2026-with-special-guest-jason-isbell/
LOCATION:Lyric Theatre\, 1800 Third Avenue North\, Birmingham\, AL\, 35203\, United States
CATEGORIES:Concert,Downtown,Fun,Fundraiser
ATTACH;FMTTYPE=image/jpeg:http://lyricbham.com/wp-content/uploads/2026/03/Isbell-5-824x1030.jpg
GEO:33.5152132;-86.8095985
X-APPLE-STRUCTURED-LOCATION;VALUE=URI;X-ADDRESS=Lyric Theatre 1800 Third Avenue North Birmingham AL 35203 United States;X-APPLE-RADIUS=500;X-TITLE=1800 Third Avenue North:geo:-86.8095985,33.5152132
END:VEVENT
BEGIN:VEVENT
DTSTART;VALUE=DATE:20260409
DTEND;VALUE=DATE:20260413
DTSTAMP:20260424T154130
CREATED:20260404T035443Z
LAST-MODIFIED:20260410T065035Z
UID:10097740-1775764800-1776023999@bhamnow.com
SUMMARY:The Little Mermaid presented by Magic City Performing Arts
DESCRIPTION:Buy Tickets \nFriday\, April 10 at 10 a.m.\nFriday\, April 10 at 7 p.m.\nSaturday\, April 11 at 1 p.m.\nSaturday\, April 11 at 5:30 p.m.\nSunday\, April 12 at 1 p.m. \n \nDoors open to the lobby 1 hour before showtime. Doors to the auditorium may open as late as 30 minutes before showtime.  \nDive beneath the waves for an unforgettable journey with The Little Mermaid\, an original ballet inspired by Hans Christian Andersen’s timeless tale. Created by Artistic Director Stephanie Rangel\, with original choreography by Jamie Kilgore Foust and Stephanie Rangel in collaboration with the MCPA artistic staff\, this production captures the beauty\, heartache\, and triumph of the mermaid who longs for more than the world she knows. Set to Beethoven’s only ballet score\, The Little Mermaid blends exquisite dancing\, stunning visuals\, and an emotionally rich story that will enchant audiences of all ages. This ballet brings together dancers from the Birmingham community\, professional guest artists and an incredible creative team to tell a story that is both beautiful and powerful on stage. \n  \nParking Info: \n\nThe Lyric Theatre is not responsible for parking and does not provide any free parking for concerts.\nParking meters are free after 6pm on weekdays and all day on Saturday and Sunday.\nPlease be aware of tow-away zones. Lots marked “permit parking only” are tow-away zones and they will tow your vehicle at your expense.
URL:https://bhamnow.com/bhamn-event/the-little-mermaid-presented-by-magic-city-performing-arts/
LOCATION:Lyric Theatre\, 1800 Third Avenue North\, Birmingham\, AL\, 35203\, United States
CATEGORIES:Ballet,Downtown,Fun
ATTACH;FMTTYPE=image/jpeg:http://lyricbham.com/wp-content/uploads/2026/03/The-Little-Mermaid-poster-824x1030.jpg
GEO:33.5152132;-86.8095985
X-APPLE-STRUCTURED-LOCATION;VALUE=URI;X-ADDRESS=Lyric Theatre 1800 Third Avenue North Birmingham AL 35203 United States;X-APPLE-RADIUS=500;X-TITLE=1800 Third Avenue North:geo:-86.8095985,33.5152132
END:VEVENT
BEGIN:VEVENT
DTSTART;TZID=America/Chicago:20250508T140000
DTEND;TZID=America/Chicago:20250508T140000
DTSTAMP:20260424T154130
CREATED:20250306T223552Z
LAST-MODIFIED:20250306T223552Z
UID:10078371-1746712800-1746712800@bhamnow.com
SUMMARY:Michael Blaustein: The Taste Me Tour
DESCRIPTION:Buy Tickets \n \nMichael Blaustein is one of the fastest rising stand up comedians working today. His viral stand up comedy clips have amassed over a Billion views across all social media platforms. He has sold out venues across the world\, most recently closing out his successful 2024 tour year with over 76\,000 tickets sold. When he’s not on the road\, he’s co-hosting the chart-topping hit comedy podcast ‘Stiff Socks’ with Trevor Wallace\, which has over 80 Million downloads. \nParking Info: \n\nThe Lyric Theatre is not responsible for parking and does not provide any free parking for concerts.\nParking meters are free after 6pm on weekdays and all day on Saturday and Sunday.\nPlease be aware of tow-away zones. Lots marked “permit parking only” are tow-away zones and they will tow your vehicle at your expense.
URL:https://bhamnow.com/bhamn-event/michael-blaustein-the-taste-me-tour/
LOCATION:Lyric Theatre\, 1800 Third Avenue North\, Birmingham\, AL\, 35203\, United States
CATEGORIES:Comedy,Downtown,Fun
ATTACH;FMTTYPE=image/jpeg:http://lyricbham.com/wp-content/uploads/2024/12/MichaelBlaustein_BIRMAL_1080x1080-1030x1030.jpg
GEO:33.5152132;-86.8095985
X-APPLE-STRUCTURED-LOCATION;VALUE=URI;X-ADDRESS=Lyric Theatre 1800 Third Avenue North Birmingham AL 35203 United States;X-APPLE-RADIUS=500;X-TITLE=1800 Third Avenue North:geo:-86.8095985,33.5152132
END:VEVENT
BEGIN:VEVENT
DTSTART;TZID=America/Chicago:20250503T140000
DTEND;TZID=America/Chicago:20250503T140000
DTSTAMP:20260424T154130
CREATED:20250306T223550Z
LAST-MODIFIED:20250306T223550Z
UID:10078370-1746280800-1746280800@bhamnow.com
SUMMARY:Desi Banks: The Elevation Tour
DESCRIPTION:Buy Tickets \n \nDoors open at 6 p.m.\, show at 7 p.m. \nDesi Banks is the ultimate triple threat – actor\, stand-up comedian\, podcaster\, and entrepreneur who’s taking the entertainment world by storm. Having built a strong social media influence he’s amassed an immense following of over 19 million fans across various platforms and is swiftly becoming a household name: known for his razor-sharp wit and hilarious comedic timing. As an executive\, he’s the CEO and founder of Desi Banks Productions. \nIn 2024\, he embarked on his own 50-city tour\, selling out headline dates\, with nearly 52\,000 tickets sold. He’s a favorite at colleges\, a hit at comedy clubs\, and has effortlessly transitioned into theaters and arenas; Touring with heavyweights like Mike Epps\, Deray Davis\, Kountry Wayne\, Gary Owens\, Lavell Crawford\, and more. In 2024\, he joined Martin Lawrence on the “Y’all Know What It Is!” tour in Las Vegas\, Los Angeles\, and Oakland. With his ever- growing fanbase\, Desi is undoubtedly one of stand-up’s brightest stars of today and the future. \nHis organic rise as a stand-up comedian is unparalleled\, as he quickly climbed the ranks and cemented his status as a tour de force in just a few short years. With the highly popular “The Purpose Chaser Tour” ending in 2024\, Desi looks forward to embarking on his all-new “The Elevation Tour” in 2025. \nDesi’s talent has caught the attention of legends in comedy\, most notably Kevin Hart\, who has publicly praised him as the “next great” talent. This led to Desi’s cameo in the Hartbeat- produced Super Bowl 23′ commercial for DraftKings\, proving that Desi Banks is a force to be reckoned with. In addition to DraftKings\, Desi has partnered with many other notable brands including Meta\, Apple\, Beats by Dre\, and PrizePicks. \nAs an actor\, Desi has appeared in major motion pictures such as Lawrence Lamont’s “One of Them Days” produced by Issa Rae and starring Keke Palmer and SZA. Other roles include Will Packer’s “Little” starring Issa Rae and Regina Hall\, Terry J. Vaughn-produced and directed “Merry Wish- Mas”\, and “Love By Chance”. He also landed a lead role in the indie-horror film “Haunted Trail\,” which can be seen on BET+\, Amazon Prime\, and other platforms. \nAs a prolific content creator\, Desi has produced over 3\,500 original videos to date. Through Desi Banks Productions\, he’s created opportunities for aspiring actors and creators as well as providing a platform to share creative\, compelling content with the world. He’s worked with some of the biggest stars in the industry\, including Ludacris\, 21 Savage\, and others\, solidifying his status as a bona fide superstar.
URL:https://bhamnow.com/bhamn-event/desi-banks-the-elevation-tour/
LOCATION:Lyric Theatre\, 1800 Third Avenue North\, Birmingham\, AL\, 35203\, United States
CATEGORIES:Comedy,Downtown,Fun
ATTACH;FMTTYPE=image/jpeg:http://lyricbham.com/wp-content/uploads/2025/02/DesiBanks_BIRMAL_1080x1080-1030x1030.jpg
GEO:33.5152132;-86.8095985
X-APPLE-STRUCTURED-LOCATION;VALUE=URI;X-ADDRESS=Lyric Theatre 1800 Third Avenue North Birmingham AL 35203 United States;X-APPLE-RADIUS=500;X-TITLE=1800 Third Avenue North:geo:-86.8095985,33.5152132
END:VEVENT
BEGIN:VEVENT
DTSTART;TZID=America/Chicago:20250407T140000
DTEND;TZID=America/Chicago:20250407T140000
DTSTAMP:20260424T154130
CREATED:20250122T201725Z
LAST-MODIFIED:20250306T223547Z
UID:10074637-1744034400-1744034400@bhamnow.com
SUMMARY:Stavros Halkias: The Dreamboat Tour
DESCRIPTION:Buy Tickets \n \nStavros Halkias is a comedian\, actor\, and writer originally from Baltimore\, Maryland and currently based in Queens\, New York. His latest special “Fat Rascal” is out now on Netflix. His debut special\, “Live at the Lodge Room” reached a million views in its first four days and currently sits at over 6.4 million views. Last year\, he was named to Vulture’s 2023 list of “Comedians You Should and Will Know\,” and identified by GQ as “at the front of a new wave of comedians.” His podcast “Stavvy’s World” debuted at #3 on the iTunes comedy charts and garnered hundreds of thousands of subscribers in its first year. He’s a former co-host and founding member of the popular podcast “Cum Town\,” which ran from 2016-2022 and he was recently featured in Steven Soderbergh’s sci-fi series “Command Z.” He’s set to lead his own feature in 2024\, starring in the upcoming road-movie comedy “Let’s Start a Cult”\, which he co-wrote. Halkias is also an accomplished model\, walking in Kid Super’s Paris fashion week show in 2023 where he was described by Vogue as “the plus-est of plus size models”. His goal is to get just famous enough to buy his mother a nice home and then quit show business to open a surf and turf restaurant in East Baltimore.
URL:https://bhamnow.com/bhamn-event/stavros-halkias-the-dreamboat-tour/
LOCATION:Lyric Theatre\, 1800 Third Avenue North\, Birmingham\, AL\, 35203\, United States
CATEGORIES:Comedy,Downtown,Fun
ATTACH;FMTTYPE=image/jpeg:http://lyricbham.com/wp-content/uploads/2024/11/Static_Social-Instagram_1080x1080_StavrosHalkias_2025_Regional_LyricTheater_0407-1030x1030.jpg
GEO:33.5152132;-86.8095985
X-APPLE-STRUCTURED-LOCATION;VALUE=URI;X-ADDRESS=Lyric Theatre 1800 Third Avenue North Birmingham AL 35203 United States;X-APPLE-RADIUS=500;X-TITLE=1800 Third Avenue North:geo:-86.8095985,33.5152132
END:VEVENT
BEGIN:VEVENT
DTSTART;TZID=America/Chicago:20250402T140000
DTEND;TZID=America/Chicago:20250402T140000
DTSTAMP:20260424T154130
CREATED:20250122T201723Z
LAST-MODIFIED:20250306T223546Z
UID:10074636-1743602400-1743602400@bhamnow.com
SUMMARY:Anjelah Johnson-Reyes: The Family Reunion Tour
DESCRIPTION:Buy Tickets \n \nDoors open at 6 p.m.\, show at 7 p.m. \nAnjelah Johnson-Reyes is one of the most successful stand-up comedians today with six comedy specials streaming on various platforms and selling out theaters across the world.  Her most recent special\, Say I Won’t\, debuted on YouTube with over 3.8M views. Anjelah published her first memoir titled\, Who Do I Think I Am?: Stories of Chola Wishes and Caviar Dreams\, in March 2022.   Born and raised in San Jose\, California\, and of Mexican and Native American descent\, Anjelah has guest starred on shows such as Life & Beth\, Superstore\, The Shield\, Ugly Betty\, and Curb Your Enthusiasm. Her film roles include Enough Said\, Our Family Wedding\, and Alvin And The Chipmunks: The Squeakquel.   Most recently\, Anjelah joined Eddie Murphy and Tracee Ellis Ross in the Amazon Prime feature\, Candy Cane Lane.  In February\, she returns for the second season of the Hulu original series\, Life & Beth\, and will be the host of the Tubi original series\, My Crazy Quince\, which will be out in April. \n\nParking Info: \n\nThe Lyric Theatre is not responsible for parking and does not provide any free parking for concerts.\nParking meters are free after 6pm on weekdays and all day on Saturday and Sunday.\nPlease be aware of tow-away zones. Lots marked “permit parking only” are tow-away zones and they will tow your vehicle at your expense.
URL:https://bhamnow.com/bhamn-event/anjelah-johnson-reyes-the-family-reunion-tour/
LOCATION:Lyric Theatre\, 1800 Third Avenue North\, Birmingham\, AL\, 35203\, United States
CATEGORIES:Comedy,Downtown,Fun
ATTACH;FMTTYPE=image/jpeg:http://lyricbham.com/wp-content/uploads/2024/10/Static_Social-Instagram_1080x1080_AnjelahJohnsonReyes_2025_Regional_LyricTheatre_0402-1030x1030.jpg
GEO:33.5152132;-86.8095985
X-APPLE-STRUCTURED-LOCATION;VALUE=URI;X-ADDRESS=Lyric Theatre 1800 Third Avenue North Birmingham AL 35203 United States;X-APPLE-RADIUS=500;X-TITLE=1800 Third Avenue North:geo:-86.8095985,33.5152132
END:VEVENT
BEGIN:VEVENT
DTSTART;TZID=America/Chicago:20250319T143000
DTEND;TZID=America/Chicago:20250319T143000
DTSTAMP:20260424T154130
CREATED:20250306T223545Z
LAST-MODIFIED:20250306T223545Z
UID:10078368-1742394600-1742394600@bhamnow.com
SUMMARY:An Evening with Judy Collins
DESCRIPTION:Buy Tickets \n \nDoors open 6:30 p.m.\, show at 7:30 p.m. \n\nLegendary Grammy Award-winning singer-songwriter Judy Collins has inspired audiences with sublime vocals\, boldly vulnerable songwriting\, personal life triumphs\, and a firm commitment to social activism. \nIn the 1960s\, she evoked both the idealism and steely determination of a generation united against social and environmental injustices. Five decades later\, her luminescent presence shines brightly as new generations bask in the glow of her iconic 50-album body of work\, and heed inspiration from her spiritual discipline to thrive in the music industry for half a century. \nWith hits like “Both Sides Now\,” “Send in the Clowns\,” and “Someday Soon\,” Collins has left an indelible mark on the world of music for six decades. Her landmark 1967 album\, Wildflowers\, has been entered into the Grammy Hall of Fame. \nIn 2022\, Judy Collins released her first studio album of all original material\, entitled Spellbound\, which marks the first time she herself has written all the songs on one of her albums. Judy says of the album\, “Now felt like the perfect time to make this record because\, after all that’s happened in the world\, we need something beautiful and inspirational to lift us up.” Spellbound features 12 modern folk songs\, and “unfolds as if Judy curated a museum exhibit of her life\, and welcomed us into a retrospective of her most formative moments\, some big and public\, and some intensely personal and intimate.” \n\nParking Info: \n\nThe Lyric Theatre is not responsible for parking and does not provide any free parking for concerts.\nParking meters are free after 6pm on weekdays and all day on Saturday and Sunday.\nPlease be aware of tow-away zones. Lots marked “permit parking only” are tow-away zones and they will tow your vehicle at your expense.
URL:https://bhamnow.com/bhamn-event/an-evening-with-judy-collins-2/
LOCATION:Lyric Theatre\, 1800 Third Avenue North\, Birmingham\, AL\, 35203\, United States
CATEGORIES:Concert,Downtown,Fun
ATTACH;FMTTYPE=image/jpeg:http://lyricbham.com/wp-content/uploads/2024/08/Judy-Collins-1080x1080-1-1030x927.png
GEO:33.5152132;-86.8095985
X-APPLE-STRUCTURED-LOCATION;VALUE=URI;X-ADDRESS=Lyric Theatre 1800 Third Avenue North Birmingham AL 35203 United States;X-APPLE-RADIUS=500;X-TITLE=1800 Third Avenue North:geo:-86.8095985,33.5152132
END:VEVENT
BEGIN:VEVENT
DTSTART;TZID=America/Chicago:20250315T143000
DTEND;TZID=America/Chicago:20250315T143000
DTSTAMP:20260424T154130
CREATED:20250122T201722Z
LAST-MODIFIED:20250306T223543Z
UID:10074635-1742049000-1742049000@bhamnow.com
SUMMARY:Stayin Alive: One Night with the Bee Gees
DESCRIPTION:Buy Tickets \n \nDoors open at 6:30 p.m.\, show at 7:30 p.m. \nSTAYIN’ ALIVE offers to their audiences the songs and sights of a full Bee Gees playlist\, singing blockbusters such as “Night Fever”\, “Jive Talkin’”\, “How Deep Is Your Love”\, “You Should Be Dancing”\, “Nights on Broadway” and “Stayin’ Alive”. In addition\, they perform softer poetic ballads such as “I Started a Joke”\, “Massachusetts”\, “Fanny Be Tender”\, “Words” and “To Love Somebody” among other great hits. \nSTAYIN’ ALIVE is the largest and most definitive production of its kind\, offering big screen video clips\, photos and dazzlying imagery. STAYIN’ ALIVE has played intimate settings as a six piece band and huge venues with a 62 piece orchestra. STAYIN’ ALIVE is the quintessential tribute band to the Bee Gees\, capturing the excitement of live performance and the tender subtleties of the human voice! \nParking Info: \n\nThe Lyric Theatre is not responsible for parking and does not provide any free parking for concerts.\nParking meters are free after 6pm on weekdays and all day on Saturday and Sunday.\nPlease be aware of tow-away zones. Lots marked “permit parking only” are tow-away zones and they will tow your vehicle at your expense.
URL:https://bhamnow.com/bhamn-event/stayin-alive-one-night-with-the-bee-gees/
LOCATION:Lyric Theatre\, 1800 Third Avenue North\, Birmingham\, AL\, 35203\, United States
CATEGORIES:Concert,Downtown,Fun
ATTACH;FMTTYPE=image/jpeg:http://lyricbham.com/wp-content/uploads/2024/06/Stayin-Alive-Birmingham-031525-1080px1080-RGB-1030x1030.jpg
GEO:33.5152132;-86.8095985
X-APPLE-STRUCTURED-LOCATION;VALUE=URI;X-ADDRESS=Lyric Theatre 1800 Third Avenue North Birmingham AL 35203 United States;X-APPLE-RADIUS=500;X-TITLE=1800 Third Avenue North:geo:-86.8095985,33.5152132
END:VEVENT
END:VCALENDAR