BEGIN:VCALENDAR
VERSION:2.0
PRODID:-//Bham Now - ECPv6.15.20//NONSGML v1.0//EN
CALSCALE:GREGORIAN
METHOD:PUBLISH
X-WR-CALNAME:Bham Now
X-ORIGINAL-URL:https://bhamnow.com
X-WR-CALDESC:Events for Bham Now
REFRESH-INTERVAL;VALUE=DURATION:PT1H
X-Robots-Tag:noindex
X-PUBLISHED-TTL:PT1H
BEGIN:VTIMEZONE
TZID:America/Chicago
BEGIN:DAYLIGHT
TZOFFSETFROM:-0600
TZOFFSETTO:-0500
TZNAME:CDT
DTSTART:20240310T080000
END:DAYLIGHT
BEGIN:STANDARD
TZOFFSETFROM:-0500
TZOFFSETTO:-0600
TZNAME:CST
DTSTART:20241103T070000
END:STANDARD
BEGIN:DAYLIGHT
TZOFFSETFROM:-0600
TZOFFSETTO:-0500
TZNAME:CDT
DTSTART:20250309T080000
END:DAYLIGHT
BEGIN:STANDARD
TZOFFSETFROM:-0500
TZOFFSETTO:-0600
TZNAME:CST
DTSTART:20251102T070000
END:STANDARD
BEGIN:DAYLIGHT
TZOFFSETFROM:-0600
TZOFFSETTO:-0500
TZNAME:CDT
DTSTART:20260308T080000
END:DAYLIGHT
BEGIN:STANDARD
TZOFFSETFROM:-0500
TZOFFSETTO:-0600
TZNAME:CST
DTSTART:20261101T070000
END:STANDARD
END:VTIMEZONE
BEGIN:VEVENT
DTSTART;VALUE=DATE:20250905
DTEND;VALUE=DATE:20250907
DTSTAMP:20260421T134520
CREATED:20250608T075504Z
LAST-MODIFIED:20250906T071002Z
UID:10081980-1757102400-1757188799@bhamnow.com
SUMMARY:Miles College Football at Edward Waters
DESCRIPTION:Miles College Football at Edward Waters\nStreaming Video: https://siacnetwork.tv/ewutigers/\nTickets: https://ewutigerpride.com/sports/2022/7/21/349_133029008251955664.aspx
URL:https://bhamnow.com/bhamn-event/miles-college-football-at-edward-waters/
LOCATION:Jacksonville\, Fla\, Nathan Glover Community Field & Stadium
CATEGORIES:Fun
END:VEVENT
END:VCALENDAR