BEGIN:VCALENDAR
VERSION:2.0
PRODID:-//Bham Now - ECPv6.15.20//NONSGML v1.0//EN
CALSCALE:GREGORIAN
METHOD:PUBLISH
X-WR-CALNAME:Bham Now
X-ORIGINAL-URL:https://bhamnow.com
X-WR-CALDESC:Events for Bham Now
REFRESH-INTERVAL;VALUE=DURATION:PT1H
X-Robots-Tag:noindex
X-PUBLISHED-TTL:PT1H
BEGIN:VTIMEZONE
TZID:America/Chicago
BEGIN:DAYLIGHT
TZOFFSETFROM:-0600
TZOFFSETTO:-0500
TZNAME:CDT
DTSTART:20240310T080000
END:DAYLIGHT
BEGIN:STANDARD
TZOFFSETFROM:-0500
TZOFFSETTO:-0600
TZNAME:CST
DTSTART:20241103T070000
END:STANDARD
BEGIN:DAYLIGHT
TZOFFSETFROM:-0600
TZOFFSETTO:-0500
TZNAME:CDT
DTSTART:20250309T080000
END:DAYLIGHT
BEGIN:STANDARD
TZOFFSETFROM:-0500
TZOFFSETTO:-0600
TZNAME:CST
DTSTART:20251102T070000
END:STANDARD
BEGIN:DAYLIGHT
TZOFFSETFROM:-0600
TZOFFSETTO:-0500
TZNAME:CDT
DTSTART:20260308T080000
END:DAYLIGHT
BEGIN:STANDARD
TZOFFSETFROM:-0500
TZOFFSETTO:-0600
TZNAME:CST
DTSTART:20261101T070000
END:STANDARD
END:VTIMEZONE
BEGIN:VEVENT
DTSTART;VALUE=DATE:20251002
DTEND;VALUE=DATE:20251006
DTSTAMP:20260425T225935
CREATED:20250924T164012Z
LAST-MODIFIED:20250924T164012Z
UID:10085195-1759366800-1759625999@bhamnow.com
SUMMARY:Greek Food Festival
DESCRIPTION:  \nBecome Greek for the weekend at the 52nd Annual Greek Food Festival set for October 2-4\, 2025 from 10:30am-9:30pm. The Greek Festival\, is Birmingham’s oldest and most anticipated cultural event that offers an abundance of delicious Greek cuisine. The festival has been an act of love from Birmingham’s Greek community to the city going back four generations. Enjoy delicious Greek cuisine prepared by the parishioners of the community and served by them during the Greek Food Festival weekend.\nAll entrees and desserts are homemade and are comprised of only the freshest and finest ingredients available. In addition to the authentic Greek food you will enjoy Greek music\, dancing\, and a warm spirited atmosphere that embraces everyone as family. Greek dancers of all ages will be performing all three days. As thousands of returning patrons can attest\, you will leave a devoted fan.\nThe open air festival offers free admission. Outside tented seating for dining will be available. Food plates are individually priced and the Greek pastries will be pre-packaged and sold in the food lines. Coca Cola products will be available along with Greek beer and wines. Be sure to stroll through The Greek Market Place which has Mediterranean and Orthodox souvenirs. Free parking is located in the former Liberty National parking garage located one block away on 20th Street (Richard Arrington Blvd) between 3rd and 4th Avenue.\nThe convenient drive-thru is available all three days from 10:30am-7pm. No need to call ahead and place your order. Our servers will greet you\, take your big or small order\, and deliver right to your vehicle.The Holy Trinity – Holy Cross Greek Orthodox parish was chartered in 1906\, and is the 4th oldest Greek Orthodox parish in the Southeast. The beautiful and inspiring Byzantine interior of the basilica enhances the Orthodox Christian’s worship of the Father\, the Son and the Holy Spirit. Self-guided tours will be available during the three day festival and parishioners will be available to answer any questions. Please call ahead to schedule a tour for school and church groups.Since 1972 and with your help the Greek Festival has donated over $3 Million to local and national charities. In recent years\, these charities have included: Children’s of Alabama\, Magic Moments\, The Bell Center\, The Exceptional Foundation\, The Ronald McDonald House\, The Firehouse Ministries\, Alzheimer’s of Central Alabama\, Pathways\, Family Connection\, The Wellhouse\, Jimmie Hale Mission\, Safe House\, Alabama Kidney Foundation\, MS Society\, and The Greater Birmingham Ministries\, Urban Ministry\, and First Light.\nThe 2025 charity beneficiaries of the Greek Food Festival is Firehouse Ministries\, First Light and Urban Ministry.\nThe Greek Festival is made possible by our Holy Trinity Holy Cross Greek Orthodox parishioners and our generous sponsors Alabama Beverage\, Coca Cola\, and many more local Birmingham\, Alabama businesses. For sponsorship opportunities visit www.BhamGreekFestival.com\n\n52nd Annual Greek Festival October 2-4\, 202510:30am-9:30pmwww.BhamGreekFestival.com205-716-3088307 19th Street South Birmingham\, AL 35233Follow the Birmingham Greek Food Festival on Facebook\, Twitter & Instagram
URL:https://bhamnow.com/bhamn-event/greek-food-festival/
LOCATION:Greek Food Festival Birmingham Alabama\, 307 19th St S\, Birmingham\, AL\, 35233\, United States
CATEGORIES:Downtown
ATTACH;FMTTYPE=image/jpeg:https://scontent-atl3-3.xx.fbcdn.net/v/t39.30808-6/488550282_1164657681790036_4021243584128457014_n.jpg?_nc_cat=111&ccb=1-7&_nc_sid=75d36f&_nc_ohc=7KXJxNHDKMcQ7kNvwENU3Rx&_nc_oc=AdlvcJZQY83cOGroLDMcwZDUt4tY-ycT65buGlgXmXB78aXgJ-HJ9ZFJ-vOKgglFTfo&_nc_zt=23&_nc_ht=scontent-atl3-3.xx&_nc_gid=ptjqLgAeoBYZ0LSWpAJPJQ&oh=00_AfahVczm1dDhkBibB7ZBPDKnOSDD6Igzuah5MaUEz5QpTA&oe=68D9DE52
GEO:33.5092749;-86.8036801
X-APPLE-STRUCTURED-LOCATION;VALUE=URI;X-ADDRESS=Greek Food Festival Birmingham Alabama 307 19th St S Birmingham AL 35233 United States;X-APPLE-RADIUS=500;X-TITLE=307 19th St S:geo:-86.8036801,33.5092749
END:VEVENT
END:VCALENDAR