BEGIN:VCALENDAR
VERSION:2.0
PRODID:-//Bham Now - ECPv6.15.20//NONSGML v1.0//EN
CALSCALE:GREGORIAN
METHOD:PUBLISH
X-ORIGINAL-URL:https://bhamnow.com
X-WR-CALDESC:Events for Bham Now
REFRESH-INTERVAL;VALUE=DURATION:PT1H
X-Robots-Tag:noindex
X-PUBLISHED-TTL:PT1H
BEGIN:VTIMEZONE
TZID:America/Chicago
BEGIN:DAYLIGHT
TZOFFSETFROM:-0600
TZOFFSETTO:-0500
TZNAME:CDT
DTSTART:20240310T080000
END:DAYLIGHT
BEGIN:STANDARD
TZOFFSETFROM:-0500
TZOFFSETTO:-0600
TZNAME:CST
DTSTART:20241103T070000
END:STANDARD
BEGIN:DAYLIGHT
TZOFFSETFROM:-0600
TZOFFSETTO:-0500
TZNAME:CDT
DTSTART:20250309T080000
END:DAYLIGHT
BEGIN:STANDARD
TZOFFSETFROM:-0500
TZOFFSETTO:-0600
TZNAME:CST
DTSTART:20251102T070000
END:STANDARD
BEGIN:DAYLIGHT
TZOFFSETFROM:-0600
TZOFFSETTO:-0500
TZNAME:CDT
DTSTART:20260308T080000
END:DAYLIGHT
BEGIN:STANDARD
TZOFFSETFROM:-0500
TZOFFSETTO:-0600
TZNAME:CST
DTSTART:20261101T070000
END:STANDARD
BEGIN:DAYLIGHT
TZOFFSETFROM:-0600
TZOFFSETTO:-0500
TZNAME:CDT
DTSTART:20270314T080000
END:DAYLIGHT
BEGIN:STANDARD
TZOFFSETFROM:-0500
TZOFFSETTO:-0600
TZNAME:CST
DTSTART:20271107T070000
END:STANDARD
END:VTIMEZONE
BEGIN:VEVENT
DTSTART;TZID=America/Chicago:20260307T080000
DTEND;TZID=America/Chicago:20260307T170000
DTSTAMP:20260420T153958
CREATED:20260102T165652Z
LAST-MODIFIED:20260102T165652Z
UID:10089230-1772870400-1772902800@bhamnow.com
SUMMARY:Grand Bohemian Village 2 Village 10k /7.5k
DESCRIPTION:The Course: The Grand Bohemian Village 2 Village 10K and 7.5K\, presented by the Grand Bohemian and Habitat Feed and Social\, starts and finishes at the Grand Bohemian Hotel at 8:00 AM. This amazing course winds through the beautiful Mountain Brook streets\, around the Birmingham Country Club\, and finishes among the quaint streets of Mountain Brook Village into Lane Parke for an exciting afterparty. \nFinisher’s Medals: Each finisher (10K & 7.5K) will receive a custom made\, logoed\, metal bottle opener! \nAWARDS: Village Gold awards will be given to the 10K Top 3 Overall Males & Females\, Top Male and Female Masters\, and Top 3 Males & Females in each age group. (Age Groups: 9 & Under\, 10-14\, 15-19\, 20-24\, 25-29\, 30-34\, 35-39\, 40-44\, 45-49\, 50-54\, 55-59\, 60-64\, 65-69\, 70-74\, 75 & Over) The 7.5K will be timed\, but there will be no overall or age group awards. Awards begin at 9:30 am in the Race Village. \nKids’ Zone: Bring your children to enjoy the kids’ zone! \nWarm Up: Get ready to run your PR with a guided warm up at 7:40 am near the start line. \nPacket Pick Up: Late registration and packet pick up will be Friday\, March 6th\, from 10:00am to 6:00pm\, location to be determined. Last minute packet pick up or registration will open at 6:30 AM\, race day. If you plan to pick up or register late\, please arrive early. After March 3rd a t-shirt and medal are not guaranteed with registration. We will do our best to accommodate!
URL:https://bhamnow.com/bhamn-event/grand-bohemian-village-2-village-10k-7-5k/
LOCATION:Grand Bohemian Hotel 2655 Lane Parke Road Mountain Brook\, AL 35223\, 2401 Park Ln S\, United States
CATEGORIES:Community,Running
ATTACH;FMTTYPE=image/png:https://bhamnow.com/wp-content/uploads/2025/12/V2V-2026-Ad-scaled.png
GEO:26.0315262;-80.1743223
X-APPLE-STRUCTURED-LOCATION;VALUE=URI;X-ADDRESS=Grand Bohemian Hotel 2655 Lane Parke Road Mountain Brook AL 35223 2401 Park Ln S United States;X-APPLE-RADIUS=500;X-TITLE=2401 Park Ln S:geo:-80.1743223,26.0315262
END:VEVENT
BEGIN:VEVENT
DTSTART;TZID=America/Chicago:20250429T173000
DTEND;TZID=America/Chicago:20250429T190000
DTSTAMP:20260420T153958
CREATED:20250403T205609Z
LAST-MODIFIED:20250403T205609Z
UID:10080264-1745947800-1745953200@bhamnow.com
SUMMARY:Hands Up Together 2025
DESCRIPTION:As a proud United Way of Central Alabama partner agency\, Collat Jewish Family Services (CJFS) will host Hands Up Together 2025 this month honoring ten years of CARES: Caring for Adults through Respite\, Enrichment\, and Socialization. The CARES program offers an engaging social environment for people living with memory and movement disorders\, such as Alzheimer’s and dementia\, while offering a much-needed break\, support and education for their family caregivers. \nHands Up Together is presented by Protective Life and will take place on Tuesday\, April 29\, 2025\, from 5:30 to 7:00 PM at The Grand Bohemian Hotel in Mountain Brook. The event will celebrate and support the CJFS services that are a critical resource for older adults and their families as they navigate the journey of aging.
URL:https://bhamnow.com/bhamn-event/hands-up-together-2025-2/
LOCATION:Grand Bohemian Hotel 2655 Lane Parke Road Mountain Brook\, AL 35223\, 2401 Park Ln S\, United States
CATEGORIES:Fundraiser
ATTACH;FMTTYPE=image/jpeg:https://bhamnow.com/wp-content/uploads/2025/04/CJFS_HUT25_STD.jpg
GEO:26.0315262;-80.1743223
X-APPLE-STRUCTURED-LOCATION;VALUE=URI;X-ADDRESS=Grand Bohemian Hotel 2655 Lane Parke Road Mountain Brook AL 35223 2401 Park Ln S United States;X-APPLE-RADIUS=500;X-TITLE=2401 Park Ln S:geo:-80.1743223,26.0315262
END:VEVENT
BEGIN:VEVENT
DTSTART;TZID=America/Chicago:20250429T173000
DTEND;TZID=America/Chicago:20250429T190000
DTSTAMP:20260420T153958
CREATED:20250403T205606Z
LAST-MODIFIED:20250403T205606Z
UID:10080263-1745947800-1745953200@bhamnow.com
SUMMARY:Hands Up Together 2025
DESCRIPTION:As a proud United Way of Central Alabama partner agency\, Collat Jewish Family Services (CJFS) will host Hands Up Together 2025 this month honoring ten years of CARES: Caring for Adults through Respite\, Enrichment\, and Socialization. The CARES program offers an engaging social environment for people living with memory and movement disorders\, such as Alzheimer’s and dementia\, while offering a much-needed break\, support and education for their family caregivers. \nHands Up Together is presented by Protective Life and will take place on Tuesday\, April 29\, 2025\, from 5:30 to 7:00 PM at The Grand Bohemian Hotel in Mountain Brook. The event will celebrate and support the CJFS services that are a critical resource for older adults and their families as they navigate the journey of aging.
URL:https://bhamnow.com/bhamn-event/hands-up-together-2025/
LOCATION:Grand Bohemian Hotel 2655 Lane Parke Road Mountain Brook\, AL 35223\, 2401 Park Ln S\, United States
CATEGORIES:Fundraiser
GEO:26.0315262;-80.1743223
X-APPLE-STRUCTURED-LOCATION;VALUE=URI;X-ADDRESS=Grand Bohemian Hotel 2655 Lane Parke Road Mountain Brook AL 35223 2401 Park Ln S United States;X-APPLE-RADIUS=500;X-TITLE=2401 Park Ln S:geo:-80.1743223,26.0315262
END:VEVENT
BEGIN:VEVENT
DTSTART;TZID=America/Chicago:20250429T173000
DTEND;TZID=America/Chicago:20250429T190000
DTSTAMP:20260420T153958
CREATED:20250403T161250Z
LAST-MODIFIED:20250403T161250Z
UID:10079615-1745947800-1745953200@bhamnow.com
SUMMARY:Hands Up Together
DESCRIPTION:Please join us as we celebrate 10 Years of our CJFS CARES Respite Program at our 2025 Hands Up Together event on Tuesday\, April 29 at The Grand Bohemian Hotel in Mountain Brook. \nCJFS is a United Way agency that enables aging-in place; supports mental health and wellness; and provides meaningful community connections in the Birmingham area. We serve clients of all ages\, faiths\, and financial resources providing services such as transportation\, counseling\, group respite care\, resource identification and connection\, and in-home care.
URL:https://bhamnow.com/bhamn-event/hands-up-together/
LOCATION:Grand Bohemian Hotel 2655 Lane Parke Road Mountain Brook\, AL 35223\, 2401 Park Ln S\, United States
CATEGORIES:Fundraiser
ATTACH;FMTTYPE=image/png:https://bhamnow.com/wp-content/uploads/2025/04/CJFS_HUT25_STD.png
GEO:26.0315262;-80.1743223
X-APPLE-STRUCTURED-LOCATION;VALUE=URI;X-ADDRESS=Grand Bohemian Hotel 2655 Lane Parke Road Mountain Brook AL 35223 2401 Park Ln S United States;X-APPLE-RADIUS=500;X-TITLE=2401 Park Ln S:geo:-80.1743223,26.0315262
END:VEVENT
END:VCALENDAR