BEGIN:VCALENDAR
VERSION:2.0
PRODID:-//Bham Now - ECPv6.15.20//NONSGML v1.0//EN
CALSCALE:GREGORIAN
METHOD:PUBLISH
X-WR-CALNAME:Bham Now
X-ORIGINAL-URL:https://bhamnow.com
X-WR-CALDESC:Events for Bham Now
REFRESH-INTERVAL;VALUE=DURATION:PT1H
X-Robots-Tag:noindex
X-PUBLISHED-TTL:PT1H
BEGIN:VTIMEZONE
TZID:America/Chicago
BEGIN:DAYLIGHT
TZOFFSETFROM:-0600
TZOFFSETTO:-0500
TZNAME:CDT
DTSTART:20240310T080000
END:DAYLIGHT
BEGIN:STANDARD
TZOFFSETFROM:-0500
TZOFFSETTO:-0600
TZNAME:CST
DTSTART:20241103T070000
END:STANDARD
BEGIN:DAYLIGHT
TZOFFSETFROM:-0600
TZOFFSETTO:-0500
TZNAME:CDT
DTSTART:20250309T080000
END:DAYLIGHT
BEGIN:STANDARD
TZOFFSETFROM:-0500
TZOFFSETTO:-0600
TZNAME:CST
DTSTART:20251102T070000
END:STANDARD
BEGIN:DAYLIGHT
TZOFFSETFROM:-0600
TZOFFSETTO:-0500
TZNAME:CDT
DTSTART:20260308T080000
END:DAYLIGHT
BEGIN:STANDARD
TZOFFSETFROM:-0500
TZOFFSETTO:-0600
TZNAME:CST
DTSTART:20261101T070000
END:STANDARD
END:VTIMEZONE
BEGIN:VEVENT
DTSTART;TZID=America/Chicago:20250412T110000
DTEND;TZID=America/Chicago:20250412T180000
DTSTAMP:20260421T063413
CREATED:20250310T181350Z
LAST-MODIFIED:20250310T181350Z
UID:10078380-1744455600-1744480800@bhamnow.com
SUMMARY:The Bell Center Cornhole Classic
DESCRIPTION:Join us for the Cornhole Classic\, a family-friendly event hosted by The Bell Center Junior Board\, dedicated to raising vital funds for The Bell Center’s early intervention therapy programs for children with disabilities. \nThe Bell Center’s Cornhole Classic is a round-robin tournament that will keep your cornhole skills intact during tailgating off-season. Top social teams will advance to single elimination playoffs for a chance at great prizes and gift cards. Top competitive teams will advance to the double elimination playoffs. \nWe’ll be at Good People Brewing throwing bags and listening to great music! Make sure you choose your teammate wisely and get ready for a great day! Come out and help support The Bell Center Early Intervention Programs! Admission is FREE for friends\, supporters and fans of cornhole. See you at The Bell Center Cornhole Classic!
URL:https://bhamnow.com/bhamn-event/the-bell-center-cornhole-classic/
LOCATION:Good People Brewing\, 114 14th Street South\, Birmingham\, AL\, 35233\, United States
CATEGORIES:Downtown,Featured Event,Fun Outside,Fundraiser,In-Person Events
ATTACH;FMTTYPE=image/jpeg:https://bhamnow.com/wp-content/uploads/2025/03/April-25-scaled.jpg
GEO:33.5070471;-86.8121182
X-APPLE-STRUCTURED-LOCATION;VALUE=URI;X-ADDRESS=Good People Brewing 114 14th Street South Birmingham AL 35233 United States;X-APPLE-RADIUS=500;X-TITLE=114 14th Street South:geo:-86.8121182,33.5070471
END:VEVENT
BEGIN:VEVENT
DTSTART;TZID=America/Chicago:20250412T110000
DTEND;TZID=America/Chicago:20250412T150000
DTSTAMP:20260421T063413
CREATED:20250317T233900Z
LAST-MODIFIED:20250317T233900Z
UID:10079013-1744455600-1744470000@bhamnow.com
SUMMARY:The Bell Center Cornhole Classic
DESCRIPTION:Join us for the Cornhole Classic\, a family-friendly event hosted by The Bell Center Junior Board\, dedicated to raising vital funds for The Bell Center’s early intervention therapy programs for children with disabilities. \nThe Bell Center’s Cornhole Classic is a round-robin tournament that will keep your cornhole skills intact during tailgating off-season. Top social teams will advance to single elimination playoffs for a chance at great prizes and gift cards. Top competitive teams will advance to the double elimination playoffs. \nWe’ll be at Good People Brewing throwing bags and listening to great music! Make sure you choose your teammate wisely and get ready for a great day! Come out and help support The Bell Center Early Intervention Programs! Admission is FREE for friends\, supporters and fans of cornhole. See you at The Bell Center Cornhole Classic!
URL:https://bhamnow.com/bhamn-event/the-bell-center-cornhole-classic-2/
LOCATION:Good People Brewing\, 114 14th Street South\, Birmingham\, AL\, 35233\, United States
CATEGORIES:Downtown
ATTACH;FMTTYPE=image/jpeg:https://bhamnow.com/wp-content/uploads/2025/03/April-25-scaled-1.jpg
GEO:33.5070471;-86.8121182
X-APPLE-STRUCTURED-LOCATION;VALUE=URI;X-ADDRESS=Good People Brewing 114 14th Street South Birmingham AL 35233 United States;X-APPLE-RADIUS=500;X-TITLE=114 14th Street South:geo:-86.8121182,33.5070471
END:VEVENT
END:VCALENDAR