BEGIN:VCALENDAR
VERSION:2.0
PRODID:-//Bham Now - ECPv6.15.20//NONSGML v1.0//EN
CALSCALE:GREGORIAN
METHOD:PUBLISH
X-WR-CALNAME:Bham Now
X-ORIGINAL-URL:https://bhamnow.com
X-WR-CALDESC:Events for Bham Now
REFRESH-INTERVAL;VALUE=DURATION:PT1H
X-Robots-Tag:noindex
X-PUBLISHED-TTL:PT1H
BEGIN:VTIMEZONE
TZID:America/Chicago
BEGIN:DAYLIGHT
TZOFFSETFROM:-0600
TZOFFSETTO:-0500
TZNAME:CDT
DTSTART:20240310T080000
END:DAYLIGHT
BEGIN:STANDARD
TZOFFSETFROM:-0500
TZOFFSETTO:-0600
TZNAME:CST
DTSTART:20241103T070000
END:STANDARD
BEGIN:DAYLIGHT
TZOFFSETFROM:-0600
TZOFFSETTO:-0500
TZNAME:CDT
DTSTART:20250309T080000
END:DAYLIGHT
BEGIN:STANDARD
TZOFFSETFROM:-0500
TZOFFSETTO:-0600
TZNAME:CST
DTSTART:20251102T070000
END:STANDARD
BEGIN:DAYLIGHT
TZOFFSETFROM:-0600
TZOFFSETTO:-0500
TZNAME:CDT
DTSTART:20260308T080000
END:DAYLIGHT
BEGIN:STANDARD
TZOFFSETFROM:-0500
TZOFFSETTO:-0600
TZNAME:CST
DTSTART:20261101T070000
END:STANDARD
END:VTIMEZONE
BEGIN:VEVENT
DTSTART;TZID=America/Chicago:20250313T093000
DTEND;TZID=America/Chicago:20250313T103000
DTSTAMP:20260423T184108
CREATED:20250226T194729Z
LAST-MODIFIED:20250227T185630Z
UID:10077125-1741858200-1741861800@bhamnow.com
SUMMARY:Basic PC
DESCRIPTION:Library: Five Points West Regional Branch Library\nLocation: Five Points West Regional Branch Library\nAudience: Adults\nEvent Kind: One-time\nContact Name: Monica Cottrell\nContact Phone Number: 205-226-4015\nContact Email: monica.cottrell@cobpl.org\nCategory: Career & Employment\,Classes & Workshops\,Computers & Technology\nRegistration Required: No\nEvent Type: Career & Employment\,Classes & Workshops\,Computers & Technology\nDescription: Learn PC Basics\, Internet & Email \nLearn PC Basics\, Internet & Email
URL:https://bhamnow.com/bhamn-event/basic-pc-3/
LOCATION:Five Points West Regional Branch Library
CATEGORIES:Birmingham Public Library Calendar,Community
END:VEVENT
BEGIN:VEVENT
DTSTART;TZID=America/Chicago:20250312T103000
DTEND;TZID=America/Chicago:20250312T113000
DTSTAMP:20260423T184108
CREATED:20250225T162103Z
LAST-MODIFIED:20250227T185518Z
UID:10077083-1741775400-1741779000@bhamnow.com
SUMMARY:Chair Yoga with Ms. Sanovia
DESCRIPTION:Library: Five Points West Regional Branch Library\nLocation: Five Points West Regional Branch Library\nAudience: Adults\nEvent Kind: Recurring\nContact Name: Monica Cottrell\nContact Phone Number: 205-226-4015\nContact Email: monica.cottrell@cobpl.org\nCategory: Classes & Workshops\,Health & Fitness\nRegistration Required: No\nEvent Type: Classes & Workshops\,Health & Fitness\nDescription: Chair Yoga with Sanovia Muhammed. \nChair Yoga with Sanovia Muhammed
URL:https://bhamnow.com/bhamn-event/chair-yoga-with-ms-sanovia/
LOCATION:Five Points West Regional Branch Library
CATEGORIES:Birmingham Public Library Calendar,Community
END:VEVENT
END:VCALENDAR