BEGIN:VCALENDAR
VERSION:2.0
PRODID:-//Bham Now - ECPv6.15.20//NONSGML v1.0//EN
CALSCALE:GREGORIAN
METHOD:PUBLISH
X-ORIGINAL-URL:https://bhamnow.com
X-WR-CALDESC:Events for Bham Now
REFRESH-INTERVAL;VALUE=DURATION:PT1H
X-Robots-Tag:noindex
X-PUBLISHED-TTL:PT1H
BEGIN:VTIMEZONE
TZID:America/Chicago
BEGIN:DAYLIGHT
TZOFFSETFROM:-0600
TZOFFSETTO:-0500
TZNAME:CDT
DTSTART:20240310T080000
END:DAYLIGHT
BEGIN:STANDARD
TZOFFSETFROM:-0500
TZOFFSETTO:-0600
TZNAME:CST
DTSTART:20241103T070000
END:STANDARD
BEGIN:DAYLIGHT
TZOFFSETFROM:-0600
TZOFFSETTO:-0500
TZNAME:CDT
DTSTART:20250309T080000
END:DAYLIGHT
BEGIN:STANDARD
TZOFFSETFROM:-0500
TZOFFSETTO:-0600
TZNAME:CST
DTSTART:20251102T070000
END:STANDARD
BEGIN:DAYLIGHT
TZOFFSETFROM:-0600
TZOFFSETTO:-0500
TZNAME:CDT
DTSTART:20260308T080000
END:DAYLIGHT
BEGIN:STANDARD
TZOFFSETFROM:-0500
TZOFFSETTO:-0600
TZNAME:CST
DTSTART:20261101T070000
END:STANDARD
END:VTIMEZONE
BEGIN:VEVENT
DTSTART;VALUE=DATE:20250809
DTEND;VALUE=DATE:20250811
DTSTAMP:20260420T194406
CREATED:20250701T202941Z
LAST-MODIFIED:20250701T202942Z
UID:10082998-1754701200-1754787599@bhamnow.com
SUMMARY:MITCHELL'S PLACE DRAGON BOAT RACE & FESTIVAL
DESCRIPTION:  \nDragon Boat Race and Festival. (Mitchell’s Place)\nMitchell’s Place Dragon Boat Festival brings the most fun and unforgettable experience to the Birmingham area! See how well your team can compete against other local\, corporate and community teams to raise awareness for early intervention and autism spectrum disorder. \nWant to put together a team? Ask your co-workers\, friends\, spouses\, church members\, civic leaders\, customers\, neighbors\, and others to fill your team boat of 20 paddlers (minimum of 8 females per team) plus 1 drummer or 10 paddlers (minimum of 4 females per team) plus 1 drummer. Dynamic Dragon Boat Racing company provides all dragon boats\, gear and instruction (including paddles\, life jackets\, and coaches)\, plus an experienced steerer to help you along the way. \nThere is only space for 25 teams so register today! HOW TO REGISTER: click on the COMPETE button to see the team/sponsorship opportunities. You may pay online with a credit card OR mail in your payment to: Mitchell’s Place Office of Advancement\, 4778 Overton Road\, Birmingham\, AL 35210. \nThis year’s festival is scheduled for Saturday\, August 9\, 2025 at East Lake Park . Please join us for a nice summer day\, some friendly competition\, a kids-zone\, food trucks\, autism information\, merchant market\, cocktail contest sponsored by Titos\, music\, and more! \nCheck out our volunteer opportunities!
URL:https://bhamnow.com/bhamn-event/mitchells-place-dragon-boat-race-festival/
LOCATION:East Lake Park\, 8101 4th Ave N\, Birmingham\, AL\, 35206
ATTACH;FMTTYPE=image/jpeg:https://bhamnow.com/wp-content/uploads/2024/06/53135179919_1e94376057_o-2-800x600.jpg
GEO:33.572265;-86.7261774
X-APPLE-STRUCTURED-LOCATION;VALUE=URI;X-ADDRESS=East Lake Park 8101 4th Ave N Birmingham AL 35206;X-APPLE-RADIUS=500;X-TITLE=8101 4th Ave N:geo:-86.7261774,33.572265
END:VEVENT
END:VCALENDAR