BEGIN:VCALENDAR
VERSION:2.0
PRODID:-//Bham Now - ECPv6.15.20//NONSGML v1.0//EN
CALSCALE:GREGORIAN
METHOD:PUBLISH
X-WR-CALNAME:Bham Now
X-ORIGINAL-URL:https://bhamnow.com
X-WR-CALDESC:Events for Bham Now
REFRESH-INTERVAL;VALUE=DURATION:PT1H
X-Robots-Tag:noindex
X-PUBLISHED-TTL:PT1H
BEGIN:VTIMEZONE
TZID:America/Chicago
BEGIN:DAYLIGHT
TZOFFSETFROM:-0600
TZOFFSETTO:-0500
TZNAME:CDT
DTSTART:20240310T080000
END:DAYLIGHT
BEGIN:STANDARD
TZOFFSETFROM:-0500
TZOFFSETTO:-0600
TZNAME:CST
DTSTART:20241103T070000
END:STANDARD
BEGIN:DAYLIGHT
TZOFFSETFROM:-0600
TZOFFSETTO:-0500
TZNAME:CDT
DTSTART:20250309T080000
END:DAYLIGHT
BEGIN:STANDARD
TZOFFSETFROM:-0500
TZOFFSETTO:-0600
TZNAME:CST
DTSTART:20251102T070000
END:STANDARD
BEGIN:DAYLIGHT
TZOFFSETFROM:-0600
TZOFFSETTO:-0500
TZNAME:CDT
DTSTART:20260308T080000
END:DAYLIGHT
BEGIN:STANDARD
TZOFFSETFROM:-0500
TZOFFSETTO:-0600
TZNAME:CST
DTSTART:20261101T070000
END:STANDARD
END:VTIMEZONE
BEGIN:VEVENT
DTSTART;VALUE=DATE:20250318
DTEND;VALUE=DATE:20250320
DTSTAMP:20260421T080850
CREATED:20250227T211854Z
LAST-MODIFIED:20250227T211854Z
UID:10078230-1742259600-1742345999@bhamnow.com
SUMMARY:Art with Spin: Sculptures by Corinne Cox
DESCRIPTION:Library: Central Library\nLocation: Central Library\nCentral Room: Art Gallery (East 1st Floor)\nEvent Kind: One-time\nContact Name: Margaret Splane\nContact Phone Number: 205-226-3728\nContact Email: margaret.splane@cobpl.org\nCategory: Art & Exhibits\,Arts & Crafts\nAudience: Children\,Tweens\,Teens\,Adults\,Seniors\nRegistration Required: No\nDescription: Art with Spin is an exhibition of whimsical\, raku-fired sculptures made by ceramist Corinne Cox. Some of the featured pieces include depictions of imaginary creatures perched in open books and sculptures of what Cox calls â€œspinning headsâ€ topped with fantastical objects and animals. A reception for the artist will take place on Saturday\, March 15\, from 3:00 to 5:00 on the first floor.\nEvent Type: Art & Exhibits\,Arts & Crafts \nArt with Spin is an exhibition of whimsical\, raku-fired sculptures made by ceramist Corinne Cox. Some of the featured pieces include depictions of imaginary creatures perched in open books and sculptures of what Cox calls â€œspinning headsâ€ topped with fantastical objects and animals. A reception for the artist will take place on Saturday\, March 15\, from 3:00 to 5:00 on the first floor.
URL:https://bhamnow.com/bhamn-event/art-with-spin-sculptures-by-corinne-cox-9/
LOCATION:Central Library\, Art Gallery (East 1st Floor)
CATEGORIES:Birmingham Public Library Calendar,Community
END:VEVENT
BEGIN:VEVENT
DTSTART;VALUE=DATE:20250317
DTEND;VALUE=DATE:20250319
DTSTAMP:20260421T080850
CREATED:20250227T211900Z
LAST-MODIFIED:20250227T211900Z
UID:10078228-1742173200-1742259599@bhamnow.com
SUMMARY:Art with Spin: Sculptures by Corinne Cox
DESCRIPTION:Library: Central Library\nLocation: Central Library\nCentral Room: Art Gallery (East 1st Floor)\nEvent Kind: One-time\nContact Name: Margaret Splane\nContact Phone Number: 205-226-3728\nContact Email: margaret.splane@cobpl.org\nCategory: Art & Exhibits\,Arts & Crafts\nAudience: Children\,Tweens\,Teens\,Adults\,Seniors\nRegistration Required: No\nDescription: Art with Spin is an exhibition of whimsical\, raku-fired sculptures made by ceramist Corinne Cox. Some of the featured pieces include depictions of imaginary creatures perched in open books and sculptures of what Cox calls â€œspinning headsâ€ topped with fantastical objects and animals. A reception for the artist will take place on Saturday\, March 15\, from 3:00 to 5:00 on the first floor.\nEvent Type: Art & Exhibits\,Arts & Crafts \nArt with Spin is an exhibition of whimsical\, raku-fired sculptures made by ceramist Corinne Cox. Some of the featured pieces include depictions of imaginary creatures perched in open books and sculptures of what Cox calls â€œspinning headsâ€ topped with fantastical objects and animals. A reception for the artist will take place on Saturday\, March 15\, from 3:00 to 5:00 on the first floor.
URL:https://bhamnow.com/bhamn-event/art-with-spin-sculptures-by-corinne-cox-10/
LOCATION:Central Library\, Art Gallery (East 1st Floor)
CATEGORIES:Birmingham Public Library Calendar,Community
END:VEVENT
BEGIN:VEVENT
DTSTART;VALUE=DATE:20250316
DTEND;VALUE=DATE:20250318
DTSTAMP:20260421T080850
CREATED:20250227T212244Z
LAST-MODIFIED:20250227T212244Z
UID:10078217-1742086800-1742173199@bhamnow.com
SUMMARY:Art with Spin: Sculptures by Corinne Cox
DESCRIPTION:Library: Central Library\nLocation: Central Library\nCentral Room: Art Gallery (East 1st Floor)\nEvent Kind: One-time\nContact Name: Margaret Splane\nContact Phone Number: 205-226-3728\nContact Email: margaret.splane@cobpl.org\nCategory: Art & Exhibits\,Arts & Crafts\nAudience: Children\,Tweens\,Teens\,Adults\,Seniors\nRegistration Required: No\nDescription: Art with Spin is an exhibition of whimsical\, raku-fired sculptures made by ceramist Corinne Cox. Some of the featured pieces include depictions of imaginary creatures perched in open books and sculptures of what Cox calls â€œspinning headsâ€ topped with fantastical objects and animals. A reception for the artist will take place on Saturday\, March 15\, from 3:00 to 5:00 on the first floor.\nEvent Type: Art & Exhibits\,Arts & Crafts \nArt with Spin is an exhibition of whimsical\, raku-fired sculptures made by ceramist Corinne Cox. Some of the featured pieces include depictions of imaginary creatures perched in open books and sculptures of what Cox calls â€œspinning headsâ€ topped with fantastical objects and animals. A reception for the artist will take place on Saturday\, March 15\, from 3:00 to 5:00 on the first floor.
URL:https://bhamnow.com/bhamn-event/art-with-spin-sculptures-by-corinne-cox-12/
LOCATION:Central Library\, Art Gallery (East 1st Floor)
CATEGORIES:Birmingham Public Library Calendar,Community
END:VEVENT
BEGIN:VEVENT
DTSTART;VALUE=DATE:20250315
DTEND;VALUE=DATE:20250317
DTSTAMP:20260421T080850
CREATED:20250227T211932Z
LAST-MODIFIED:20250227T211932Z
UID:10078218-1742000400-1742086799@bhamnow.com
SUMMARY:Art with Spin: Sculptures by Corinne Cox
DESCRIPTION:Library: Central Library\nLocation: Central Library\nCentral Room: Art Gallery (East 1st Floor)\nEvent Kind: One-time\nContact Name: Margaret Splane\nContact Phone Number: 205-226-3728\nContact Email: margaret.splane@cobpl.org\nCategory: Art & Exhibits\,Arts & Crafts\nAudience: Children\,Tweens\,Teens\,Adults\,Seniors\nRegistration Required: No\nDescription: Art with Spin is an exhibition of whimsical\, raku-fired sculptures made by ceramist Corinne Cox. Some of the featured pieces include depictions of imaginary creatures perched in open books and sculptures of what Cox calls â€œspinning headsâ€ topped with fantastical objects and animals. A reception for the artist will take place on Saturday\, March 15\, from 3:00 to 5:00 on the first floor.\nEvent Type: Art & Exhibits\,Arts & Crafts \nArt with Spin is an exhibition of whimsical\, raku-fired sculptures made by ceramist Corinne Cox. Some of the featured pieces include depictions of imaginary creatures perched in open books and sculptures of what Cox calls â€œspinning headsâ€ topped with fantastical objects and animals. A reception for the artist will take place on Saturday\, March 15\, from 3:00 to 5:00 on the first floor.
URL:https://bhamnow.com/bhamn-event/art-with-spin-sculptures-by-corinne-cox-11/
LOCATION:Central Library\, Art Gallery (East 1st Floor)
CATEGORIES:Birmingham Public Library Calendar,Community
END:VEVENT
BEGIN:VEVENT
DTSTART;VALUE=DATE:20250314
DTEND;VALUE=DATE:20250316
DTSTAMP:20260421T080850
CREATED:20250226T194739Z
LAST-MODIFIED:20250227T185549Z
UID:10077123-1741914000-1742000399@bhamnow.com
SUMMARY:Art with Spin: Sculptures by Corinne Cox
DESCRIPTION:Library: Central Library\nLocation: Central Library\nCentral Room: Art Gallery (East 1st Floor)\nEvent Kind: One-time\nContact Name: Margaret Splane\nContact Phone Number: 205-226-3728\nContact Email: margaret.splane@cobpl.org\nCategory: Art & Exhibits\,Arts & Crafts\nAudience: Children\,Tweens\,Teens\,Adults\,Seniors\nRegistration Required: No\nDescription: Art with Spin is an exhibition of whimsical\, raku-fired sculptures made by ceramist Corinne Cox. Some of the featured pieces include depictions of imaginary creatures perched in open books and sculptures of what Cox calls â€œspinning headsâ€ topped with fantastical objects and animals. A reception for the artist will take place on Saturday\, March 15\, from 3:00 to 5:00 on the first floor.\nEvent Type: Art & Exhibits\,Arts & Crafts \nArt with Spin is an exhibition of whimsical\, raku-fired sculptures made by ceramist Corinne Cox. Some of the featured pieces include depictions of imaginary creatures perched in open books and sculptures of what Cox calls â€œspinning headsâ€ topped with fantastical objects and animals. A reception for the artist will take place on Saturday\, March 15\, from 3:00 to 5:00 on the first floor.
URL:https://bhamnow.com/bhamn-event/art-with-spin-sculptures-by-corinne-cox-8/
LOCATION:Central Library\, Art Gallery (East 1st Floor)
CATEGORIES:Birmingham Public Library Calendar,Community
END:VEVENT
BEGIN:VEVENT
DTSTART;VALUE=DATE:20250313
DTEND;VALUE=DATE:20250315
DTSTAMP:20260421T080850
CREATED:20250226T194712Z
LAST-MODIFIED:20250227T185607Z
UID:10077127-1741827600-1741913999@bhamnow.com
SUMMARY:Art with Spin: Sculptures by Corinne Cox
DESCRIPTION:Library: Central Library\nLocation: Central Library\nCentral Room: Art Gallery (East 1st Floor)\nEvent Kind: One-time\nContact Name: Margaret Splane\nContact Phone Number: 205-226-3728\nContact Email: margaret.splane@cobpl.org\nCategory: Art & Exhibits\,Arts & Crafts\nAudience: Children\,Tweens\,Teens\,Adults\,Seniors\nRegistration Required: No\nDescription: Art with Spin is an exhibition of whimsical\, raku-fired sculptures made by ceramist Corinne Cox. Some of the featured pieces include depictions of imaginary creatures perched in open books and sculptures of what Cox calls â€œspinning headsâ€ topped with fantastical objects and animals. A reception for the artist will take place on Saturday\, March 15\, from 3:00 to 5:00 on the first floor.\nEvent Type: Art & Exhibits\,Arts & Crafts \nArt with Spin is an exhibition of whimsical\, raku-fired sculptures made by ceramist Corinne Cox. Some of the featured pieces include depictions of imaginary creatures perched in open books and sculptures of what Cox calls â€œspinning headsâ€ topped with fantastical objects and animals. A reception for the artist will take place on Saturday\, March 15\, from 3:00 to 5:00 on the first floor.
URL:https://bhamnow.com/bhamn-event/art-with-spin-sculptures-by-corinne-cox-7/
LOCATION:Central Library\, Art Gallery (East 1st Floor)
CATEGORIES:Birmingham Public Library Calendar,Community
END:VEVENT
BEGIN:VEVENT
DTSTART;VALUE=DATE:20250312
DTEND;VALUE=DATE:20250316
DTSTAMP:20260421T080850
CREATED:20250225T161956Z
LAST-MODIFIED:20250227T185609Z
UID:10077067-1741741200-1742000399@bhamnow.com
SUMMARY:Art with Spin: Sculptures by Corinne Cox
DESCRIPTION:Library: Central Library\nLocation: Central Library\nCentral Room: Art Gallery (East 1st Floor)\nEvent Kind: One-time\nContact Name: Margaret Splane\nContact Phone Number: 205-226-3728\nContact Email: margaret.splane@cobpl.org\nCategory: Art & Exhibits\,Arts & Crafts\nAudience: Children\,Tweens\,Teens\,Adults\,Seniors\nRegistration Required: No\nDescription: Art with Spin is an exhibition of whimsical\, raku-fired sculptures made by ceramist Corinne Cox. Some of the featured pieces include depictions of imaginary creatures perched in open books and sculptures of what Cox calls â€œspinning headsâ€ topped with fantastical objects and animals. A reception for the artist will take place on Saturday\, March 15\, from 3:00 to 5:00 on the first floor.\nEvent Type: Art & Exhibits\,Arts & Crafts \nArt with Spin is an exhibition of whimsical\, raku-fired sculptures made by ceramist Corinne Cox. Some of the featured pieces include depictions of imaginary creatures perched in open books and sculptures of what Cox calls â€œspinning headsâ€ topped with fantastical objects and animals. A reception for the artist will take place on Saturday\, March 15\, from 3:00 to 5:00 on the first floor.
URL:https://bhamnow.com/bhamn-event/art-with-spin-sculptures-by-corinne-cox/
LOCATION:Central Library\, Art Gallery (East 1st Floor)
CATEGORIES:Birmingham Public Library Calendar,Community
END:VEVENT
BEGIN:VEVENT
DTSTART;VALUE=DATE:20250311
DTEND;VALUE=DATE:20250313
DTSTAMP:20260421T080850
CREATED:20250225T234233Z
LAST-MODIFIED:20250227T185458Z
UID:10077065-1741654800-1741741199@bhamnow.com
SUMMARY:Art with Spin: Sculptures by Corinne Cox
DESCRIPTION:Library: Central LibraryLocation: Central LibraryCentral Room: Art Gallery (East 1st Floor)Event Kind: One-timeContact Name: Margaret SplaneContact Phone Number: 205-226-3728Contact Email: margaret.splane@cobpl.orgCategory: Art & Exhibits\,Arts & CraftsAudience: Children\,Tweens\,Teens\,Adults\,SeniorsRegistration Required: NoDescription: Art with Spin is an exhibition of whimsical\, raku-fired sculptures made by ceramist Corinne Cox. Some of the featured pieces include depictions of imaginary creatures perched in open books and sculptures of what Cox calls â€œspinning headsâ€ topped with fantastical objects and animals. A reception for the artist will take place on Saturday\, March 15\, from 3:00 to 5:00 on the first floor.Event Type: Art & Exhibits\,Arts & Crafts \nArt with Spin is an exhibition of whimsical\, raku-fired sculptures made by ceramist Corinne Cox. Some of the featured pieces include depictions of imaginary creatures perched in open books and sculptures of what Cox calls â€œspinning headsâ€ topped with fantastical objects and animals. A reception for the artist will take place on Saturday\, March 15\, from 3:00 to 5:00 on the first floor.
URL:https://bhamnow.com/bhamn-event/art-with-spin-sculptures-by-corinne-cox-6/
LOCATION:Central Library\, Art Gallery (East 1st Floor)
CATEGORIES:Birmingham Public Library Calendar,Community
END:VEVENT
BEGIN:VEVENT
DTSTART;VALUE=DATE:20250310
DTEND;VALUE=DATE:20250312
DTSTAMP:20260421T080850
CREATED:20250225T233833Z
LAST-MODIFIED:20250227T185416Z
UID:10077064-1741568400-1741654799@bhamnow.com
SUMMARY:Art with Spin: Sculptures by Corinne Cox
DESCRIPTION:Library: Central LibraryLocation: Central LibraryCentral Room: Art Gallery (East 1st Floor)Event Kind: One-timeContact Name: Margaret SplaneContact Phone Number: 205-226-3728Contact Email: margaret.splane@cobpl.orgCategory: Art & Exhibits\,Arts & CraftsAudience: Children\,Tweens\,Teens\,Adults\,SeniorsRegistration Required: NoDescription: Art with Spin is an exhibition of whimsical\, raku-fired sculptures made by ceramist Corinne Cox. Some of the featured pieces include depictions of imaginary creatures perched in open books and sculptures of what Cox calls â€œspinning headsâ€ topped with fantastical objects and animals. A reception for the artist will take place on Saturday\, March 15\, from 3:00 to 5:00 on the first floor.Event Type: Art & Exhibits\,Arts & Crafts \nArt with Spin is an exhibition of whimsical\, raku-fired sculptures made by ceramist Corinne Cox. Some of the featured pieces include depictions of imaginary creatures perched in open books and sculptures of what Cox calls â€œspinning headsâ€ topped with fantastical objects and animals. A reception for the artist will take place on Saturday\, March 15\, from 3:00 to 5:00 on the first floor.
URL:https://bhamnow.com/bhamn-event/art-with-spin-sculptures-by-corinne-cox-2/
LOCATION:Central Library\, Art Gallery (East 1st Floor)
CATEGORIES:Birmingham Public Library Calendar,Community
END:VEVENT
BEGIN:VEVENT
DTSTART;VALUE=DATE:20250309
DTEND;VALUE=DATE:20250311
DTSTAMP:20260421T080850
CREATED:20250225T233852Z
LAST-MODIFIED:20250227T185354Z
UID:10077063-1741482000-1741568399@bhamnow.com
SUMMARY:Art with Spin: Sculptures by Corinne Cox
DESCRIPTION:Library: Central LibraryLocation: Central LibraryCentral Room: Art Gallery (East 1st Floor)Event Kind: One-timeContact Name: Margaret SplaneContact Phone Number: 205-226-3728Contact Email: margaret.splane@cobpl.orgCategory: Art & Exhibits\,Arts & CraftsAudience: Children\,Tweens\,Teens\,Adults\,SeniorsRegistration Required: NoDescription: Art with Spin is an exhibition of whimsical\, raku-fired sculptures made by ceramist Corinne Cox. Some of the featured pieces include depictions of imaginary creatures perched in open books and sculptures of what Cox calls â€œspinning headsâ€ topped with fantastical objects and animals. A reception for the artist will take place on Saturday\, March 15\, from 3:00 to 5:00 on the first floor.Event Type: Art & Exhibits\,Arts & Crafts \nArt with Spin is an exhibition of whimsical\, raku-fired sculptures made by ceramist Corinne Cox. Some of the featured pieces include depictions of imaginary creatures perched in open books and sculptures of what Cox calls â€œspinning headsâ€ topped with fantastical objects and animals. A reception for the artist will take place on Saturday\, March 15\, from 3:00 to 5:00 on the first floor.
URL:https://bhamnow.com/bhamn-event/art-with-spin-sculptures-by-corinne-cox-3/
LOCATION:Central Library\, Art Gallery (East 1st Floor)
CATEGORIES:Birmingham Public Library Calendar,Community
END:VEVENT
BEGIN:VEVENT
DTSTART;VALUE=DATE:20250308
DTEND;VALUE=DATE:20250315
DTSTAMP:20260421T080850
CREATED:20250225T233855Z
LAST-MODIFIED:20250307T212157Z
UID:10077061-1741395600-1741913999@bhamnow.com
SUMMARY:Art with Spin: Sculptures by Corinne Cox
DESCRIPTION:Attend this fun exhibition of whimsical\, raku-fired sculptures made by ceramist Corinne Cox. Some of the featured pieces include depictions of imaginary creatures perched in open books and sculptures of what Cox calls â€œspinning headsâ€ topped with fantastical objects and animals.
URL:https://bhamnow.com/bhamn-event/art-with-spin-sculptures-by-corinne-cox-4/
LOCATION:Central Library\, Art Gallery (East 1st Floor)
CATEGORIES:Birmingham Public Library Calendar,Community
ATTACH;FMTTYPE=image/jpeg:https://bhamnow.com/wp-content/uploads/2025/02/DgA-jokU1lwe-9O7rI6-kN89.jpg
END:VEVENT
END:VCALENDAR