BEGIN:VCALENDAR
VERSION:2.0
PRODID:-//Bham Now - ECPv6.15.20//NONSGML v1.0//EN
CALSCALE:GREGORIAN
METHOD:PUBLISH
X-WR-CALNAME:Bham Now
X-ORIGINAL-URL:https://bhamnow.com
X-WR-CALDESC:Events for Bham Now
REFRESH-INTERVAL;VALUE=DURATION:PT1H
X-Robots-Tag:noindex
X-PUBLISHED-TTL:PT1H
BEGIN:VTIMEZONE
TZID:America/Chicago
BEGIN:DAYLIGHT
TZOFFSETFROM:-0600
TZOFFSETTO:-0500
TZNAME:CDT
DTSTART:20250309T080000
END:DAYLIGHT
BEGIN:STANDARD
TZOFFSETFROM:-0500
TZOFFSETTO:-0600
TZNAME:CST
DTSTART:20251102T070000
END:STANDARD
BEGIN:DAYLIGHT
TZOFFSETFROM:-0600
TZOFFSETTO:-0500
TZNAME:CDT
DTSTART:20260308T080000
END:DAYLIGHT
BEGIN:STANDARD
TZOFFSETFROM:-0500
TZOFFSETTO:-0600
TZNAME:CST
DTSTART:20261101T070000
END:STANDARD
BEGIN:DAYLIGHT
TZOFFSETFROM:-0600
TZOFFSETTO:-0500
TZNAME:CDT
DTSTART:20270314T080000
END:DAYLIGHT
BEGIN:STANDARD
TZOFFSETFROM:-0500
TZOFFSETTO:-0600
TZNAME:CST
DTSTART:20271107T070000
END:STANDARD
END:VTIMEZONE
BEGIN:VEVENT
DTSTART;TZID=America/Chicago:20260401T130000
DTEND;TZID=America/Chicago:20260401T140000
DTSTAMP:20260421T155117
CREATED:20260307T015156Z
LAST-MODIFIED:20260401T040308Z
UID:10092868-1775048400-1775052000@bhamnow.com
SUMMARY:Walking Wednesdays
DESCRIPTION:Join Hoover Parks and Recreation staff and community members for a walk in the park! These events generally last an hour and we usually walk a mile or two\, but some folks may go a little longer and others may leave a little early. Come as you are and hang as long as you like.   \nFor more information message Jamie.Foster@HooverAlabama.Gov https://www.hooveralabama.gov/calendar.aspx?EID=11391
URL:https://bhamnow.com/bhamn-event/walking-wednesdays-2/
LOCATION:Cahaba Riverchase Greenway – 3999 Lorna Road  Hoover AL 32544
CATEGORIES:Fun
END:VEVENT
END:VCALENDAR