BEGIN:VCALENDAR
VERSION:2.0
PRODID:-//Bham Now - ECPv6.15.20//NONSGML v1.0//EN
CALSCALE:GREGORIAN
METHOD:PUBLISH
X-ORIGINAL-URL:https://bhamnow.com
X-WR-CALDESC:Events for Bham Now
REFRESH-INTERVAL;VALUE=DURATION:PT1H
X-Robots-Tag:noindex
X-PUBLISHED-TTL:PT1H
BEGIN:VTIMEZONE
TZID:America/Chicago
BEGIN:DAYLIGHT
TZOFFSETFROM:-0600
TZOFFSETTO:-0500
TZNAME:CDT
DTSTART:20250309T080000
END:DAYLIGHT
BEGIN:STANDARD
TZOFFSETFROM:-0500
TZOFFSETTO:-0600
TZNAME:CST
DTSTART:20251102T070000
END:STANDARD
BEGIN:DAYLIGHT
TZOFFSETFROM:-0600
TZOFFSETTO:-0500
TZNAME:CDT
DTSTART:20260308T080000
END:DAYLIGHT
BEGIN:STANDARD
TZOFFSETFROM:-0500
TZOFFSETTO:-0600
TZNAME:CST
DTSTART:20261101T070000
END:STANDARD
BEGIN:DAYLIGHT
TZOFFSETFROM:-0600
TZOFFSETTO:-0500
TZNAME:CDT
DTSTART:20270314T080000
END:DAYLIGHT
BEGIN:STANDARD
TZOFFSETFROM:-0500
TZOFFSETTO:-0600
TZNAME:CST
DTSTART:20271107T070000
END:STANDARD
END:VTIMEZONE
BEGIN:VEVENT
DTSTART;TZID=America/Chicago:20260421T193000
DTEND;TZID=America/Chicago:20260421T193000
DTSTAMP:20260420T222738
CREATED:20260411T153804Z
LAST-MODIFIED:20260415T134952Z
UID:10097995-1776799800-1776799800@bhamnow.com
SUMMARY:An Evening with David Sedaris
DESCRIPTION:“David Sedaris is smart\, he’s caustic\, he’s mordant\, and\, somehow\, he’s . . . well\, nice.” —Bill Richardson\, Toronto Globe and Mail David Sedaris’ sardonic wit and incisive social critiques make him one of America’s most treasured voices. Likened to a modern-day Mark Twain\, he is noted for his ability to draw humorous\, touching\, and universal observations about human nature from his own\, often quirky\, experiences. With wickedly funny irreverence and occasional potty humor\, he will once again delight the audience as he shares both published stories and works-in-progress. If we must live in interesting times\, there is no one better to chronicle them than the incomparable David Sedaris.       Events at the BJCC provide the community with a variety of programming that showcases a wide spectrum of entertainment content\, points of view and opinions.  The entertainment content\, views and opinions expressed in these works or performances are solely those of the performer\, artist or producer and do not necessarily reflect the values or opinions of the BJCC.
URL:https://bhamnow.com/bhamn-event/an-evening-with-david-sedaris-2/
LOCATION:BJCC Concert Hall\, 2100 Richard Arrington Blvd N\, Birmingham\, AL\, 35203\, United States
CATEGORIES:Comedy,Fun
ATTACH;FMTTYPE=image/jpeg:https://bhamnow.com/wp-content/uploads/2026/04/EDP_DavidSedaris-Tmw0eL.jpg
GEO:33.5249488;-86.8082265
X-APPLE-STRUCTURED-LOCATION;VALUE=URI;X-ADDRESS=BJCC Concert Hall 2100 Richard Arrington Blvd N Birmingham AL 35203 United States;X-APPLE-RADIUS=500;X-TITLE=2100 Richard Arrington Blvd N:geo:-86.8082265,33.5249488
END:VEVENT
BEGIN:VEVENT
DTSTART;TZID=America/Chicago:20260425T193000
DTEND;TZID=America/Chicago:20260425T210000
DTSTAMP:20260420T222738
CREATED:20260411T153810Z
LAST-MODIFIED:20260415T134954Z
UID:10097998-1777145400-1777150800@bhamnow.com
SUMMARY:The Black Jacket Symphony presents KISS “Destroyer”
DESCRIPTION:Remember putting on an album and listening from start to finish?  Relive that moment with a live concert experience unlike any other as The Black Jacket Symphony recreates a select classic album live in its entirety—note for note\, sound for sound—plus a full set of greatest hits from the evening’s artist.  Over the past thirteen years\, the Black Jacket Symphony has performed over 40 classic rock albums\, bringing an incredible night of entertainment to over a million music lovers across the US.  The group of hand-picked musicians changes based upon the album being performed—and no sonic detail is overlooked\, with the musicians doing whatever it takes to reproduce the album. It’s a full night of rock and roll magic—plus a visual experience unlike any other. Fans across the country flock to their shows—and once you see one\, you won’t miss another!   Events at the BJCC provide the community with a variety of programming that showcases a wide spectrum of entertainment content\, points of view and opinions.  The entertainment content\, views and opinions expressed in these works or performances are solely those of the performer\, artist or producer and do not necessarily reflect the values or opinions of the BJCC.
URL:https://bhamnow.com/bhamn-event/the-black-jacket-symphony-presents-kiss-destroyer-2/
LOCATION:BJCC Concert Hall\, 2100 Richard Arrington Blvd N\, Birmingham\, AL\, 35203\, United States
CATEGORIES:Concerts,Family,Fun
ATTACH;FMTTYPE=image/png:https://bhamnow.com/wp-content/uploads/2026/04/EDP_BJS-Kiss-5ofT2t.png
GEO:33.5249488;-86.8082265
X-APPLE-STRUCTURED-LOCATION;VALUE=URI;X-ADDRESS=BJCC Concert Hall 2100 Richard Arrington Blvd N Birmingham AL 35203 United States;X-APPLE-RADIUS=500;X-TITLE=2100 Richard Arrington Blvd N:geo:-86.8082265,33.5249488
END:VEVENT
BEGIN:VEVENT
DTSTART;TZID=America/Chicago:20260508T190000
DTEND;TZID=America/Chicago:20260510T133000
DTSTAMP:20260420T222738
CREATED:20260415T135001Z
LAST-MODIFIED:20260415T135001Z
UID:10098038-1778266800-1778419800@bhamnow.com
SUMMARY:Alabama Ballet presents Unbound: Serenade and Carmina Burana with Alabama Symphony Orchestra
DESCRIPTION:Prepare for an electrifying evening of music and movement as Alabama Ballet presents Unbound: Serenade & Carmina Burana with the Alabama Symphony Orchestra. The program opens with George Balanchine’s Serenade\, celebrating 90 years as a luminous neoclassical masterpiece set to Tchaikovsky’s sweeping score. Then\, the mood shifts as Carmina Burana\, choreographed by Paul Vasterling\, ignites the stage with raw intensity—Carl Orff’s thunderous\, pulsing score drives a bold and provocative exploration of fate\, passion\, and indulgence. From ethereal beauty to unbridled revelry\, this exhilarating performance promises a night of contrast\, drama\, and unforgettable artistry.     Events at the BJCC provide the community with a variety of programming that showcases a wide spectrum of entertainment content\, points of view and opinions.  The entertainment content\, views and opinions expressed in these works or performances are solely those of the performer\, artist or producer and do not necessarily reflect the values or opinions of the BJCC.
URL:https://bhamnow.com/bhamn-event/alabama-ballet-presents-unbound-serenade-and-carmina-burana-with-alabama-symphony-orchestra-2/
LOCATION:BJCC Concert Hall\, 2100 Richard Arrington Blvd N\, Birmingham\, AL\, 35203\, United States
CATEGORIES:Concerts,Fun,Performing Arts
ATTACH;FMTTYPE=image/jpeg:https://bhamnow.com/wp-content/uploads/2026/04/EDP_unbound-sZW36v.jpg
GEO:33.5249488;-86.8082265
X-APPLE-STRUCTURED-LOCATION;VALUE=URI;X-ADDRESS=BJCC Concert Hall 2100 Richard Arrington Blvd N Birmingham AL 35203 United States;X-APPLE-RADIUS=500;X-TITLE=2100 Richard Arrington Blvd N:geo:-86.8082265,33.5249488
END:VEVENT
BEGIN:VEVENT
DTSTART;TZID=America/Chicago:20260519T193000
DTEND;TZID=America/Chicago:20260519T223000
DTSTAMP:20260420T222738
CREATED:20250522T181501Z
LAST-MODIFIED:20250522T181501Z
UID:10081828-1779219000-1779229800@bhamnow.com
SUMMARY:& JULIET
DESCRIPTION:Created by the Emmy®-winning writer from “Schitt’s Creek\,” this hilarious new musical flips the script on the greatest love story ever told. & JULIET asks: what would happen next if Juliet didn’t end it all over Romeo? Get whisked away on a fabulous journey as she ditches her famous ending for a fresh beginning and a second chance at life and love—her way. \nJuliet’s new story bursts to life through a playlist of pop anthems as iconic as her name\, including “Since U Been Gone‚” “Roar\,” “Baby One More Time\,” “Larger Than Life‚” “That’s The Way It Is\,“ and “Can’t Stop the Feeling!”—all from the genius songwriter/producer behind more #1 hits than any other artist this century. Break free of the balcony scene and get into this romantic comedy that proves there’s life after Romeo. The only thing tragic would be missing it. \nPerformance Schedule:\nTuesday\, May 19\, 2026 – 7:30 p.m.\nWednesday\, May 20\, 2026 – 7:30 p.m.\nThursday\, May 21\, 2026 – 7:30 p.m.\nFriday\, May 22\, 2026 – 7:30 p.m.\nSaturday\, May 23\, 2026 – 2:00 & 7:30 p.m.\nSunday\, May 24\, 2026 – 1:00 & 6:30 p.m.
URL:https://bhamnow.com/bhamn-event/juliet/2026-05-19/
LOCATION:BJCC Concert Hall\, 2100 Richard Arrington Blvd N\, Birmingham\, AL\, 35203\, United States
CATEGORIES:Events
ATTACH;FMTTYPE=image/jpeg:https://bhamnow.com/wp-content/uploads/2025/05/Teal-Wicks-and-Rachel-Simone-Webb-in-the-North-American-Tour-of-JULIET-Photo-Credit-Matthew-Murphy-scaled.jpg
GEO:33.5249488;-86.8082265
X-APPLE-STRUCTURED-LOCATION;VALUE=URI;X-ADDRESS=BJCC Concert Hall 2100 Richard Arrington Blvd N Birmingham AL 35203 United States;X-APPLE-RADIUS=500;X-TITLE=2100 Richard Arrington Blvd N:geo:-86.8082265,33.5249488
END:VEVENT
BEGIN:VEVENT
DTSTART;TZID=America/Chicago:20260616T193000
DTEND;TZID=America/Chicago:20260616T223000
DTSTAMP:20260420T222738
CREATED:20250527T151515Z
LAST-MODIFIED:20250527T151515Z
UID:10081857-1781638200-1781649000@bhamnow.com
SUMMARY:MRS. DOUBTFIRE
DESCRIPTION:Everyone’s favorite Scottish nanny is headed to Birmingham in this internationally acclaimed hit musical critics call “wonderful\, heart-warming\, and laugh-out-loud funny” (Manchester Evening News) and “a feel-good\, family-friendly comedy that delivers” (The Hollywood Reporter). Based on the beloved film\, MRS. DOUBTFIRE tells the hysterical and heartfelt story of an out-of-work actor who will do anything for his kids. It’s “the lovable\, big-hearted musical comedy we need right now\,” raves the Chicago Tribune – one that proves we’re better together. \nPerformance Schedule:\nTuesday\, June 16\, 2026 – 7:30 p.m.\nWednesday\, June 17\, 2026 – 7:30 p.m.\nThursday\, June 18\, 2026 – 7:30 p.m.\nFriday\, June 19\, 2026 – 7:30 p.m.\nSaturday\, June 20\, 2026 – 2:00 & 7:30 p.m.\nSunday\, June 21\, 2026 – 1:00 & 6:30 p.m.
URL:https://bhamnow.com/bhamn-event/mrs-doubtfire/2026-06-16/
LOCATION:BJCC Concert Hall\, 2100 Richard Arrington Blvd N\, Birmingham\, AL\, 35203\, United States
ATTACH;FMTTYPE=image/jpeg:https://bhamnow.com/wp-content/uploads/2025/05/MDF2024JP_50806_RT_LRG-scaled.jpg
GEO:33.5249488;-86.8082265
X-APPLE-STRUCTURED-LOCATION;VALUE=URI;X-ADDRESS=BJCC Concert Hall 2100 Richard Arrington Blvd N Birmingham AL 35203 United States;X-APPLE-RADIUS=500;X-TITLE=2100 Richard Arrington Blvd N:geo:-86.8082265,33.5249488
END:VEVENT
END:VCALENDAR