BEGIN:VCALENDAR
VERSION:2.0
PRODID:-//Bham Now - ECPv6.15.20//NONSGML v1.0//EN
CALSCALE:GREGORIAN
METHOD:PUBLISH
X-WR-CALNAME:Bham Now
X-ORIGINAL-URL:https://bhamnow.com
X-WR-CALDESC:Events for Bham Now
REFRESH-INTERVAL;VALUE=DURATION:PT1H
X-Robots-Tag:noindex
X-PUBLISHED-TTL:PT1H
BEGIN:VTIMEZONE
TZID:America/Chicago
BEGIN:DAYLIGHT
TZOFFSETFROM:-0600
TZOFFSETTO:-0500
TZNAME:CDT
DTSTART:20240310T080000
END:DAYLIGHT
BEGIN:STANDARD
TZOFFSETFROM:-0500
TZOFFSETTO:-0600
TZNAME:CST
DTSTART:20241103T070000
END:STANDARD
BEGIN:DAYLIGHT
TZOFFSETFROM:-0600
TZOFFSETTO:-0500
TZNAME:CDT
DTSTART:20250309T080000
END:DAYLIGHT
BEGIN:STANDARD
TZOFFSETFROM:-0500
TZOFFSETTO:-0600
TZNAME:CST
DTSTART:20251102T070000
END:STANDARD
BEGIN:DAYLIGHT
TZOFFSETFROM:-0600
TZOFFSETTO:-0500
TZNAME:CDT
DTSTART:20260308T080000
END:DAYLIGHT
BEGIN:STANDARD
TZOFFSETFROM:-0500
TZOFFSETTO:-0600
TZNAME:CST
DTSTART:20261101T070000
END:STANDARD
END:VTIMEZONE
BEGIN:VEVENT
DTSTART;TZID=America/Chicago:20251116T110000
DTEND;TZID=America/Chicago:20251116T160000
DTSTAMP:20260421T063716
CREATED:20251027T150816Z
LAST-MODIFIED:20251027T150816Z
UID:10087287-1763290800-1763308800@bhamnow.com
SUMMARY:Christmas Bazaar at Birmingham Festival Theatre
DESCRIPTION:🎅🏽 It’s the most wonderful time of the year—at Birmingham Festival Theatre! 🎄 \nJoin us for our Christmas Bazaar on Sunday\, November 16\, 2025\, from 11AM–4PM 🎁\nShop local vendors\, enjoy holiday treats\, and even snap pictures with Santa! 📸 \nCome find the perfect gift\, support small businesses\, and experience a little holiday magic right here at BFT. \n🎟️ Admission is free!\n📍 Birmingham Festival Theatre \n#BFT #BirminghamFestivalTheatre #ChristmasBazaar #HolidayMarket #ShopLocal #SupportSmallBusiness #ChristmasAtBFT
URL:https://bhamnow.com/bhamn-event/christmas-bazaar-at-birmingham-festival-theatre/
LOCATION:Birmingham Festival Theatre\, 1901 1/2 11th Avenue South\, Birmingham\, AL\, 35205\, United States
CATEGORIES:Community,Downtown,Events,Family Festival,Festivals,Food Trucks,Holidays,Shopping
ATTACH;FMTTYPE=image/png:https://bhamnow.com/wp-content/uploads/2025/10/300C0B78-4C87-453C-9FB6-68358C1D46BF.png
GEO:33.4998589;-86.7973021
X-APPLE-STRUCTURED-LOCATION;VALUE=URI;X-ADDRESS=Birmingham Festival Theatre 1901 1/2 11th Avenue South Birmingham AL 35205 United States;X-APPLE-RADIUS=500;X-TITLE=1901 1/2 11th Avenue South:geo:-86.7973021,33.4998589
END:VEVENT
BEGIN:VEVENT
DTSTART;TZID=America/Chicago:20250831T193000
DTEND;TZID=America/Chicago:20250831T213000
DTSTAMP:20260421T063716
CREATED:20250825T163456Z
LAST-MODIFIED:20250825T163502Z
UID:10084031-1756668600-1756675800@bhamnow.com
SUMMARY:She Kills Monsters
DESCRIPTION:Birmingham Festival Theatre presents She Kills Monsters. This play tells the story of Agnes Evans as she leaves her childhood home in Ohio following the death of her teenage sister\, Tilly. When Agnes finds Tilly’s Dungeons & Dragons notebook\, however\, she finds herself catapulted into a journey of discovery and action-packed adventure in the imaginary world that was her sister’s refuge. In this high-octane dramatic comedy laden with homicidal fairies\, nasty ogres\, and 90s pop culture\, acclaimed playwright Qui Nguyen offers a heart-pounding homage to the geek and warrior within us all.\nFriday\, August 29\, will be pay what you can!
URL:https://bhamnow.com/bhamn-event/she-kills-monsters/2025-08-31/
LOCATION:Birmingham Festival Theatre\, 1901 1/2 11th Avenue South\, Birmingham\, AL\, 35205\, United States
CATEGORIES:Downtown
ATTACH;FMTTYPE=image/jpeg:https://bhamnow.com/wp-content/uploads/2025/08/IMG_9426.jpeg
GEO:33.4998589;-86.7973021
X-APPLE-STRUCTURED-LOCATION;VALUE=URI;X-ADDRESS=Birmingham Festival Theatre 1901 1/2 11th Avenue South Birmingham AL 35205 United States;X-APPLE-RADIUS=500;X-TITLE=1901 1/2 11th Avenue South:geo:-86.7973021,33.4998589
END:VEVENT
END:VCALENDAR