BEGIN:VCALENDAR
VERSION:2.0
PRODID:-//Bham Now - ECPv6.15.20//NONSGML v1.0//EN
CALSCALE:GREGORIAN
METHOD:PUBLISH
X-WR-CALNAME:Bham Now
X-ORIGINAL-URL:https://bhamnow.com
X-WR-CALDESC:Events for Bham Now
REFRESH-INTERVAL;VALUE=DURATION:PT1H
X-Robots-Tag:noindex
X-PUBLISHED-TTL:PT1H
BEGIN:VTIMEZONE
TZID:America/Chicago
BEGIN:DAYLIGHT
TZOFFSETFROM:-0600
TZOFFSETTO:-0500
TZNAME:CDT
DTSTART:20250309T080000
END:DAYLIGHT
BEGIN:STANDARD
TZOFFSETFROM:-0500
TZOFFSETTO:-0600
TZNAME:CST
DTSTART:20251102T070000
END:STANDARD
BEGIN:DAYLIGHT
TZOFFSETFROM:-0600
TZOFFSETTO:-0500
TZNAME:CDT
DTSTART:20260308T080000
END:DAYLIGHT
BEGIN:STANDARD
TZOFFSETFROM:-0500
TZOFFSETTO:-0600
TZNAME:CST
DTSTART:20261101T070000
END:STANDARD
BEGIN:DAYLIGHT
TZOFFSETFROM:-0600
TZOFFSETTO:-0500
TZNAME:CDT
DTSTART:20270314T080000
END:DAYLIGHT
BEGIN:STANDARD
TZOFFSETFROM:-0500
TZOFFSETTO:-0600
TZNAME:CST
DTSTART:20271107T070000
END:STANDARD
END:VTIMEZONE
BEGIN:VEVENT
DTSTART;TZID=America/Chicago:20260501T140000
DTEND;TZID=America/Chicago:20260501T140000
DTSTAMP:20260423T065536
CREATED:20260131T001815Z
LAST-MODIFIED:20260423T054809Z
UID:10091679-1777644000-1777644000@bhamnow.com
SUMMARY:Josh Gates Live! An Evening of Legends\, Mysteries\, and Tales of Adventure
DESCRIPTION:Buy Tickets\nPlan Your Visit \n \nDoors open at 6 p.m.\, show at 7 p.m. \nJoin explorer\, talk show host\, and author Josh Gates from Discovery Channel’s smash-hit series\, Expedition Unknown and Josh Gates Tonight for an evening of adventure! Josh will take viewers around the world and off-the-map with stories from his greatest expeditions and insights into the world’s greatest mysteries. From hilarious misadventures to thrilling moments of discovery\, Josh keeps audiences on the edge of their seats. \n\nPlan Your Visit to view the seating chart\, see nearby restaurants and hotels.\n\n\n\nParking Info:\nThe Alabama Theatre is not responsible for parking and does not provide any free parking.\nParking meters are free after 6pm on weekdays and all day on Saturday and Sunday.\nPlease be aware of tow-away zones. Lots marked “permit parking only” are tow-away zones and they will tow your vehicle at your expense.
URL:https://bhamnow.com/bhamn-event/josh-gates-live-an-evening-of-legends-mysteries-and-tales-of-adventure/
LOCATION:Alabama Theatre\, 1817 3rd Ave North\, Birmingham\, AL\, 35203\, United States
CATEGORIES:Downtown,Fun,Speaking Event
ATTACH;FMTTYPE=image/jpeg:https://alabamatheatre.com/wp-content/uploads/JoshGates_Birmingham26_1080x1080-1024x1024.png
GEO:33.5148887;-86.8090934
X-APPLE-STRUCTURED-LOCATION;VALUE=URI;X-ADDRESS=Alabama Theatre 1817 3rd Ave North Birmingham AL 35203 United States;X-APPLE-RADIUS=500;X-TITLE=1817 3rd Ave North:geo:-86.8090934,33.5148887
END:VEVENT
BEGIN:VEVENT
DTSTART;TZID=America/Chicago:20260528T143000
DTEND;TZID=America/Chicago:20260528T143000
DTSTAMP:20260423T065536
CREATED:20260227T014814Z
LAST-MODIFIED:20260423T054809Z
UID:10092762-1779978600-1779978600@bhamnow.com
SUMMARY:Josh Turner: This Country Music Thing Tour
DESCRIPTION:Buy Tickets\nPlan Your Visit \n \nDoors open at 6:30 p.m.\, show at 7:30 p.m. \nParking Info:\nThe Alabama Theatre is not responsible for parking and does not provide any free parking.\nParking meters are free after 6pm on weekdays and all day on Saturday and Sunday.\nPlease be aware of tow-away zones. Lots marked “permit parking only” are tow-away zones and they will tow your vehicle at your expense.
URL:https://bhamnow.com/bhamn-event/josh-turner-this-country-music-thing-tour/
LOCATION:Alabama Theatre\, 1817 3rd Ave North\, Birmingham\, AL\, 35203\, United States
CATEGORIES:Concerts,Downtown,Fun
ATTACH;FMTTYPE=image/jpeg:https://alabamatheatre.com/wp-content/uploads/May28-1080x1080-1-1024x1024.png
GEO:33.5148887;-86.8090934
X-APPLE-STRUCTURED-LOCATION;VALUE=URI;X-ADDRESS=Alabama Theatre 1817 3rd Ave North Birmingham AL 35203 United States;X-APPLE-RADIUS=500;X-TITLE=1817 3rd Ave North:geo:-86.8090934,33.5148887
END:VEVENT
BEGIN:VEVENT
DTSTART;TZID=America/Chicago:20260530T150000
DTEND;TZID=America/Chicago:20260530T150000
DTSTAMP:20260423T065536
CREATED:20260301T015012Z
LAST-MODIFIED:20260423T054810Z
UID:10092782-1780153200-1780153200@bhamnow.com
SUMMARY:The Kevin Langue Show
DESCRIPTION:Buy Tickets\nPlan Your Visit \n \nDoors open at 7 p.m.\, show at 8 p.m.\n\nThe Kevin Langue Show Tour brings the home of the World’s Best Guesser\, Kevin Langue\, to the stage. Kevin and his panel face a live lineup of strangers\, and their job is simple: figure out who’s lying and who’s telling the truth.\n\nPlan Your Visit to view the seating chart\, see nearby restaurants and hotels.\n\n\n\nParking Info:\nThe Alabama Theatre is not responsible for parking and does not provide any free parking.\nParking meters are free after 6pm on weekdays and all day on Saturday and Sunday.\nPlease be aware of tow-away zones. Lots marked “permit parking only” are tow-away zones and they will tow your vehicle at your expense.
URL:https://bhamnow.com/bhamn-event/the-kevin-langue-show/
LOCATION:Alabama Theatre\, 1817 3rd Ave North\, Birmingham\, AL\, 35203\, United States
CATEGORIES:Comedy,Downtown,Fun
ATTACH;FMTTYPE=image/jpeg:https://alabamatheatre.com/wp-content/uploads/IC_KevinLange_0530_Birmingham_1080x1080-1024x1024.jpg
GEO:33.5148887;-86.8090934
X-APPLE-STRUCTURED-LOCATION;VALUE=URI;X-ADDRESS=Alabama Theatre 1817 3rd Ave North Birmingham AL 35203 United States;X-APPLE-RADIUS=500;X-TITLE=1817 3rd Ave North:geo:-86.8090934,33.5148887
END:VEVENT
BEGIN:VEVENT
DTSTART;TZID=America/Chicago:20260619T140000
DTEND;TZID=America/Chicago:20260619T140000
DTSTAMP:20260423T065536
CREATED:20260324T024934Z
LAST-MODIFIED:20260423T054810Z
UID:10093078-1781877600-1781877600@bhamnow.com
SUMMARY:Gary Allan Live
DESCRIPTION:Buy Tickets\nPlan Your Visit \n \nWith the allure of a modern day outlaw\, Gary Allan has won over fans\, peers\, and critics with his signature blend of smoldering vocals\, rebellious lyrics\, and raucous live performances. While becoming a force on the country music scene\, Allan has remained true to his artistic voice each step of the way. The California native has released nine studio albums selling over 8 million albums\, been certified platinum on three back-to-back albums\, and been certified gold five times. Allan has five #1 hits on country radio and fourteen Top 10 hits to his credit. He has amassed over 2.8 billion total streams and has debuted at #1 on the Billboard Country Album chart four times\, along with his SET YOU FREE album debuting at the top of the Billboard 200 (Pop Chart). He is described as “dark and dreamy” in Entertainment Weekly\, “soulful and rough around the edges” in Playboy\, and deemed a “maverick” by Rolling Stone.  He sells out venues as a headliner from NY to LA and has appeared on The Tonight Show with Jay Leno\, Late Show with David Letterman\, Late Night with Jimmy Fallon\, Live with Kelly and Michael\, and Jimmy Kimmel Live. He has also landed on the covers of Country Weekly\, Pollstar\, and People magazine. \nPlan Your Visit to view the seating chart\, see nearby restaurants and hotels.\n\n\n\nParking Info:\nThe Alabama Theatre is not responsible for parking and does not provide any free parking.\nParking meters are free after 6pm on weekdays and all day on Saturday and Sunday.\nPlease be aware of tow-away zones. Lots marked “permit parking only” are tow-away zones and they will tow your vehicle at your expense.
URL:https://bhamnow.com/bhamn-event/gary-allan-live/
LOCATION:Alabama Theatre\, 1817 3rd Ave North\, Birmingham\, AL\, 35203\, United States
CATEGORIES:Concerts,Downtown,Fun
ATTACH;FMTTYPE=image/jpeg:https://alabamatheatre.com/wp-content/uploads/GaryAllan_Birmingham26_1080x1080-1-1024x1024.png
GEO:33.5148887;-86.8090934
X-APPLE-STRUCTURED-LOCATION;VALUE=URI;X-ADDRESS=Alabama Theatre 1817 3rd Ave North Birmingham AL 35203 United States;X-APPLE-RADIUS=500;X-TITLE=1817 3rd Ave North:geo:-86.8090934,33.5148887
END:VEVENT
END:VCALENDAR