BEGIN:VCALENDAR
VERSION:2.0
PRODID:-//Bham Now - ECPv6.15.20//NONSGML v1.0//EN
CALSCALE:GREGORIAN
METHOD:PUBLISH
X-ORIGINAL-URL:https://bhamnow.com
X-WR-CALDESC:Events for Bham Now
REFRESH-INTERVAL;VALUE=DURATION:PT1H
X-Robots-Tag:noindex
X-PUBLISHED-TTL:PT1H
BEGIN:VTIMEZONE
TZID:America/Chicago
BEGIN:DAYLIGHT
TZOFFSETFROM:-0600
TZOFFSETTO:-0500
TZNAME:CDT
DTSTART:20240310T080000
END:DAYLIGHT
BEGIN:STANDARD
TZOFFSETFROM:-0500
TZOFFSETTO:-0600
TZNAME:CST
DTSTART:20241103T070000
END:STANDARD
BEGIN:DAYLIGHT
TZOFFSETFROM:-0600
TZOFFSETTO:-0500
TZNAME:CDT
DTSTART:20250309T080000
END:DAYLIGHT
BEGIN:STANDARD
TZOFFSETFROM:-0500
TZOFFSETTO:-0600
TZNAME:CST
DTSTART:20251102T070000
END:STANDARD
BEGIN:DAYLIGHT
TZOFFSETFROM:-0600
TZOFFSETTO:-0500
TZNAME:CDT
DTSTART:20260308T080000
END:DAYLIGHT
BEGIN:STANDARD
TZOFFSETFROM:-0500
TZOFFSETTO:-0600
TZNAME:CST
DTSTART:20261101T070000
END:STANDARD
BEGIN:DAYLIGHT
TZOFFSETFROM:-0600
TZOFFSETTO:-0500
TZNAME:CDT
DTSTART:20270314T080000
END:DAYLIGHT
BEGIN:STANDARD
TZOFFSETFROM:-0500
TZOFFSETTO:-0600
TZNAME:CST
DTSTART:20271107T070000
END:STANDARD
END:VTIMEZONE
BEGIN:VEVENT
DTSTART;TZID=America/Chicago:20260324T100000
DTEND;TZID=America/Chicago:20260327T163000
DTSTAMP:20260420T092315
CREATED:20260116T155931Z
LAST-MODIFIED:20260116T155931Z
UID:10091503-1774346400-1774629000@bhamnow.com
SUMMARY:Building With Bricks
DESCRIPTION:Building with Bricks is a program offered by The Alabama Center for Architecture in partnership with the Structural Engineers Association of Alabama. We provide a week long program during Birmingham City Schools spring break for parents to take their children and build LEGO structures with Architects and Engineers. Kids can test their designs on the seismic shake table to see if it can withstand simulated earthquakes or place their design on our cityscape window display!
URL:https://bhamnow.com/bhamn-event/building-with-bricks-2/
LOCATION:Alabama Center for Architecture\, 109 Richard Arrington Jr Blvd S\, Birmingham\, AL\, 35233\, United States
CATEGORIES:Downtown,Events,Family Friendly Programs,Special Events
ATTACH;FMTTYPE=image/jpeg:https://bhamnow.com/wp-content/uploads/2026/01/2026-Building-With-Bricks.jpg
GEO:33.5122008;-86.8019596
X-APPLE-STRUCTURED-LOCATION;VALUE=URI;X-ADDRESS=Alabama Center for Architecture 109 Richard Arrington Jr Blvd S Birmingham AL 35233 United States;X-APPLE-RADIUS=500;X-TITLE=109 Richard Arrington Jr Blvd S:geo:-86.8019596,33.5122008
END:VEVENT
BEGIN:VEVENT
DTSTART;TZID=America/Chicago:20260226T190000
DTEND;TZID=America/Chicago:20260226T210000
DTSTAMP:20260420T092315
CREATED:20260102T165815Z
LAST-MODIFIED:20260102T165815Z
UID:10088823-1772132400-1772139600@bhamnow.com
SUMMARY:9th Annual Posters\, Pints & Pies
DESCRIPTION:The 9th Annual Posters\, Pints & Pies event is a community outreach event hosted by the Alabama Center for Architecture. This is an art exhibit of private collection music show posters\, hand-selected by local music-lovers. We will have delicious food\, live music and a silent auction!\nFebruary 26th 7-9pm\nTickets are $20\n109 Richard Arrington Jr Blvd S\, Birmingham\, AL 35233
URL:https://bhamnow.com/bhamn-event/9th-annual-posters-pints-pies/
LOCATION:Alabama Center for Architecture\, 109 Richard Arrington Jr Blvd S\, Birmingham\, AL\, 35233\, United States
CATEGORIES:Community,Downtown,Events
ATTACH;FMTTYPE=image/jpeg:https://bhamnow.com/wp-content/uploads/2025/12/Website-final-graphic-scaled.jpg
GEO:33.5122008;-86.8019596
X-APPLE-STRUCTURED-LOCATION;VALUE=URI;X-ADDRESS=Alabama Center for Architecture 109 Richard Arrington Jr Blvd S Birmingham AL 35233 United States;X-APPLE-RADIUS=500;X-TITLE=109 Richard Arrington Jr Blvd S:geo:-86.8019596,33.5122008
END:VEVENT
BEGIN:VEVENT
DTSTART;TZID=America/Chicago:20260221T210000
DTEND;TZID=America/Chicago:20260222T010000
DTSTAMP:20260420T092315
CREATED:20260102T165810Z
LAST-MODIFIED:20260102T165810Z
UID:10088824-1771707600-1771722000@bhamnow.com
SUMMARY:9th Annual Posters\, Pints & Pies Pre-Party
DESCRIPTION:Join us for The 9th Annual Posters\, Pints & Pies Pre-Party at Mom’s Basement from 9pm until… Live music from Uncle Ian’s Band\nAll proceeds benefit The Alabama Center for Architecture’s Dream Architecture program.\nTickets are $10 at the door.
URL:https://bhamnow.com/bhamn-event/9th-annual-posters-pints-pies-pre-party/
LOCATION:Alabama Center for Architecture\, 109 Richard Arrington Jr Blvd S\, Birmingham\, AL\, 35233\, United States
CATEGORIES:Community,Downtown,Events,Music
GEO:33.5122008;-86.8019596
X-APPLE-STRUCTURED-LOCATION;VALUE=URI;X-ADDRESS=Alabama Center for Architecture 109 Richard Arrington Jr Blvd S Birmingham AL 35233 United States;X-APPLE-RADIUS=500;X-TITLE=109 Richard Arrington Jr Blvd S:geo:-86.8019596,33.5122008
END:VEVENT
BEGIN:VEVENT
DTSTART;TZID=America/Chicago:20250329T100000
DTEND;TZID=America/Chicago:20250402T140000
DTSTAMP:20260420T092315
CREATED:20250317T233925Z
LAST-MODIFIED:20250317T233925Z
UID:10078890-1743242400-1743602400@bhamnow.com
SUMMARY:Building With Bricks
DESCRIPTION:Join the Alabama Center for Architecture and the Structural Engineers Association of Alabama for a week of design and LEGO building. Create a stunning LEGO masterpiece in partnership with an architect or engineer. Test your work on our seismic shake table and then add it to our window display for the public to see. Make sure to stay and view the LEGO exhibit with models\, Lego Builds\, and project boards on display.
URL:https://bhamnow.com/bhamn-event/building-with-bricks/2025-03-29/
LOCATION:Alabama Center for Architecture\, 109 Richard Arrington Jr Blvd S\, Birmingham\, AL\, 35233\, United States
CATEGORIES:Arts,Downtown,Family Days,Family Friendly Programs
ATTACH;FMTTYPE=image/png:https://bhamnow.com/wp-content/uploads/2025/03/Building-With-Bricks-Flyer.pdf.png
GEO:33.5122008;-86.8019596
X-APPLE-STRUCTURED-LOCATION;VALUE=URI;X-ADDRESS=Alabama Center for Architecture 109 Richard Arrington Jr Blvd S Birmingham AL 35233 United States;X-APPLE-RADIUS=500;X-TITLE=109 Richard Arrington Jr Blvd S:geo:-86.8019596,33.5122008
END:VEVENT
END:VCALENDAR