BEGIN:VCALENDAR
VERSION:2.0
PRODID:-//Bham Now - ECPv6.15.20//NONSGML v1.0//EN
CALSCALE:GREGORIAN
METHOD:PUBLISH
X-WR-CALNAME:Bham Now
X-ORIGINAL-URL:https://bhamnow.com
X-WR-CALDESC:Events for Bham Now
REFRESH-INTERVAL;VALUE=DURATION:PT1H
X-Robots-Tag:noindex
X-PUBLISHED-TTL:PT1H
BEGIN:VTIMEZONE
TZID:America/Chicago
BEGIN:DAYLIGHT
TZOFFSETFROM:-0600
TZOFFSETTO:-0500
TZNAME:CDT
DTSTART:20250309T080000
END:DAYLIGHT
BEGIN:STANDARD
TZOFFSETFROM:-0500
TZOFFSETTO:-0600
TZNAME:CST
DTSTART:20251102T070000
END:STANDARD
BEGIN:DAYLIGHT
TZOFFSETFROM:-0600
TZOFFSETTO:-0500
TZNAME:CDT
DTSTART:20260308T080000
END:DAYLIGHT
BEGIN:STANDARD
TZOFFSETFROM:-0500
TZOFFSETTO:-0600
TZNAME:CST
DTSTART:20261101T070000
END:STANDARD
BEGIN:DAYLIGHT
TZOFFSETFROM:-0600
TZOFFSETTO:-0500
TZNAME:CDT
DTSTART:20270314T080000
END:DAYLIGHT
BEGIN:STANDARD
TZOFFSETFROM:-0500
TZOFFSETTO:-0600
TZNAME:CST
DTSTART:20271107T070000
END:STANDARD
END:VTIMEZONE
BEGIN:VEVENT
DTSTART;TZID=America/Chicago:20260423T160000
DTEND;TZID=America/Chicago:20260423T180000
DTSTAMP:20260424T034500
CREATED:20260330T160323Z
LAST-MODIFIED:20260330T160323Z
UID:10096990-1776960000-1776967200@bhamnow.com
SUMMARY:Book Signing - Mark A. Johnson and AMERICAN BACON
DESCRIPTION:Come meet Mark Johnson as he signs copies of his delightful story of bacon – the coolest of foods. \nA delicious read crafted from deep research that is both surprising and satisfying. The fascinating history follows this crispy pleasure from early Britain\, through the Colonial era\, Civil War to the modern day. The book traces the title subject from religious prohibition\, cultural contempt\, lowly staple\, the most dangerous food in the supermarket to culinary powerhouse. \nYou may purchase signed first editions of AMERICAN BACON ($34.95) to pick up at the event\, at the store later\, or have them carefully wrapped and mailed worldwide on the Alabama Booksmith website.
URL:https://bhamnow.com/bhamn-event/book-signing-mark-a-johnson-and-american-bacon/
LOCATION:Alabama Booksmith\, 2626 19th Pl S\, Birmingham\, AL\, 35209\, United States
ATTACH;FMTTYPE=image/jpeg:https://bhamnow.com/wp-content/uploads/2026/03/Mark-Johnson-Event-FB-Banner.jpg
GEO:33.4838769;-86.7887949
X-APPLE-STRUCTURED-LOCATION;VALUE=URI;X-ADDRESS=Alabama Booksmith 2626 19th Pl S Birmingham AL 35209 United States;X-APPLE-RADIUS=500;X-TITLE=2626 19th Pl S:geo:-86.7887949,33.4838769
END:VEVENT
BEGIN:VEVENT
DTSTART;TZID=America/Chicago:20260407T160000
DTEND;TZID=America/Chicago:20260407T180000
DTSTAMP:20260424T034500
CREATED:20260330T160329Z
LAST-MODIFIED:20260330T160329Z
UID:10096989-1775577600-1775584800@bhamnow.com
SUMMARY:Book Signing - Thomas E. Patterson and "American Populist"
DESCRIPTION:Come meet Thomas E. Patterson as he signs copies of his brilliant look at the greatest politician of the twentieth century! \nAMERICAN POPULIST: HUEY LONG OF LOUISIANA corrects many of the myths surrounding the man known as The Kingfish. This monumental work makes use of previously untapped personal papers and the author’s expertise as an attorney to deconstruct the elements of one of the the foundations of Long’s success: his law practice. This is the most balanced and comprehensive biography to date. It is a must to complete any serious modern-day book collection. \nYou may purchase signed first editions of AMERICAN POPULIST ($49.95) to pick up at the event\, at the store later\, or have them carefully wrapped and mailed worldwide on the Alabama Booksmith website.
URL:https://bhamnow.com/bhamn-event/book-signing-thomas-e-patterson-and-american-populist/
LOCATION:Alabama Booksmith\, 2626 19th Pl S\, Birmingham\, AL\, 35209\, United States
ATTACH;FMTTYPE=image/jpeg:https://bhamnow.com/wp-content/uploads/2026/03/Thomas-Patterson-Event-FB-Banner.jpg
GEO:33.4838769;-86.7887949
X-APPLE-STRUCTURED-LOCATION;VALUE=URI;X-ADDRESS=Alabama Booksmith 2626 19th Pl S Birmingham AL 35209 United States;X-APPLE-RADIUS=500;X-TITLE=2626 19th Pl S:geo:-86.7887949,33.4838769
END:VEVENT
END:VCALENDAR