BEGIN:VCALENDAR
VERSION:2.0
PRODID:-//Bham Now - ECPv6.15.20//NONSGML v1.0//EN
CALSCALE:GREGORIAN
METHOD:PUBLISH
X-ORIGINAL-URL:https://bhamnow.com
X-WR-CALDESC:Events for Bham Now
REFRESH-INTERVAL;VALUE=DURATION:PT1H
X-Robots-Tag:noindex
X-PUBLISHED-TTL:PT1H
BEGIN:VTIMEZONE
TZID:America/Chicago
BEGIN:DAYLIGHT
TZOFFSETFROM:-0600
TZOFFSETTO:-0500
TZNAME:CDT
DTSTART:20240310T080000
END:DAYLIGHT
BEGIN:STANDARD
TZOFFSETFROM:-0500
TZOFFSETTO:-0600
TZNAME:CST
DTSTART:20241103T070000
END:STANDARD
BEGIN:DAYLIGHT
TZOFFSETFROM:-0600
TZOFFSETTO:-0500
TZNAME:CDT
DTSTART:20250309T080000
END:DAYLIGHT
BEGIN:STANDARD
TZOFFSETFROM:-0500
TZOFFSETTO:-0600
TZNAME:CST
DTSTART:20251102T070000
END:STANDARD
BEGIN:DAYLIGHT
TZOFFSETFROM:-0600
TZOFFSETTO:-0500
TZNAME:CDT
DTSTART:20260308T080000
END:DAYLIGHT
BEGIN:STANDARD
TZOFFSETFROM:-0500
TZOFFSETTO:-0600
TZNAME:CST
DTSTART:20261101T070000
END:STANDARD
END:VTIMEZONE
BEGIN:VEVENT
DTSTART;TZID=America/Chicago:20251014T073000
DTEND;TZID=America/Chicago:20251014T090000
DTSTAMP:20260421T150837
CREATED:20250903T205046Z
LAST-MODIFIED:20251013T193311Z
UID:10084121-1760427000-1760432400@bhamnow.com
SUMMARY:Dauphin Island Shell Mounds + Fall Banding Station (Free!)
DESCRIPTION:Alabama Audubon will be hosting their fall migratory banding station Monday October 13-Saturday October 18 at the Dauphin Island Audubon Bird Sanctuary. (You can find full details about our fall bird banding station here. https://alaudubon.org/event/coastal/fall-bird-banding-2025) If you are looking to get some birding in before heading to the banding station\, come join Coastal Outreach Manager Cortney Weatherby at Shell Mound Park! You never know what this hotspot will hold during migration but we will be on the lookout for yellow-billed cuckoo\, vireo (Philadelphia\, blue-headed\, and yellow-throated)\, hermit thrush\, rose-breasted grosbeak\, and warblers…\n—\nEvent details:\nhttps://www.addevent.com/event/Lb26620079\n——\nPowered by addevent.com\nShare your next event with us!
URL:https://bhamnow.com/bhamn-event/dauphin-island-shell-mounds-fall-banding-station-free/
LOCATION:830 Iberville Drive Dauphin Island\, Dauphin Island\, AL\, United States
CATEGORIES:Outdoors
GEO:30.254867;-88.1349
END:VEVENT
END:VCALENDAR