BEGIN:VCALENDAR
VERSION:2.0
PRODID:-//Bham Now - ECPv6.15.20//NONSGML v1.0//EN
CALSCALE:GREGORIAN
METHOD:PUBLISH
X-ORIGINAL-URL:https://bhamnow.com
X-WR-CALDESC:Events for Bham Now
REFRESH-INTERVAL;VALUE=DURATION:PT1H
X-Robots-Tag:noindex
X-PUBLISHED-TTL:PT1H
BEGIN:VTIMEZONE
TZID:America/Chicago
BEGIN:DAYLIGHT
TZOFFSETFROM:-0600
TZOFFSETTO:-0500
TZNAME:CDT
DTSTART:20240310T080000
END:DAYLIGHT
BEGIN:STANDARD
TZOFFSETFROM:-0500
TZOFFSETTO:-0600
TZNAME:CST
DTSTART:20241103T070000
END:STANDARD
BEGIN:DAYLIGHT
TZOFFSETFROM:-0600
TZOFFSETTO:-0500
TZNAME:CDT
DTSTART:20250309T080000
END:DAYLIGHT
BEGIN:STANDARD
TZOFFSETFROM:-0500
TZOFFSETTO:-0600
TZNAME:CST
DTSTART:20251102T070000
END:STANDARD
BEGIN:DAYLIGHT
TZOFFSETFROM:-0600
TZOFFSETTO:-0500
TZNAME:CDT
DTSTART:20260308T080000
END:DAYLIGHT
BEGIN:STANDARD
TZOFFSETFROM:-0500
TZOFFSETTO:-0600
TZNAME:CST
DTSTART:20261101T070000
END:STANDARD
END:VTIMEZONE
BEGIN:VEVENT
DTSTART;VALUE=DATE:20250717
DTEND;VALUE=DATE:20250805
DTSTAMP:20260421T075856
CREATED:20250701T203533Z
LAST-MODIFIED:20250701T203535Z
UID:10083001-1752714000-1754269199@bhamnow.com
SUMMARY:BIG RIVER: The Adventures of Huckleberry Finn
DESCRIPTION:  \nWinner of seven Tony awards\, including Best Musical. Big River is based on Mark Twain’s classic 1884 novel\, The Adventures of Huckleberry Finn\, and features the music of Country legend Roger Miller. Stacy Alley (Head of the University of Alabama’s Musical Theatre Program) and Bobby Horton (‘Three on a String’ and Music Director for Ken Burns) will guide us on a fresh and authentic musical journey through Mark Twain’s timeless tale of humanity and redemption.\n“the musical Big River still has something to say and sing”\nPhilip Brandes\, Los Angeles Times
URL:https://bhamnow.com/bhamn-event/big-river-the-adventures-of-huckleberry-finn-2/
LOCATION:Virginia Samford Theatre\, 1116 26th Street South\, Birmingham\, AL\, 35205\, United States
ATTACH;FMTTYPE=image/jpeg:https://bhamnow.com/wp-content/uploads/2025/07/VST24-25-Graphics-2-BigRiver-2-1800-1290x1290-1-800x800.jpg
GEO:33.5033233;-86.7871392
X-APPLE-STRUCTURED-LOCATION;VALUE=URI;X-ADDRESS=Virginia Samford Theatre 1116 26th Street South Birmingham AL 35205 United States;X-APPLE-RADIUS=500;X-TITLE=1116 26th Street South:geo:-86.7871392,33.5033233
END:VEVENT
BEGIN:VEVENT
DTSTART;VALUE=DATE:20250717
DTEND;VALUE=DATE:20250805
DTSTAMP:20260421T075856
CREATED:20240729T175748Z
LAST-MODIFIED:20240729T175749Z
UID:10064143-1752714000-1754269199@bhamnow.com
SUMMARY:BIG RIVER: The Adventures of Huckleberry Finn
DESCRIPTION:  \nWinner of seven Tony awards\, including Best Musical. Big River is based on Mark Twain’s classic 1884 novel\, The Adventures of Huckleberry Finn\, and features the music of Country legend Roger Miller. Stacy Alley (Head of the University of Alabama’s Musical Theatre Program) and Bobby Horton (‘Three on a String’ and Music Director for Ken Burns) will guide us on a fresh and authentic musical journey through Mark Twain’s timeless tale of humanity and redemption.\n“the musical Big River still has something to say and sing”\nPhilip Brandes\, Los Angeles Times
URL:https://bhamnow.com/bhamn-event/big-river-the-adventures-of-huckleberry-finn/
LOCATION:Virginia Samford Theatre\, 1116 26th Street South\, Birmingham\, AL\, 35205\, United States
ATTACH;FMTTYPE=image/jpeg:https://bhamnow.com/wp-content/uploads/2024/07/VST24-25-Graphics-2-BigRiver-2-1800-1290x1290-2-800x800.jpg
GEO:33.5033233;-86.7871392
X-APPLE-STRUCTURED-LOCATION;VALUE=URI;X-ADDRESS=Virginia Samford Theatre 1116 26th Street South Birmingham AL 35205 United States;X-APPLE-RADIUS=500;X-TITLE=1116 26th Street South:geo:-86.7871392,33.5033233
END:VEVENT
BEGIN:VEVENT
DTSTART;TZID=America/Chicago:20250410T080000
DTEND;TZID=America/Chicago:20250413T170000
DTSTAMP:20260421T075856
CREATED:20240729T175549Z
LAST-MODIFIED:20250401T152800Z
UID:10064142-1744272000-1744563600@bhamnow.com
SUMMARY:Who's Afraid of Virginia Woolf?
DESCRIPTION:Who’s Afraid of Virginia Woolf? offers a thrilling roller coaster of emotions—laughter\, confusion\, anger\, heartache and a great deal of tension between its characters. Set in the 1960s\, this production offers an exciting story with themes like the American Dream and the complexities of marriage. \n\nWhen:\n\nThursday\, April 10 + Friday\, April 11 | 7PM\nSaturday\, April 12 + Sunday\, April 13 | 2:30PM
URL:https://bhamnow.com/bhamn-event/whos-afraid-of-virginia-woolf/
LOCATION:Virginia Samford Theatre\, 1116 26th Street South\, Birmingham\, AL\, 35205\, United States
ATTACH;FMTTYPE=image/jpeg:https://bhamnow.com/wp-content/uploads/2024/07/VST24-25-Graphics-2-WAVW-1800-1290x1290-1-800x800.jpg
GEO:33.5033233;-86.7871392
X-APPLE-STRUCTURED-LOCATION;VALUE=URI;X-ADDRESS=Virginia Samford Theatre 1116 26th Street South Birmingham AL 35205 United States;X-APPLE-RADIUS=500;X-TITLE=1116 26th Street South:geo:-86.7871392,33.5033233
END:VEVENT
END:VCALENDAR