BEGIN:VCALENDAR
VERSION:2.0
PRODID:-//Bham Now - ECPv6.15.20//NONSGML v1.0//EN
CALSCALE:GREGORIAN
METHOD:PUBLISH
X-WR-CALNAME:Bham Now
X-ORIGINAL-URL:https://bhamnow.com
X-WR-CALDESC:Events for Bham Now
REFRESH-INTERVAL;VALUE=DURATION:PT1H
X-Robots-Tag:noindex
X-PUBLISHED-TTL:PT1H
BEGIN:VTIMEZONE
TZID:America/Chicago
BEGIN:DAYLIGHT
TZOFFSETFROM:-0600
TZOFFSETTO:-0500
TZNAME:CDT
DTSTART:20240310T080000
END:DAYLIGHT
BEGIN:STANDARD
TZOFFSETFROM:-0500
TZOFFSETTO:-0600
TZNAME:CST
DTSTART:20241103T070000
END:STANDARD
BEGIN:DAYLIGHT
TZOFFSETFROM:-0600
TZOFFSETTO:-0500
TZNAME:CDT
DTSTART:20250309T080000
END:DAYLIGHT
BEGIN:STANDARD
TZOFFSETFROM:-0500
TZOFFSETTO:-0600
TZNAME:CST
DTSTART:20251102T070000
END:STANDARD
BEGIN:DAYLIGHT
TZOFFSETFROM:-0600
TZOFFSETTO:-0500
TZNAME:CDT
DTSTART:20260308T080000
END:DAYLIGHT
BEGIN:STANDARD
TZOFFSETFROM:-0500
TZOFFSETTO:-0600
TZNAME:CST
DTSTART:20261101T070000
END:STANDARD
END:VTIMEZONE
BEGIN:VEVENT
DTSTART;TZID=America/Chicago:20250315T100000
DTEND;TZID=America/Chicago:20250315T160000
DTSTAMP:20260421T162952
CREATED:20250225T233823Z
LAST-MODIFIED:20250225T233823Z
UID:10077102-1742032800-1742054400@bhamnow.com
SUMMARY:Tour de Brewers XXII:  St. Patrick's Day Edition (Benefitting The Dannon Project)
DESCRIPTION:Tour de Brewers XXII is a roughly 13K’ish informal charity run/ride/brewery crawl supporting The Dannon Project that combines the “fun” of a fun run with the real fun of tasting great Birmingham local brews.   \nThe running/cycling event starts at 11:00 a.m. at Tin Roof Birmingham.  As a participant\, you will receive a race bib with 5 vouchers each good for a craft beer at any of the stops on the event.  Stops/Breweries this year include Avondale Brewing Company\, Back Forty Birmingham\, Birmingham District Brewing\, Cahaba Brewing Company\, Good People Brewing Company\, Hop City Birmingham (Yellowhammer Brewing)\, TrimTab Brewing and Uproot Brewing.  Also included is a commemorative t-shirt and and exciting post-run/ride party with music back at Tin Roof where you can win some great prize giveaways!  This is a grassroots event where you get to choose the route to each stop and choose which stops you want to go to.  Don’t worry if you don’t know the area – We provide maps and there are plenty of friendly participants and volunteers along the event that will help you find your way. \n9:00 a.m. – Packet Pickup Begins @ Tin Roof – Birmingham (2709 7th Ave S.) for Pre-Registered Participants Only  ** Day-Of Registration will NOT be available for this event.\n11:00 a.m. – Event starts from Tin Roof Birmingham and Breweries start pouring (Last pour at 3:00 p.m.)\n3:30 p.m. – Door prizes drawing starts at Tin Roof Birmingham – Music/After Party to follow \nAll of this fun\, plus knowing you are supporting a local nonprofit\, The Dannon Project\, that is impacting the Birmingham community by providing services to promote permanent employment\, holistic health\, and stable families amongst poor and at-risk communities.  Everyone wins!
URL:https://bhamnow.com/bhamn-event/tour-de-brewers-xxii-st-patricks-day-edition-benefitting-the-dannon-project/
LOCATION:Tin Roof Birmingham\, 2709 7th Ave S\, Birmingham\, AL\, 35233\, United States
CATEGORIES:Beer,Downtown,In-Person Events,Running
GEO:33.5105806;-86.7894656
X-APPLE-STRUCTURED-LOCATION;VALUE=URI;X-ADDRESS=Tin Roof Birmingham 2709 7th Ave S Birmingham AL 35233 United States;X-APPLE-RADIUS=500;X-TITLE=2709 7th Ave S:geo:-86.7894656,33.5105806
END:VEVENT
END:VCALENDAR