BEGIN:VCALENDAR
VERSION:2.0
PRODID:-//Bham Now - ECPv6.15.20//NONSGML v1.0//EN
CALSCALE:GREGORIAN
METHOD:PUBLISH
X-ORIGINAL-URL:https://bhamnow.com
X-WR-CALDESC:Events for Bham Now
REFRESH-INTERVAL;VALUE=DURATION:PT1H
X-Robots-Tag:noindex
X-PUBLISHED-TTL:PT1H
BEGIN:VTIMEZONE
TZID:America/Chicago
BEGIN:DAYLIGHT
TZOFFSETFROM:-0600
TZOFFSETTO:-0500
TZNAME:CDT
DTSTART:20240310T080000
END:DAYLIGHT
BEGIN:STANDARD
TZOFFSETFROM:-0500
TZOFFSETTO:-0600
TZNAME:CST
DTSTART:20241103T070000
END:STANDARD
BEGIN:DAYLIGHT
TZOFFSETFROM:-0600
TZOFFSETTO:-0500
TZNAME:CDT
DTSTART:20250309T080000
END:DAYLIGHT
BEGIN:STANDARD
TZOFFSETFROM:-0500
TZOFFSETTO:-0600
TZNAME:CST
DTSTART:20251102T070000
END:STANDARD
BEGIN:DAYLIGHT
TZOFFSETFROM:-0600
TZOFFSETTO:-0500
TZNAME:CDT
DTSTART:20260308T080000
END:DAYLIGHT
BEGIN:STANDARD
TZOFFSETFROM:-0500
TZOFFSETTO:-0600
TZNAME:CST
DTSTART:20261101T070000
END:STANDARD
END:VTIMEZONE
BEGIN:VEVENT
DTSTART;TZID=America/Chicago:20250314T200000
DTEND;TZID=America/Chicago:20250314T235900
DTSTAMP:20260420T070056
CREATED:20250317T233938Z
LAST-MODIFIED:20250317T233938Z
UID:10078824-1741982400-1741996740@bhamnow.com
SUMMARY:Pi Day Blood Moon Karaoke at The Lumbar
DESCRIPTION:Pi Day + Full Moon Karaoke + Blood Moon Total Lunar Eclipse = Friday at 8pm 🌕🔥 If it isn’t too cloudy\, we’ll be busting out the telescope\, too 🔭 As always on full moon nights\, we’ll have karaoke with DJ Freeze starting at 8pm while we pour up lots of blood orange cocktails and mocktails and pass out pi[e]\, too. Karaoke starts at 8pm and we’ll be open ’til midnight1
URL:https://bhamnow.com/bhamn-event/pi-day-blood-moon-karaoke-at-the-lumbar-2/
LOCATION:The Lumbar\, 212 29th Street South\, Birmingham\, AL\, 35233\, United States
CATEGORIES:Astronomy,Downtown,Special Event,Special Events
ATTACH;FMTTYPE=image/jpeg:https://bhamnow.com/wp-content/uploads/2025/03/Copy-of-Pi-Day-Blood-Moon-Total-Lunar-Eclipse.jpg
GEO:33.5160674;-86.7909785
X-APPLE-STRUCTURED-LOCATION;VALUE=URI;X-ADDRESS=The Lumbar 212 29th Street South Birmingham AL 35233 United States;X-APPLE-RADIUS=500;X-TITLE=212 29th Street South:geo:-86.7909785,33.5160674
END:VEVENT
END:VCALENDAR