BEGIN:VCALENDAR
VERSION:2.0
PRODID:-//Bham Now - ECPv6.15.20//NONSGML v1.0//EN
CALSCALE:GREGORIAN
METHOD:PUBLISH
X-WR-CALNAME:Bham Now
X-ORIGINAL-URL:https://bhamnow.com
X-WR-CALDESC:Events for Bham Now
REFRESH-INTERVAL;VALUE=DURATION:PT1H
X-Robots-Tag:noindex
X-PUBLISHED-TTL:PT1H
BEGIN:VTIMEZONE
TZID:America/Chicago
BEGIN:DAYLIGHT
TZOFFSETFROM:-0600
TZOFFSETTO:-0500
TZNAME:CDT
DTSTART:20240310T080000
END:DAYLIGHT
BEGIN:STANDARD
TZOFFSETFROM:-0500
TZOFFSETTO:-0600
TZNAME:CST
DTSTART:20241103T070000
END:STANDARD
BEGIN:DAYLIGHT
TZOFFSETFROM:-0600
TZOFFSETTO:-0500
TZNAME:CDT
DTSTART:20250309T080000
END:DAYLIGHT
BEGIN:STANDARD
TZOFFSETFROM:-0500
TZOFFSETTO:-0600
TZNAME:CST
DTSTART:20251102T070000
END:STANDARD
BEGIN:DAYLIGHT
TZOFFSETFROM:-0600
TZOFFSETTO:-0500
TZNAME:CDT
DTSTART:20260308T080000
END:DAYLIGHT
BEGIN:STANDARD
TZOFFSETFROM:-0500
TZOFFSETTO:-0600
TZNAME:CST
DTSTART:20261101T070000
END:STANDARD
END:VTIMEZONE
BEGIN:VEVENT
DTSTART;TZID=America/Chicago:20250510T100000
DTEND;TZID=America/Chicago:20250510T140000
DTSTAMP:20260421T044551
CREATED:20250430T191906Z
LAST-MODIFIED:20250430T191906Z
UID:10080650-1746871200-1746885600@bhamnow.com
SUMMARY:Mother’s Day plans in Birmingham: mimosas\, bouquet building\, and original art — all supporting a great cause at Studio By The Tracks
DESCRIPTION:If you’re in or around Birmingham for Mother’s Day and want something thoughtful\, local\, and a little different\, this is it. \nStudio By The Tracks\, a nonprofit that supports adult artists on the autism spectrum\, is hosting a special Mother’s Day morning event on Sunday\, May 12. There are two parts to the day: \n1. Ticketed Experience for You and Your Mom ($50 for two)\nThis is the curated\, sweet little experience you can reserve in advance:\n– Build your own bouquet\n– Enjoy mimosas\n– Take home an original piece of floral-inspired art created by one of SBTT’s artists\n– Support a nonprofit that supports and employs adults with autism \nEach ticket covers admission for two — you and your mom (or anyone you want to celebrate). \nTicket link:\nMother's Day Ticket \n2. Free Local Makers Market\nOpen to everyone — no ticket required.\nBrowse and shop goods from Birmingham’s creative community\, featuring:\n– House Plant Collective\n– Presonance Prints\n– Dilly Dally Beads\n– Julie Carpenter Art + Jewelry\n– Shifted Goods\n– Sarah Langford\n– Sam Roberts\nand more! \nNo ticket needed — just swing by\, shop\, and support Birmingham’s small creative businesses.
URL:https://bhamnow.com/bhamn-event/mothers-day-plans-in-birmingham-mimosas-bouquet-building-and-original-art-all-supporting-a-great-cause-at-studio-by-the-tracks/
LOCATION:Studio By the Tracks\, 301 20th St S\, Irondale\, AL 35210\, USA\, 101 20th St S\, United States
ATTACH;FMTTYPE=image/png:https://bhamnow.com/wp-content/uploads/2025/04/Mothers-Day-Market-4.png
GEO:25.7954398;-80.1280504
X-APPLE-STRUCTURED-LOCATION;VALUE=URI;X-ADDRESS=Studio By the Tracks 301 20th St S Irondale AL 35210 USA 101 20th St S United States;X-APPLE-RADIUS=500;X-TITLE=101 20th St S:geo:-80.1280504,25.7954398
END:VEVENT
END:VCALENDAR