BEGIN:VCALENDAR
VERSION:2.0
PRODID:-//Bham Now - ECPv6.15.20//NONSGML v1.0//EN
CALSCALE:GREGORIAN
METHOD:PUBLISH
X-WR-CALNAME:Bham Now
X-ORIGINAL-URL:https://bhamnow.com
X-WR-CALDESC:Events for Bham Now
REFRESH-INTERVAL;VALUE=DURATION:PT1H
X-Robots-Tag:noindex
X-PUBLISHED-TTL:PT1H
BEGIN:VTIMEZONE
TZID:America/Chicago
BEGIN:DAYLIGHT
TZOFFSETFROM:-0600
TZOFFSETTO:-0500
TZNAME:CDT
DTSTART:20250309T080000
END:DAYLIGHT
BEGIN:STANDARD
TZOFFSETFROM:-0500
TZOFFSETTO:-0600
TZNAME:CST
DTSTART:20251102T070000
END:STANDARD
BEGIN:DAYLIGHT
TZOFFSETFROM:-0600
TZOFFSETTO:-0500
TZNAME:CDT
DTSTART:20260308T080000
END:DAYLIGHT
BEGIN:STANDARD
TZOFFSETFROM:-0500
TZOFFSETTO:-0600
TZNAME:CST
DTSTART:20261101T070000
END:STANDARD
BEGIN:DAYLIGHT
TZOFFSETFROM:-0600
TZOFFSETTO:-0500
TZNAME:CDT
DTSTART:20270314T080000
END:DAYLIGHT
BEGIN:STANDARD
TZOFFSETFROM:-0500
TZOFFSETTO:-0600
TZNAME:CST
DTSTART:20271107T070000
END:STANDARD
END:VTIMEZONE
BEGIN:VEVENT
DTSTART;TZID=America/Chicago:20260615T080000
DTEND;TZID=America/Chicago:20260615T170000
DTSTAMP:20260421T060130
CREATED:20260327T164217Z
LAST-MODIFIED:20260327T164217Z
UID:10093733-1781510400-1781542800@bhamnow.com
SUMMARY:Drawing Camp at Space One Eleven
DESCRIPTION:Drawing Camp at Space One Eleven for rising 6th through 12 grades\nJune 15 – 19\, 2026\n9am to 3pm\nTeaching Artist Ty Smith will lead young artists\, rising 6th through 12th-grades\, in building a foundation for drawing with different media\, sharpening their drawing skills\, and teach drawing techniques for representing forms and objects from life.\nSmith is an adjunct professor at the University of Alabama at Birmingham and at Samford University. He received an MFA from the School of Art and Art History\, University of Tulsa.
URL:https://bhamnow.com/bhamn-event/drawing-camp-at-space-one-eleven/2026-06-15/
CATEGORIES:Art Camp
ATTACH;FMTTYPE=image/jpeg:https://bhamnow.com/wp-content/uploads/2026/03/IMG_2173-1-scaled-e1741892616199-778x1024-2.jpg
END:VEVENT
BEGIN:VEVENT
DTSTART;TZID=America/Chicago:20260615T090000
DTEND;TZID=America/Chicago:20260615T150000
DTSTAMP:20260421T060130
CREATED:20260327T164209Z
LAST-MODIFIED:20260327T164209Z
UID:10094473-1781514000-1781535600@bhamnow.com
SUMMARY:Sculpture: Bending Wood at Space One Eleven
DESCRIPTION:Tanner Young will lead rising 9th through 12th graders in a woodworking workshop. \nYoung artists will explore making bent wood sculpture through the method of hot pipe bending. Different methods of fabrication and construction will be utilized in the production of these sculptures. Young emphasizes process and individual investigation. Students will learn to trust their own intuition and ingenuity. \nYoung holds an MFA in Sculpture from the University of Nebraska-Lincoln\, and a BFA from the University of Texas at Tyler. He is an Associate Professor of Art at the University of Montevallo.
URL:https://bhamnow.com/bhamn-event/sculpture-bending-wood-at-space-one-eleven/2026-06-15/
LOCATION:Space One Eleven\, 2409 2nd Ave N\, Birmingham\, AL\, 35203\, United States
CATEGORIES:Arts,Downtown
ATTACH;FMTTYPE=image/jpeg:https://bhamnow.com/wp-content/uploads/2026/03/Johana-Lugo-Galvan.jpg
GEO:33.5180516;-86.8001972
X-APPLE-STRUCTURED-LOCATION;VALUE=URI;X-ADDRESS=Space One Eleven 2409 2nd Ave N Birmingham AL 35203 United States;X-APPLE-RADIUS=500;X-TITLE=2409 2nd Ave N:geo:-86.8001972,33.5180516
END:VEVENT
END:VCALENDAR