BEGIN:VCALENDAR
VERSION:2.0
PRODID:-//Bham Now - ECPv6.15.20//NONSGML v1.0//EN
CALSCALE:GREGORIAN
METHOD:PUBLISH
X-WR-CALNAME:Bham Now
X-ORIGINAL-URL:https://bhamnow.com
X-WR-CALDESC:Events for Bham Now
REFRESH-INTERVAL;VALUE=DURATION:PT1H
X-Robots-Tag:noindex
X-PUBLISHED-TTL:PT1H
BEGIN:VTIMEZONE
TZID:America/Chicago
BEGIN:DAYLIGHT
TZOFFSETFROM:-0600
TZOFFSETTO:-0500
TZNAME:CDT
DTSTART:20250309T080000
END:DAYLIGHT
BEGIN:STANDARD
TZOFFSETFROM:-0500
TZOFFSETTO:-0600
TZNAME:CST
DTSTART:20251102T070000
END:STANDARD
BEGIN:DAYLIGHT
TZOFFSETFROM:-0600
TZOFFSETTO:-0500
TZNAME:CDT
DTSTART:20260308T080000
END:DAYLIGHT
BEGIN:STANDARD
TZOFFSETFROM:-0500
TZOFFSETTO:-0600
TZNAME:CST
DTSTART:20261101T070000
END:STANDARD
BEGIN:DAYLIGHT
TZOFFSETFROM:-0600
TZOFFSETTO:-0500
TZNAME:CDT
DTSTART:20270314T080000
END:DAYLIGHT
BEGIN:STANDARD
TZOFFSETFROM:-0500
TZOFFSETTO:-0600
TZNAME:CST
DTSTART:20271107T070000
END:STANDARD
END:VTIMEZONE
BEGIN:VEVENT
DTSTART;TZID=America/Chicago:20260421T140000
DTEND;TZID=America/Chicago:20260421T170000
DTSTAMP:20260422T230422
CREATED:20260409T000928Z
LAST-MODIFIED:20260409T000928Z
UID:10097963-1776780000-1776790800@bhamnow.com
SUMMARY:Annual Bay of Pigs Commemoration
DESCRIPTION:Each year\, the Southern Museum of Flight family\, joined by its partners at the 117th Air Refueling Wing of the Alabama Air National Guard\, gathers in solemn remembrance to honor four Alabamians who paid the ultimate price during the Bay of Pigs Invasion in April 1961. Their service and sacrifice\, carried out in the name of freedom\, remain an enduring part of Alabama’s aviation and military legacy.\nOn April 21 the Southern Museum of Flight will commemorate the 65th anniversary.
URL:https://bhamnow.com/bhamn-event/annual-bay-of-pigs-commemoration/
ATTACH;FMTTYPE=image/jpeg:https://southernmuseumofflight.org/wp-content/uploads/2025/12/photo-1.webp
END:VEVENT
END:VCALENDAR