BEGIN:VCALENDAR
VERSION:2.0
PRODID:-//Bham Now - ECPv6.15.20//NONSGML v1.0//EN
CALSCALE:GREGORIAN
METHOD:PUBLISH
X-WR-CALNAME:Bham Now
X-ORIGINAL-URL:https://bhamnow.com
X-WR-CALDESC:Events for Bham Now
REFRESH-INTERVAL;VALUE=DURATION:PT1H
X-Robots-Tag:noindex
X-PUBLISHED-TTL:PT1H
BEGIN:VTIMEZONE
TZID:America/Chicago
BEGIN:DAYLIGHT
TZOFFSETFROM:-0600
TZOFFSETTO:-0500
TZNAME:CDT
DTSTART:20240310T080000
END:DAYLIGHT
BEGIN:STANDARD
TZOFFSETFROM:-0500
TZOFFSETTO:-0600
TZNAME:CST
DTSTART:20241103T070000
END:STANDARD
BEGIN:DAYLIGHT
TZOFFSETFROM:-0600
TZOFFSETTO:-0500
TZNAME:CDT
DTSTART:20250309T080000
END:DAYLIGHT
BEGIN:STANDARD
TZOFFSETFROM:-0500
TZOFFSETTO:-0600
TZNAME:CST
DTSTART:20251102T070000
END:STANDARD
BEGIN:DAYLIGHT
TZOFFSETFROM:-0600
TZOFFSETTO:-0500
TZNAME:CDT
DTSTART:20260308T080000
END:DAYLIGHT
BEGIN:STANDARD
TZOFFSETFROM:-0500
TZOFFSETTO:-0600
TZNAME:CST
DTSTART:20261101T070000
END:STANDARD
BEGIN:DAYLIGHT
TZOFFSETFROM:-0600
TZOFFSETTO:-0500
TZNAME:CDT
DTSTART:20270314T080000
END:DAYLIGHT
BEGIN:STANDARD
TZOFFSETFROM:-0500
TZOFFSETTO:-0600
TZNAME:CST
DTSTART:20271107T070000
END:STANDARD
END:VTIMEZONE
BEGIN:VEVENT
DTSTART;TZID=America/Chicago:20260418T183000
DTEND;TZID=America/Chicago:20260418T210000
DTSTAMP:20260420T105900
CREATED:20260402T173729Z
LAST-MODIFIED:20260402T173729Z
UID:10097725-1776537000-1776546000@bhamnow.com
SUMMARY:A Totally Awesome 80’s Murder Mystery Dinner Event at Birmingham’s Arlington Historic House
DESCRIPTION:Saturday Night April 18\, 6:30 pm. Totally Awesome 1980’s Themed Interactive Murder Mystery Dinner Event at the Beautiful and Historic Arlington House in Birmingham\, Al. 1980’s\nCostumes are Fun \, but completely optional .\nFun and Interactive Murder Mystery Dinner Event taking you back to the totally awesome 80’s! You’ll actively participate in the fun clue based mystery game at the Mansion. Very easy and no memorization! \nExplore the beautiful Mansion and it’s collection of historic antiques and artifacts too! All of this excitement is brought to you by the TV Personalities Lesley Ann Hyde and The Southern Ghost Girls Tours as seen on A & E’s Truth or Legends in Your Hometown and Arlington 1840’s Historic House in Birmingham!\nFun Party Atmosphere as you participate in the Murder Mystery Dinner Event. You will enjoy a delicious Farm to Table Dinner prepared by Birmingham Chef Matthew Murphree in the historic dining room.\nThis is a Fun One of a Kind Event that you do not want to miss. Perfect for Friends Night Out\, Date Night\, Game Night \, Family Night\, Birthdays\, Office Parties \, Holiday Parties and Team Building or just to celebrate the Season! The Price of your Ticket includes Self Guided Tour of the Mansion and Grounds\, Dinner \, Interacting in the Murder Mystery . Weather Permitting we will try to do some of the Event Outside on the portico.\nEVERYONE INVITED! Come join the Southern Ghost Girls Tours At Birmingham’s Oldest Home that was originally built in the 1840’s . Arlington Historic House and Gardens. 331 Cotton Ave SW Birmingham\, Al. 35211. The home has a very interesting and storied past including stories of the Early Founders of Birmingham to Stories of A Romance that suffered a tragic ending.\nSee our website and our Facebook Page The Southern Ghost Girls Tours For Information under Events and tickets at www.southernghostgirls.com through Eventbrite\,
URL:https://bhamnow.com/bhamn-event/a-totally-awesome-80s-murder-mystery-dinner-event-at-birminghams-arlington-historic-house/
LOCATION:Historic Arlington House and Gardens\, 331 Cotton Avenue Southwest\, Birmingham\, AL\, 35211\, United States
CATEGORIES:Special Event
ATTACH;FMTTYPE=image/png:https://bhamnow.com/wp-content/uploads/2026/04/0C8573AE-81B2-4C35-9817-DC8AFD91F486.png
END:VEVENT
BEGIN:VEVENT
DTSTART;TZID=America/Chicago:20260321T183000
DTEND;TZID=America/Chicago:20260321T210000
DTSTAMP:20260420T105900
CREATED:20260309T174849Z
LAST-MODIFIED:20260309T174849Z
UID:10092858-1774117800-1774126800@bhamnow.com
SUMMARY:Totally Awesome 80’s Murder Mystery Dinner Event \, Birmingham’s Arlington Historic House
DESCRIPTION:Sat. March 21\, 6:30 pm. Totally Awesome 1980’s Themed Interactive Murder Mystery Dinner Event at the Beautiful and Historic Arlington House in Birmingham\, Al. 1980’s\nCostumes are Fun \, but completely optional .\nFun and Interactive Murder Mystery Dinner Event taking you back to the totally awesome 80’s! You’ll actively participate in the fun clue based mystery game at the Mansion. Very easy and no memorization! \nExplore the beautiful Mansion and it’s collection of historic antiques and artifacts too! All of this excitement is brought to you by the TV Personalities Lesley Ann Hyde and The Southern Ghost Girls Tours as seen on A & E’s Truth or Legends in Your Hometown and Arlington 1840’s Historic House in Birmingham!\nFun Party Atmosphere as you participate in the Murder Mystery Dinner Event. You will enjoy a delicious Farm to Table Dinner prepared by Birmingham Chef Matthew Murphree in the historic dining room.\nThis is a Fun One of a Kind Event that you do not want to miss. Perfect for Friends Night Out\, Date Night\, Game Night \, Family Night\, Birthdays\, Office Parties \, Holiday Parties and Team Building or just to celebrate the Season! The Price of your Ticket includes Self Guided Tour of the Mansion and Grounds\, Dinner \, Interacting in the Murder Mystery . Weather Permitting we will try to do some of the Event Outside on the portico. \nFor more information and tickets go to www.southernghostgirls.com
URL:https://bhamnow.com/bhamn-event/totally-awesome-80s-murder-mystery-dinner-event-birminghams-arlington-historic-house/
LOCATION:Historic Arlington House and Gardens\, 331 Cotton Avenue Southwest\, Birmingham\, AL\, 35211\, United States
CATEGORIES:Special Event
ATTACH;FMTTYPE=image/png:https://bhamnow.com/wp-content/uploads/2026/03/0C8573AE-81B2-4C35-9817-DC8AFD91F486.png
END:VEVENT
BEGIN:VEVENT
DTSTART;TZID=America/Chicago:20260313T183000
DTEND;TZID=America/Chicago:20260313T220000
DTSTAMP:20260420T105900
CREATED:20260311T173913Z
LAST-MODIFIED:20260311T173913Z
UID:10092980-1773426600-1773439200@bhamnow.com
SUMMARY:Friday the 13th Real Paranormal Investigation at Haunted Atrox Factory
DESCRIPTION:Special Friday the 13th Event . Experience a “ Real Paranormal Investigation”behind the scenes at Alabama’s Largest Haunted Attraction. Go behind the scenes and search for the odd paranormal activity that has occurred and been documented. This exclusive event will be led by professional paranormal investigators and researchers Southern Ghost Girls Tours and Psychic Medium Lesley Ann Hyde. Tickets at Atrox factory.com
URL:https://bhamnow.com/bhamn-event/friday-the-13th-real-paranormal-investigation-at-haunted-atrox-factory/
CATEGORIES:Special Event
ATTACH;FMTTYPE=image/jpeg:https://bhamnow.com/wp-content/uploads/2026/03/IMG_3432.jpeg
END:VEVENT
BEGIN:VEVENT
DTSTART;TZID=America/Chicago:20260228T190000
DTEND;TZID=America/Chicago:20260228T223000
DTSTAMP:20260420T105900
CREATED:20260220T163527Z
LAST-MODIFIED:20260220T163527Z
UID:10092709-1772305200-1772317800@bhamnow.com
SUMMARY:Real Ghost Hunt/ Paranormal Investigation\, Arlington Historic House
DESCRIPTION:Real Ghost Hunt Investigation in the cozy house in the Dead of Winter. Saturday Feb 28 at 7:00 pm CST. Immerse yourself in a Dead of Winter Real Ghost Hunt and interactive Paranormal Investigation hosted by TV Personalities The Southern Ghost Girls Tours ! Only One Exclusive Night in February does the team get to investigate at Arlington House ! They are the only paranormal investigation team that has exclusive access to investigate the mansion! You’ll be the only ones to have nighttime access to the 1840’s Historic and Haunted Arlington House in Birmingham\, Al. You’ll actively participate in the paranormal investigation using real paranormal equipment that you’ve seen on all of your favorite Paranormal Shows. Explore the beautiful Mansion and it’s collection of historic antiques and artifacts too! All of this excitement is brought to you by the TV Paranormal Investigator and Psychic Medium Lesley Ann Hyde and The Southern Ghost Girls.\nYou will get to investigate the grounds around the mansion too as you use state of the art paranormal Investigation equipment and old school methods to communicate with the afterlife ! This is a Fun Interactive One of a Kind Event that you Do Not want to miss. Perfect for Friends Night Out\, Date Night\, Game Night \, Family Night\, Birthdays\, Office Parties \, Team Building and Celebrations.
URL:https://bhamnow.com/bhamn-event/real-ghost-hunt-paranormal-investigation-arlington-historic-house/
LOCATION:Historic Arlington House and Gardens\, 331 Cotton Avenue Southwest\, Birmingham\, AL\, 35211\, United States
CATEGORIES:Special Events,Tours
ATTACH;FMTTYPE=image/png:https://bhamnow.com/wp-content/uploads/2026/02/Untitled.png
END:VEVENT
BEGIN:VEVENT
DTSTART;TZID=America/Chicago:20260213T183000
DTEND;TZID=America/Chicago:20260213T213000
DTSTAMP:20260420T105900
CREATED:20260127T164011Z
LAST-MODIFIED:20260127T164011Z
UID:10091659-1771007400-1771018200@bhamnow.com
SUMMARY:Friday the 13th First Ever Paranormal Investigation/ Ghost Hunt of Atrox Factory
DESCRIPTION:Friday the 13th First Time Ever Public Paranormal Investigation of Atrox Factory! Atrox Factory is opening its doors for something truly unforgettable on February 13th and March 13th. We’re teaming up with Southern Ghost Girls Tours & Paranormal Investigations to bring you an intimate\, after-hours paranormal ghost tour inside Atrox Factory – and yes\, it’s open to the public. 👻 \nIf you’re fascinated by the unknown\, curious about real paranormal investigations\, or looking for the most unconventional experience imaginable\, this event is for you. Explore the dark corners of Atrox Factory\, and witness the energy that created this special event! \nThink ghosts aren’t real? Or maybe you already believe… 👀
URL:https://bhamnow.com/bhamn-event/friday-the-13th-first-ever-paranormal-investigation-ghost-hunt-of-atrox-factory/
CATEGORIES:Special Event
ATTACH;FMTTYPE=image/jpeg:https://bhamnow.com/wp-content/uploads/2026/01/IMG_2593.jpeg
END:VEVENT
BEGIN:VEVENT
DTSTART;TZID=America/Chicago:20260130T190000
DTEND;TZID=America/Chicago:20260130T223000
DTSTAMP:20260420T105900
CREATED:20260119T154054Z
LAST-MODIFIED:20260119T154054Z
UID:10091542-1769799600-1769812200@bhamnow.com
SUMMARY:Haunted Winter Ghost Hunt at Birmingham’s 1800’s Arlington Historic House
DESCRIPTION:Real Ghost Hunt Investigation in the cozy house in the Dead of Winter. Friday January 30 at 7:00 pm CST. Immerse yourself in a Dead of Winter Real Ghost Hunt and interactive Paranormal Investigation hosted by TV Personalities The Southern Ghost Girls Tours ! Only One Exclusive Night in January does the team get to investigate at Arlington House ! They are the only paranormal investigation team that has exclusive access to investigate the mansion! You’ll be the only ones to have nighttime access to the 1840’s Historic and Haunted Arlington House in Birmingham\, Al. You’ll actively participate in the paranormal investigation using real paranormal equipment that you’ve seen on all of your favorite Paranormal Shows. Explore the beautiful Mansion and it’s collection of historic antiques and artifacts too! All of this excitement is brought to you by the TV Paranormal Investigator and Psychic Medium Lesley Ann Hyde and The Southern Ghost Girls.\nYou will get to investigate the grounds around the mansion too as you use state of the art paranormal Investigation equipment and old school methods to communicate with the afterlife ! This is a Fun Interactive One of a Kind Event that you Do Not want to miss. Perfect for Friends Night Out\, Date Night\, Game Night \, Family Night\, Birthdays\, Office Parties \, Team Building and Celebrations.\nCome join the Southern Ghost Girls At Birmingham’s Only surviving Home originally built in the 1840’s . Arlington Historic House and Gardens. 331 Cotton Ave SW Birmingham\, Al. 35211. The home has a very interesting and storied past including a story of A Romance that suffered a tragic ending.\nThe Home has had several unexplained experiences and Paranormal Phenomena We will Tell You about! Southern Ghost Girls Tours Founder Lesley Ann and her team have experienced several paranormal incidents while investigating the Mansion! Other Interactive tours have resulted in capturing a lot of evidence. You will want to Experience This Yourself! Be a part of the excitement ! We will supply investigation equipment and you can bring your own. If you’ve ever wanted to participate in something like this at a Historic Home ….This is the perfect opportunity!! Even the seasoned paranormal investigator will enjoy this! See our website and our Facebook page The Southern Ghost Girls Tours For Information under Events on the Calendar. www.southernghostgirls.com
URL:https://bhamnow.com/bhamn-event/haunted-winter-ghost-hunt-at-birminghams-1800s-arlington-historic-house/
LOCATION:Historic Arlington House and Gardens\, 331 Cotton Avenue Southwest\, Birmingham\, AL\, 35211\, United States
CATEGORIES:Special Event,Tours
ATTACH;FMTTYPE=image/png:https://bhamnow.com/wp-content/uploads/2026/01/Untitled-1.png
END:VEVENT
BEGIN:VEVENT
DTSTART;TZID=America/Chicago:20260124T183000
DTEND;TZID=America/Chicago:20260124T210000
DTSTAMP:20260420T105900
CREATED:20260108T165529Z
LAST-MODIFIED:20260108T165529Z
UID:10089900-1769279400-1769288400@bhamnow.com
SUMMARY:Mardi Gras Murder Mystery Dinner at Arlington Historic House
DESCRIPTION:Mardi Gras Murder Mystery Dinner at the Masquerade Set in New Orleans \nStep into the mystery and magic of Mardi Gras Seson at the Arlington Historic House! This is an in-person event\, hosted by TV Personalities Southern Ghost Tours ! You are invitesd to don your best mask and Mardi Gras colors if you like\, and unravel clues in a thrilling interactive murder mystery set in New Orleans during Mardi Gras Season.\nExpect an evening full of secrets\, suspense\, and lots of fun. Get ready to mix and mingle\, investigate\, and celebrate Mardi Gras Season like never before! \nEnjoy a Farm to Table Dinner by Chef Matthew Murphree at the beautiful 1840’s Arlington Historic House . \nThis Event is perfect for date night\, friends night\, family night\, group night\, any type of celebration and more . \nYou may tour the beautiful 1840’s Mansion with its array of priceless antiques and it’s beautiful manicured gardens .\nArlington Historic House is the oldest surviving home in Birmingham and has a storied past . It’s collection of historic antiques\, artwork and artifacts are among the many treasures you will find in the museum. \nMore information can be found by contacting your host at www.southernghostgirls.com\nThis is an interactive event\, but participation is optional. Costumes\, Mardi Gras masks and accessories are optional.\nFree secured parking inside the gate adjacent to the mansion.
URL:https://bhamnow.com/bhamn-event/mardi-gras-murder-mystery-dinner-at-arlington-historic-house/
LOCATION:Historic Arlington House and Gardens\, 331 Cotton Avenue Southwest\, Birmingham\, AL\, 35211\, United States
CATEGORIES:Fundraiser,Holidays
ATTACH;FMTTYPE=image/png:https://bhamnow.com/wp-content/uploads/2026/01/Untitled.png
END:VEVENT
BEGIN:VEVENT
DTSTART;TZID=America/Chicago:20251219T183000
DTEND;TZID=America/Chicago:20251219T213000
DTSTAMP:20260420T105900
CREATED:20251121T210904Z
LAST-MODIFIED:20251121T210904Z
UID:10088267-1766169000-1766179800@bhamnow.com
SUMMARY:Santa got Sleighed! Christmas Murder Mystery Dinner\, Arlington Historic House
DESCRIPTION:Oh No! Santa was Sleighed ! Help us find out who did this ! Join the fun for the Christmas Themed Murder Mystery Dinner with Optional Christmas Ghosts & Spirits of the Past Tour of The Mansion After Dinner and once the mystery is solved! Fun and Interactive Christmas Themed Murder Mystery Dinner where you get to try and solve the crime before Christmas Time! You also get to Explore the beautiful Mansion and it’s collection of historic antiques and artifacts while it is all decorated for Christmas! ! All of this excitement is brought to you by the Tour Professionals and TV Personalities Lesley Ann Hyde and The Southern Ghost Girls as seen on A & E’s Truth or Legends in Your Hometown and Arlington 1840’s Historic House in Birmingham! Fun Party Atmosphere as you participate in the Murder Mystery Dinner. You will enjoy a Christmas Dinner prepared by Chef Matthew Murphee . After the Murder Mystery Dinner \, if you like and completely optional you will Get to Participate in an Exclusive Ghosts & Spirits of the Past Tour of the beautiful Mansion. This is a One of a Kind I Event that you Do not want to miss. Perfect for Friends Night Out\, Date Night\, Game Night \, Family Night\, Birthdays\, Office Parties and Team Building or just to celebrate the Holiday Season! \nThe Price of your Ticket includes Dinner \, Interacting in the Christmas Season Murder Mystery Event and Self Guided Tour of the Home . Optional Ghost & Spirits of Christmas Past Tour afterwards is also included .\nFor more information go to the event link at Eventbrite.
URL:https://bhamnow.com/bhamn-event/santa-got-sleighed-christmas-murder-mystery-dinner-arlington-historic-house/
LOCATION:Historic Arlington House and Gardens\, 331 Cotton Avenue Southwest\, Birmingham\, AL\, 35211\, United States
CATEGORIES:Holidays
ATTACH;FMTTYPE=image/jpeg:https://bhamnow.com/wp-content/uploads/2025/11/4FC1C0F0-20BC-4EA4-8AEC-68511D06D6C7.jpeg
END:VEVENT
BEGIN:VEVENT
DTSTART;TZID=America/Chicago:20250913T190000
DTEND;TZID=America/Chicago:20250913T223000
DTSTAMP:20260420T105900
CREATED:20250912T173205Z
LAST-MODIFIED:20250912T173205Z
UID:10084613-1757790000-1757802600@bhamnow.com
SUMMARY:Real Ghost Hunt and Paranormal Investigation at Birmingham's Arlington Historic House
DESCRIPTION:Explore Arlington Historic House after hours for a paranormal investigation. Immerse yourself in a real ghost hunt as you use real paranormal investigation techniques and equipment. This is a real ghost hunt and is perfect for date night\, family night\, friends’ night out and more. Get tickets at Eventbrite and www.southernghostgirls.com
URL:https://bhamnow.com/bhamn-event/real-ghost-hunt-and-paranormal-investigation-at-birminghams-arlington-historic-house/
LOCATION:Birmingham’s Arlington Antebellum Home and Gardens\, 331 Cotton Ave SW\, Birmingham\, AL\, 35211\, United States
ATTACH;FMTTYPE=image/png:https://bhamnow.com/wp-content/uploads/2025/09/GH-Arlington.png
GEO:33.4994712;-86.8390248
X-APPLE-STRUCTURED-LOCATION;VALUE=URI;X-ADDRESS=Birmingham’s Arlington Antebellum Home and Gardens 331 Cotton Ave SW Birmingham AL 35211 United States;X-APPLE-RADIUS=500;X-TITLE=331 Cotton Ave SW:geo:-86.8390248,33.4994712
END:VEVENT
BEGIN:VEVENT
DTSTART;TZID=America/Chicago:20250912T183000
DTEND;TZID=America/Chicago:20250912T210000
DTSTAMP:20260420T105900
CREATED:20250911T162544Z
LAST-MODIFIED:20250911T162544Z
UID:10084597-1757701800-1757710800@bhamnow.com
SUMMARY:Roaring 20’s 100 Years of  Gatsby Murder Mystery Dinner\, Arlington Historic House
DESCRIPTION:Celebrate 100 Years of “The Great Gatsby “ at this fun interactive experience.. Costumes are fun\, but optional. Exciting Murder Mystery Dinner Event at the beautiful 1800’s Mansion where you get to try your hand at being a sleuth for the evening . You will enjoy a delicious farm to table dinner prepared by Birmingham Chef Matthew Murphree. Get tickets at this link or get them at www.southernghostgirls.com
URL:https://bhamnow.com/bhamn-event/roaring-20s-100-years-of-gatsby-murder-mystery-dinner-arlington-historic-house/
LOCATION:Historic Arlington House and Gardens\, 331 Cotton Avenue Southwest\, Birmingham\, AL\, 35211\, United States
CATEGORIES:Special Event
ATTACH;FMTTYPE=image/png:https://bhamnow.com/wp-content/uploads/2025/09/100-years-Gatsby.png
END:VEVENT
BEGIN:VEVENT
DTSTART;TZID=America/Chicago:20250502T190000
DTEND;TZID=America/Chicago:20250502T223000
DTSTAMP:20260420T105900
CREATED:20250425T155226Z
LAST-MODIFIED:20250425T155226Z
UID:10080607-1746212400-1746225000@bhamnow.com
SUMMARY:May Mayhem Real Ghost Hunt at Birmingham’s Historic Arlington House
DESCRIPTION:Join TV Personalities and professional Paranormal Investigators The Southern Ghost Girls Tours as you participate in a real interactive Paranormal investigation of the haunted 1800’s Mansion. You’ll get to use real state of the art paranormal investigation equipment aa you look for the paranormal activity. You’ll get to will participate in paranormal investigation techniques. Get tickets for this one of a kind event at www.southernghostgirls.com
URL:https://bhamnow.com/bhamn-event/may-mayhem-real-ghost-hunt-at-birminghams-historic-arlington-house/
LOCATION:Historic Arlington House and Gardens\, 331 Cotton Avenue Southwest\, Birmingham\, AL\, 35211\, United States
CATEGORIES:Tours
ATTACH;FMTTYPE=image/png:https://bhamnow.com/wp-content/uploads/2025/04/822B21D4-08E6-434B-A8F4-E8662031CAFB.png
END:VEVENT
BEGIN:VEVENT
DTSTART;TZID=America/Chicago:20250411T183000
DTEND;TZID=America/Chicago:20250411T210000
DTSTAMP:20260420T105900
CREATED:20250325T112936Z
LAST-MODIFIED:20250325T112936Z
UID:10079474-1744396200-1744405200@bhamnow.com
SUMMARY:Spring Roaring 20’s Gatsby Themed Murder Mystery Dinner Event
DESCRIPTION:6:30 pm CST. Celebrate a Roaring Good Time with a fun Roaring 20’s Themed Murder Mystery Dinner Event at The Historic Arlington House as it’s transformed to a speakeasy for the night. Costumes are fun but Optional. This event is perfect for celebrations\, date night\, friends night out\, family night\, birthdays\, anniversaries and more. Optional Ghosts & Spirits of the Past and Haunts Walk of The Mansion After Dinner and once the mystery is solved! Fun and Interactive Gatsby Themed Murder Mystery Dinner where you get to try and solve the crime before the murderer gets away. You also get to explore the beautiful Mansion and it’s collection of historic antiques and artifacts before the dinner begins! ! All of this excitement is brought to you by the Tour Professionals and TV Personalities Lesley Ann Hyde and The Southern Ghost Girls as seen on A & E’s Truth or Legends in Your Hometown and Arlington 1840’s Historic House in Birmingham! Fun Party Atmosphere as you participate in the Murder Mystery Dinner. You will enjoy Dinner prepared by Chef Matthew Murphee . After the Murder Mystery Dinner \, if you like And completely optional you will Get to Participate in an Exclusive Ghosts & Spirits of the Past Hunt of the beautiful Mansion and Grounds as you use state of the art paranormal Investigation equipment! This is a One of a Kind I Event that you Do not want to miss. Perfect for Friends Night Out\, Date Night\, Game Night \, Family Night\, Birthdays\, Office Parties and Team Building or just to celebrate the Holiday Season! The Price of your Ticket includes Dinner \, Interacting in the Murder Mystery Event and Self Guided Tour of the Home . Optional Ghost & Spirits of the Past Hunt afterwards is also included .\nCome join the Southern Ghost Girls At Birmingham’s Only surviving Antebellum Home from the Civil War Era that was originally built in the 1840’s . Arlington Historic House and Gardens. 331 Cotton Ave SW Birmingham\, Al. 35211. The home has a very interesting and storied past including stories of the Early Founders of Birmingham to Stories Involving the Civil War to a story of A Romance that suffered a tragic ending. The Home has had several unexplained experiences and Paranormal Phenomena We will Tell You about! Lesley Ann and her team experienced several paranormal incidents while investigating the mansion. You will want to Experience This Yourself! Be a part of the excitement ! We will supply investigation equipment and you can bring your own. If you’ve ever wanted to participate in something like this at a Historic Home ….This is the perfect opportunity!! See our website and the Facebook Page The Southern Ghost Girls Tours For Information under Events on the Calendar. www.southernghostgirls.com COSTUMES ARE FUN AND ENCOURAGED BUT COMPLETELY OPTIONAL.
URL:https://bhamnow.com/bhamn-event/spring-roaring-20s-gatsby-themed-murder-mystery-dinner-event/
LOCATION:Historic Arlington House and Gardens\, 331 Cotton Avenue Southwest\, Birmingham\, AL\, 35211\, United States
CATEGORIES:Special Event
ATTACH;FMTTYPE=image/png:https://bhamnow.com/wp-content/uploads/2025/03/83CF2867-7EA7-468F-9139-5CF702D7D931.png
END:VEVENT
END:VCALENDAR