BEGIN:VCALENDAR
VERSION:2.0
PRODID:-//Bham Now - ECPv6.15.20//NONSGML v1.0//EN
CALSCALE:GREGORIAN
METHOD:PUBLISH
X-ORIGINAL-URL:https://bhamnow.com
X-WR-CALDESC:Events for Bham Now
REFRESH-INTERVAL;VALUE=DURATION:PT1H
X-Robots-Tag:noindex
X-PUBLISHED-TTL:PT1H
BEGIN:VTIMEZONE
TZID:America/Chicago
BEGIN:DAYLIGHT
TZOFFSETFROM:-0600
TZOFFSETTO:-0500
TZNAME:CDT
DTSTART:20250309T080000
END:DAYLIGHT
BEGIN:STANDARD
TZOFFSETFROM:-0500
TZOFFSETTO:-0600
TZNAME:CST
DTSTART:20251102T070000
END:STANDARD
BEGIN:DAYLIGHT
TZOFFSETFROM:-0600
TZOFFSETTO:-0500
TZNAME:CDT
DTSTART:20260308T080000
END:DAYLIGHT
BEGIN:STANDARD
TZOFFSETFROM:-0500
TZOFFSETTO:-0600
TZNAME:CST
DTSTART:20261101T070000
END:STANDARD
BEGIN:DAYLIGHT
TZOFFSETFROM:-0600
TZOFFSETTO:-0500
TZNAME:CDT
DTSTART:20270314T080000
END:DAYLIGHT
BEGIN:STANDARD
TZOFFSETFROM:-0500
TZOFFSETTO:-0600
TZNAME:CST
DTSTART:20271107T070000
END:STANDARD
END:VTIMEZONE
BEGIN:VEVENT
DTSTART;TZID=America/Chicago:20260503T120000
DTEND;TZID=America/Chicago:20260503T150000
DTSTAMP:20260420T205229
CREATED:20260409T001821Z
LAST-MODIFIED:20260409T001821Z
UID:10097961-1777809600-1777820400@bhamnow.com
SUMMARY:Summer Whites\, BBQ Reds Wine Tasting
DESCRIPTION:Join us for our biggest tasting of the year! We’re cracking open over 50 wines and breaking out the grill to celebrate the start of the summer season. This is always one of our most popular events each year\, don’t miss out on good food\, good wine\, and good times! Tickets available for purchase on our website\, and each ticket includes a $20 credit towards the purchase of any wines sampled so you can stock up for all your summer activities!
URL:https://bhamnow.com/bhamn-event/summer-whites-bbq-reds-wine-tasting/
LOCATION:Red or White Birmingham\, 3916 Clairmont Ave\, Birmingham\, AL\, 35222
CATEGORIES:Wine Tasting
ATTACH;FMTTYPE=image/png:https://bhamnow.com/wp-content/uploads/2026/04/SUMMER-REDS-2.png
END:VEVENT
END:VCALENDAR