BEGIN:VCALENDAR
VERSION:2.0
PRODID:-//Bham Now - ECPv6.15.20//NONSGML v1.0//EN
CALSCALE:GREGORIAN
METHOD:PUBLISH
X-WR-CALNAME:Bham Now
X-ORIGINAL-URL:https://bhamnow.com
X-WR-CALDESC:Events for Bham Now
REFRESH-INTERVAL;VALUE=DURATION:PT1H
X-Robots-Tag:noindex
X-PUBLISHED-TTL:PT1H
BEGIN:VTIMEZONE
TZID:America/Chicago
BEGIN:DAYLIGHT
TZOFFSETFROM:-0600
TZOFFSETTO:-0500
TZNAME:CDT
DTSTART:20250309T080000
END:DAYLIGHT
BEGIN:STANDARD
TZOFFSETFROM:-0500
TZOFFSETTO:-0600
TZNAME:CST
DTSTART:20251102T070000
END:STANDARD
BEGIN:DAYLIGHT
TZOFFSETFROM:-0600
TZOFFSETTO:-0500
TZNAME:CDT
DTSTART:20260308T080000
END:DAYLIGHT
BEGIN:STANDARD
TZOFFSETFROM:-0500
TZOFFSETTO:-0600
TZNAME:CST
DTSTART:20261101T070000
END:STANDARD
BEGIN:DAYLIGHT
TZOFFSETFROM:-0600
TZOFFSETTO:-0500
TZNAME:CDT
DTSTART:20270314T080000
END:DAYLIGHT
BEGIN:STANDARD
TZOFFSETFROM:-0500
TZOFFSETTO:-0600
TZNAME:CST
DTSTART:20271107T070000
END:STANDARD
END:VTIMEZONE
BEGIN:VEVENT
DTSTART;TZID=America/Chicago:20260425T140000
DTEND;TZID=America/Chicago:20260425T160000
DTSTAMP:20260420T092945
CREATED:20260414T172729Z
LAST-MODIFIED:20260414T172729Z
UID:10098013-1777125600-1777132800@bhamnow.com
SUMMARY:2026 English Village Spring Fling
DESCRIPTION:Join us for the English Village Spring Fling on Saturday\, April 25 from 2:00 to 4:00 PM for an afternoon of community\, shopping\, and springtime charm in one of Mountain Brook’s most beloved villages. \nHosted by the Mountain Brook Chamber of Commerce\, this event is made possible by Presenting Sponsor Ray & Poynor\, with additional support from Pinnacle Financial Partners and Still Johnson Interiors. \nStroll through English Village and enjoy a festive afternoon featuring a vintage car showcase from the Mountain Brook Driving Club\, live music\, and special promotions from your favorite local merchants. It is the perfect opportunity to shop for Mother’s Day\, meet friends\, and enjoy time in the village. \nThis year\, the Mountain Brook Driving Club is also helping raise awareness for Parkinson’s-related resources through partnerships with the YMCA of Greater Birmingham and the Parkinson Association of Alabama. Be sure to grab a raffle ticket during the event to support these efforts. \nRaffle items include experiences and gifts from:\nZoom Motorsports\nSeasons 52\nChar Bar\nFleming’s\nThe Bottle Shop \nWe hope to see you there!
URL:https://bhamnow.com/bhamn-event/2026-english-village-spring-fling/
ATTACH;FMTTYPE=image/png:https://bhamnow.com/wp-content/uploads/2026/04/2026-Spring-Fling-yard-signs-24-x-18-in-1-scaled.png
END:VEVENT
BEGIN:VEVENT
DTSTART;TZID=America/Chicago:20260512T113000
DTEND;TZID=America/Chicago:20260512T130000
DTSTAMP:20260420T092945
CREATED:20260414T172718Z
LAST-MODIFIED:20260414T172718Z
UID:10098014-1778585400-1778590800@bhamnow.com
SUMMARY:2026 Spring Luncheon| It Takes a Village
DESCRIPTION:Please join us for our Spring Chamber Luncheon as we welcome ALL IN Mountain Brook\, a local nonprofit dedicated to educating and supporting our community through resources focused on personal safety\, mental health\, and overall wellness. ALL IN Mountain Brook brings together families\, schools\, local government\, businesses\, and faith communities to help our community learn\, grow\, and thrive. Since 2014\, the organization has provided more than 100 hours of free workshops and educational programming led by local medical and mental health professionals\, equipping families and community members with valuable tools and information. During this special luncheon\, we will hear from ALL IN and a panel of industry experts as they share insights on how businesses and individuals can better support their teams\, families\, and community. Together\, we will explore the resources available right here in Mountain Brook and highlight the important role our business community plays in building a healthy\, connected\, and thriving community. Because in Mountain Brook\, it truly takes a village — and we like it that way!
URL:https://bhamnow.com/bhamn-event/2026-spring-luncheon-it-takes-a-village/
LOCATION:Grand Bohemian Ballroom 2655 Lane Parke Road Mountain Brook\, AL 35223\, 2401 Park Ln S\, United States
ATTACH;FMTTYPE=image/png:https://bhamnow.com/wp-content/uploads/2026/04/Copy-of-2026-Spring-Luncheon-2.png
GEO:26.0315262;-80.1743223
X-APPLE-STRUCTURED-LOCATION;VALUE=URI;X-ADDRESS=Grand Bohemian Ballroom 2655 Lane Parke Road Mountain Brook AL 35223 2401 Park Ln S United States;X-APPLE-RADIUS=500;X-TITLE=2401 Park Ln S:geo:-80.1743223,26.0315262
END:VEVENT
END:VCALENDAR