BEGIN:VCALENDAR
VERSION:2.0
PRODID:-//Bham Now - ECPv6.15.20//NONSGML v1.0//EN
CALSCALE:GREGORIAN
METHOD:PUBLISH
X-WR-CALNAME:Bham Now
X-ORIGINAL-URL:https://bhamnow.com
X-WR-CALDESC:Events for Bham Now
REFRESH-INTERVAL;VALUE=DURATION:PT1H
X-Robots-Tag:noindex
X-PUBLISHED-TTL:PT1H
BEGIN:VTIMEZONE
TZID:America/Chicago
BEGIN:DAYLIGHT
TZOFFSETFROM:-0600
TZOFFSETTO:-0500
TZNAME:CDT
DTSTART:20240310T080000
END:DAYLIGHT
BEGIN:STANDARD
TZOFFSETFROM:-0500
TZOFFSETTO:-0600
TZNAME:CST
DTSTART:20241103T070000
END:STANDARD
BEGIN:DAYLIGHT
TZOFFSETFROM:-0600
TZOFFSETTO:-0500
TZNAME:CDT
DTSTART:20250309T080000
END:DAYLIGHT
BEGIN:STANDARD
TZOFFSETFROM:-0500
TZOFFSETTO:-0600
TZNAME:CST
DTSTART:20251102T070000
END:STANDARD
BEGIN:DAYLIGHT
TZOFFSETFROM:-0600
TZOFFSETTO:-0500
TZNAME:CDT
DTSTART:20260308T080000
END:DAYLIGHT
BEGIN:STANDARD
TZOFFSETFROM:-0500
TZOFFSETTO:-0600
TZNAME:CST
DTSTART:20261101T070000
END:STANDARD
END:VTIMEZONE
BEGIN:VEVENT
DTSTART;TZID=America/Chicago:20251122T100000
DTEND;TZID=America/Chicago:20251122T120000
DTSTAMP:20260421T063413
CREATED:20251121T210906Z
LAST-MODIFIED:20251121T210906Z
UID:10088256-1763805600-1763812800@bhamnow.com
SUMMARY:Santa Paws: Pet Photos
DESCRIPTION:Santa Paws — Saturday\, Nov. 22! \nJoin Hand in Paw for pet portraits with Santa (only $20 for 2–3 digital images)\, complimentary cocoa and cider\, and Tito’s holiday cocktail kits available for a $50 donation. Proceeds support Hand in Paw’s Animal-Assisted Therapy programs. \n10 a.m.–12 p.m. | 617 38th Street South\, Birmingham
URL:https://bhamnow.com/bhamn-event/santa-paws-pet-photos/
LOCATION:Hand in Paw\, 617 38th St S\, Birmingham\, AL\, 35222\, United States
CATEGORIES:Holidays,In-Person Events,Photos
ATTACH;FMTTYPE=image/jpeg:https://bhamnow.com/wp-content/uploads/2025/11/Santa-Paws-2025-Event-Cover-scaled.jpg
GEO:33.5182575;-86.775075
X-APPLE-STRUCTURED-LOCATION;VALUE=URI;X-ADDRESS=Hand in Paw 617 38th St S Birmingham AL 35222 United States;X-APPLE-RADIUS=500;X-TITLE=617 38th St S:geo:-86.775075,33.5182575
END:VEVENT
BEGIN:VEVENT
DTSTART;TZID=America/Chicago:20250405T080000
DTEND;TZID=America/Chicago:20250405T120000
DTSTAMP:20260421T063413
CREATED:20250320T163733Z
LAST-MODIFIED:20250401T151450Z
UID:10079441-1743840000-1743854400@bhamnow.com
SUMMARY:Mutt Strut: Dog-Friendly 5K & Fun Run
DESCRIPTION:Grab your pup for this exciting fundraising event benefiting Hand in Paw. This pawsome morning will be filled with upbeat tunes\, vibrant 80s/90s outfits + tail-wagging fun. Note: Strollers are allowed on the race course + dogs must be leashed. \n 
URL:https://bhamnow.com/bhamn-event/mutt-strut-2025-hand-in-paws-dog-friendly-5k-fun-run/
LOCATION:Homewood Central Park\, 1632 Oxmoor Road\, Homewood\, AL\, 35209\, United States
ATTACH;FMTTYPE=image/jpeg:https://bhamnow.com/wp-content/uploads/2025/03/424bd0b6-f2de-11ef-b8b5-0a58a9feac02.webp-800x350.png
GEO:33.4762017;-86.7997984
X-APPLE-STRUCTURED-LOCATION;VALUE=URI;X-ADDRESS=Homewood Central Park 1632 Oxmoor Road Homewood AL 35209 United States;X-APPLE-RADIUS=500;X-TITLE=1632 Oxmoor Road:geo:-86.7997984,33.4762017
END:VEVENT
END:VCALENDAR