BEGIN:VCALENDAR
VERSION:2.0
PRODID:-//Bham Now - ECPv6.15.20//NONSGML v1.0//EN
CALSCALE:GREGORIAN
METHOD:PUBLISH
X-ORIGINAL-URL:https://bhamnow.com
X-WR-CALDESC:Events for Bham Now
REFRESH-INTERVAL;VALUE=DURATION:PT1H
X-Robots-Tag:noindex
X-PUBLISHED-TTL:PT1H
BEGIN:VTIMEZONE
TZID:America/Chicago
BEGIN:DAYLIGHT
TZOFFSETFROM:-0600
TZOFFSETTO:-0500
TZNAME:CDT
DTSTART:20250309T080000
END:DAYLIGHT
BEGIN:STANDARD
TZOFFSETFROM:-0500
TZOFFSETTO:-0600
TZNAME:CST
DTSTART:20251102T070000
END:STANDARD
BEGIN:DAYLIGHT
TZOFFSETFROM:-0600
TZOFFSETTO:-0500
TZNAME:CDT
DTSTART:20260308T080000
END:DAYLIGHT
BEGIN:STANDARD
TZOFFSETFROM:-0500
TZOFFSETTO:-0600
TZNAME:CST
DTSTART:20261101T070000
END:STANDARD
BEGIN:DAYLIGHT
TZOFFSETFROM:-0600
TZOFFSETTO:-0500
TZNAME:CDT
DTSTART:20270314T080000
END:DAYLIGHT
BEGIN:STANDARD
TZOFFSETFROM:-0500
TZOFFSETTO:-0600
TZNAME:CST
DTSTART:20271107T070000
END:STANDARD
END:VTIMEZONE
BEGIN:VEVENT
DTSTART;TZID=America/Chicago:20260424T100000
DTEND;TZID=America/Chicago:20260424T140000
DTSTAMP:20260423T101018
CREATED:20250120T202647Z
LAST-MODIFIED:20250120T202647Z
UID:10074550-1777024800-1777039200@bhamnow.com
SUMMARY:Jigsaw Puzzle Club | monthly at Grand River Pickers
DESCRIPTION:Join us in the Grand River Pickers Classroom for a fun morning of puzzles! We’ll have complimentary coffee available with cushioned seats and big tables ready for you to get to work on your puzzles. \nBring your favorite puzzle(s) to work &/or trade with others. Don’t forget your puzzle tools like sorting trays and mats to take home your puzzles\, and grab any puzzle enthusiast friends to join you\, too! You are welcome to bring a snack with you. We also have puzzles and puzzle tools available for purchase from our vendors. \nThis is a free event open to all ages. No reservation required but appreciated through our Facebook event link below.
URL:https://bhamnow.com/bhamn-event/jigsaw-puzzle-club-monthly-at-grand-river-pickers/2026-04-24/
LOCATION:Grand River Pickers\, 6200 Grand River Pkwy\, Leeds\, AL\, 35094\, United States
CATEGORIES:Family Friendly Programs,Meet & Greet
ATTACH;FMTTYPE=image/png:https://bhamnow.com/wp-content/uploads/2025/01/jigsaw-puzzle-club-600x300-1.png
ORGANIZER;CN="Grand River Pickers":MAILTO:grandriverpickers@gmail.com
END:VEVENT
BEGIN:VEVENT
DTSTART;TZID=America/Chicago:20260430T060000
DTEND;TZID=America/Chicago:20260430T193000
DTSTAMP:20260423T101018
CREATED:20250317T233920Z
LAST-MODIFIED:20250317T233920Z
UID:10078920-1777528800-1777577400@bhamnow.com
SUMMARY:Beginner Ukulele & Guitar Lesson | Grand River Pickers
DESCRIPTION:Join Archer Guitar Lessons in the Grand River Pickers Classroom for beginner ukulele and guitar lessons starting Thursday\, April 3.\nRegistration of $62.50 is for four 30 minute lessons every other week (April 3rd\, April 17th\, May 1st\, & May 15th).\nUkulele classes are 6:00 – 6:30pm | Guitar classes are 7:00 – 7:30pm\nAll lesson materials are provided – just bring your ukulele or guitar \nSpace is limited\, so get registered now to hold your space!\nContact Dolores Traylor with Archer Guitar Lessons\nemail: L59@windstream.net\nphone: (205) 629-6815\ncell phone: (205) 352-8306 \nFor additional details visit the Facebook event linked below!
URL:https://bhamnow.com/bhamn-event/beginner-ukulele-guitar-lesson-grand-river-pickers/2026-04-30/
LOCATION:Grand River Pickers\, 6200 Grand River Pkwy\, Leeds\, AL\, 35094\, United States
CATEGORIES:Music
ATTACH;FMTTYPE=image/png:https://bhamnow.com/wp-content/uploads/2025/03/25.4.3-Archer-guitar-lessons-600-x-300-px.png
ORGANIZER;CN="Grand River Pickers":MAILTO:grandriverpickers@gmail.com
END:VEVENT
END:VCALENDAR