BEGIN:VCALENDAR
VERSION:2.0
PRODID:-//Bham Now - ECPv6.15.20//NONSGML v1.0//EN
CALSCALE:GREGORIAN
METHOD:PUBLISH
X-ORIGINAL-URL:https://bhamnow.com
X-WR-CALDESC:Events for Bham Now
REFRESH-INTERVAL;VALUE=DURATION:PT1H
X-Robots-Tag:noindex
X-PUBLISHED-TTL:PT1H
BEGIN:VTIMEZONE
TZID:America/Chicago
BEGIN:DAYLIGHT
TZOFFSETFROM:-0600
TZOFFSETTO:-0500
TZNAME:CDT
DTSTART:20240310T080000
END:DAYLIGHT
BEGIN:STANDARD
TZOFFSETFROM:-0500
TZOFFSETTO:-0600
TZNAME:CST
DTSTART:20241103T070000
END:STANDARD
BEGIN:DAYLIGHT
TZOFFSETFROM:-0600
TZOFFSETTO:-0500
TZNAME:CDT
DTSTART:20250309T080000
END:DAYLIGHT
BEGIN:STANDARD
TZOFFSETFROM:-0500
TZOFFSETTO:-0600
TZNAME:CST
DTSTART:20251102T070000
END:STANDARD
BEGIN:DAYLIGHT
TZOFFSETFROM:-0600
TZOFFSETTO:-0500
TZNAME:CDT
DTSTART:20260308T080000
END:DAYLIGHT
BEGIN:STANDARD
TZOFFSETFROM:-0500
TZOFFSETTO:-0600
TZNAME:CST
DTSTART:20261101T070000
END:STANDARD
END:VTIMEZONE
BEGIN:VEVENT
DTSTART;TZID=America/Chicago:20251204T180000
DTEND;TZID=America/Chicago:20251204T220000
DTSTAMP:20260420T093741
CREATED:20251027T150832Z
LAST-MODIFIED:20251027T150832Z
UID:10087282-1764871200-1764885600@bhamnow.com
SUMMARY:GASP Presents: Toast to Clean Air 2025
DESCRIPTION:Toast to Clean Air is GASP’s annual celebration and call to action in a time of federal budget cuts\, environmental rollbacks\, and rising climate threats. Join us at Birmingham’s historic Sloss Furnaces for an unforgettable evening featuring keynote remarks from Catherine Coleman Flowers and Cliff Villa. Together we’ll honor climate champions\, reflect on Birmingham’s environmental past\, and power the future of clean air and environmental justice in Alabama. \nWhat GASP Does\nGASP (Greater Birmingham Alliance to Stop Pollution) works to advance healthy air and environmental justice across Alabama. Through community organizing\, policy advocacy\, education\, and scientific research\, GASP helps residents in pollution-burdened neighborhoods fight for cleaner air\, stronger protections\, and lasting change. From monitoring toxic emissions to training local advocates\, GASP builds the power and knowledge communities need. \nWhat to Expect\nInspiring keynote speakers: Catherine Coleman Flowers and Cliff Villa\nAwards ceremony recognizing community environmental leaders\nDinner\, drinks\, and live music included\nVIP guests enjoy a complimentary guided tour of the Sloss Furnaces \nWhy It Matters\nYour support fuels GASP’s work to combat air pollution\, demand accountability\, and build community resilience throughout Alabama. Together\, we can create a cleaner\, healthier\, and more just future for all. \nBe part of the movement. To sponsor Toast to Clean Air or request a sponsor packet\, email jmilton@gaspgroup.org
URL:https://bhamnow.com/bhamn-event/gasp-presents-toast-to-clean-air-2025/
LOCATION:Sloss Furnaces National Historic Landmark\, 20 32nd St N\, Birmingham\, AL 35222\, 2 32nd St N\, United States
CATEGORIES:Fundraiser,Green,Health,Health and Wellness,Local Events,Party With A Purpose!,Tours
ATTACH;FMTTYPE=image/png:https://bhamnow.com/wp-content/uploads/2025/10/Toast-to-clean-air-Flyer-11-x-17-in-2.png
ORGANIZER;CN="Gasp":MAILTO:social@gaspgroup.org
GEO:33.520899;-86.788285
X-APPLE-STRUCTURED-LOCATION;VALUE=URI;X-ADDRESS=Sloss Furnaces National Historic Landmark 20 32nd St N Birmingham AL 35222 2 32nd St N United States;X-APPLE-RADIUS=500;X-TITLE=2 32nd St N:geo:-86.788285,33.520899
END:VEVENT
END:VCALENDAR