BEGIN:VCALENDAR
VERSION:2.0
PRODID:-//Bham Now - ECPv6.15.20//NONSGML v1.0//EN
CALSCALE:GREGORIAN
METHOD:PUBLISH
X-ORIGINAL-URL:https://bhamnow.com
X-WR-CALDESC:Events for Bham Now
REFRESH-INTERVAL;VALUE=DURATION:PT1H
X-Robots-Tag:noindex
X-PUBLISHED-TTL:PT1H
BEGIN:VTIMEZONE
TZID:America/Chicago
BEGIN:DAYLIGHT
TZOFFSETFROM:-0600
TZOFFSETTO:-0500
TZNAME:CDT
DTSTART:20240310T080000
END:DAYLIGHT
BEGIN:STANDARD
TZOFFSETFROM:-0500
TZOFFSETTO:-0600
TZNAME:CST
DTSTART:20241103T070000
END:STANDARD
BEGIN:DAYLIGHT
TZOFFSETFROM:-0600
TZOFFSETTO:-0500
TZNAME:CDT
DTSTART:20250309T080000
END:DAYLIGHT
BEGIN:STANDARD
TZOFFSETFROM:-0500
TZOFFSETTO:-0600
TZNAME:CST
DTSTART:20251102T070000
END:STANDARD
BEGIN:DAYLIGHT
TZOFFSETFROM:-0600
TZOFFSETTO:-0500
TZNAME:CDT
DTSTART:20260308T080000
END:DAYLIGHT
BEGIN:STANDARD
TZOFFSETFROM:-0500
TZOFFSETTO:-0600
TZNAME:CST
DTSTART:20261101T070000
END:STANDARD
END:VTIMEZONE
BEGIN:VEVENT
DTSTART;TZID=America/Chicago:20251005T120000
DTEND;TZID=America/Chicago:20251005T160000
DTSTAMP:20260423T071127
CREATED:20250926T192413Z
LAST-MODIFIED:20250926T192413Z
UID:10085239-1759665600-1759680000@bhamnow.com
SUMMARY:Let's Get Ready to Frydown!
DESCRIPTION:  \nOctober 5th\, 12pm – 4pm\nat Cahaba Brewing Company\n\nThe countdown is on! Cahaba River Frydown is almost here\, and you don’t want to miss Birmingham’s biggest river celebration!
URL:https://bhamnow.com/bhamn-event/lets-get-ready-to-frydown/
LOCATION:Cahaba Brewing Co.\, 4500 5th Ave South\, Birmingham\, AL\, 35222\, United States
ATTACH;FMTTYPE=image/jpeg:https://mcusercontent.com/bf9d395fab81a90d0db80b1ba/images/70acdae3-87bb-1826-439c-4f28630a484b.png
GEO:33.5267234;-86.7648818
X-APPLE-STRUCTURED-LOCATION;VALUE=URI;X-ADDRESS=Cahaba Brewing Co. 4500 5th Ave South Birmingham AL 35222 United States;X-APPLE-RADIUS=500;X-TITLE=4500 5th Ave South:geo:-86.7648818,33.5267234
END:VEVENT
END:VCALENDAR