BEGIN:VCALENDAR
VERSION:2.0
PRODID:-//Bham Now - ECPv6.15.20//NONSGML v1.0//EN
CALSCALE:GREGORIAN
METHOD:PUBLISH
X-ORIGINAL-URL:https://bhamnow.com
X-WR-CALDESC:Events for Bham Now
REFRESH-INTERVAL;VALUE=DURATION:PT1H
X-Robots-Tag:noindex
X-PUBLISHED-TTL:PT1H
BEGIN:VTIMEZONE
TZID:America/Chicago
BEGIN:DAYLIGHT
TZOFFSETFROM:-0600
TZOFFSETTO:-0500
TZNAME:CDT
DTSTART:20250309T080000
END:DAYLIGHT
BEGIN:STANDARD
TZOFFSETFROM:-0500
TZOFFSETTO:-0600
TZNAME:CST
DTSTART:20251102T070000
END:STANDARD
BEGIN:DAYLIGHT
TZOFFSETFROM:-0600
TZOFFSETTO:-0500
TZNAME:CDT
DTSTART:20260308T080000
END:DAYLIGHT
BEGIN:STANDARD
TZOFFSETFROM:-0500
TZOFFSETTO:-0600
TZNAME:CST
DTSTART:20261101T070000
END:STANDARD
BEGIN:DAYLIGHT
TZOFFSETFROM:-0600
TZOFFSETTO:-0500
TZNAME:CDT
DTSTART:20270314T080000
END:DAYLIGHT
BEGIN:STANDARD
TZOFFSETFROM:-0500
TZOFFSETTO:-0600
TZNAME:CST
DTSTART:20271107T070000
END:STANDARD
END:VTIMEZONE
BEGIN:VEVENT
DTSTART;TZID=America/Chicago:20260425T120000
DTEND;TZID=America/Chicago:20260425T150000
DTSTAMP:20260422T124709
CREATED:20260317T192836Z
LAST-MODIFIED:20260317T192836Z
UID:10093031-1777118400-1777129200@bhamnow.com
SUMMARY:WING WARS benefiting Blood Cancer United
DESCRIPTION:The heat is on at our second annual Wing Wars Birmingham! Join us on Saturday\, April 25\, 2026\, from 12:00 PM to 3:00 PM at Cahaba Brewing Company to support Blood Cancer United (previously Leukemia & Lymphoma Society.)\nThe day will feature cook teams serving up their best wings in any style\, live music all day and more. Who will take home the $1\,000 Judges’ Best Overall prize? Come find out while enjoying Birmingham’s best wings\, live music\, and cold beer all while raising money for Blood Cancer United.
URL:https://bhamnow.com/bhamn-event/wing-wars-benefiting-blood-cancer-united/
LOCATION:Cahaba Brewing Co.\, 4500 5th Ave South\, Birmingham\, AL\, 35222\, United States
CATEGORIES:Fundraiser
ATTACH;FMTTYPE=image/png:https://bhamnow.com/wp-content/uploads/2026/03/WING-WARS_26event-scaled.png
GEO:33.5267234;-86.7648818
X-APPLE-STRUCTURED-LOCATION;VALUE=URI;X-ADDRESS=Cahaba Brewing Co. 4500 5th Ave South Birmingham AL 35222 United States;X-APPLE-RADIUS=500;X-TITLE=4500 5th Ave South:geo:-86.7648818,33.5267234
END:VEVENT
BEGIN:VEVENT
DTSTART;TZID=America/Chicago:20260509T120000
DTEND;TZID=America/Chicago:20260509T170000
DTSTAMP:20260422T124709
CREATED:20260331T191238Z
LAST-MODIFIED:20260331T191238Z
UID:10097449-1778328000-1778346000@bhamnow.com
SUMMARY:Mother's Day Market at Cahaba
DESCRIPTION:Celebrate Mom with us at our annual Mother’s Day Market! 🌷 Join us Saturday\, May 9th from 12–5PM for an afternoon filled with local shopping\, live music\, handcrafted cocktails\, and plenty of cold craft beer. We’ll have a great mix of local artists\, vendors\, and makers bringing unique finds that Mom will love!\nFREE TO ENTER – FAMILY FRIENDLY – RAIN OR SHINE\nThis year\, we’re also bringing the flavor with the 16th Annual Salsa Showdown benefiting Sidewalk Film\, happening in the barrel room! (ticket required)
URL:https://bhamnow.com/bhamn-event/mothers-day-market-at-cahaba-2/
LOCATION:Cahaba Brewing Company\, 4500 5th Ave S Ste C\, Birmingham\, AL\, 35222\, United States
CATEGORIES:Special Event
ATTACH;FMTTYPE=image/png:https://bhamnow.com/wp-content/uploads/2026/03/MothersDay-Market_2026event-scaled.png
GEO:33.527599334717;-86.765480041504
X-APPLE-STRUCTURED-LOCATION;VALUE=URI;X-ADDRESS=Cahaba Brewing Company 4500 5th Ave S Ste C Birmingham AL 35222 United States;X-APPLE-RADIUS=500;X-TITLE=4500 5th Ave S Ste C:geo:-86.765480041504,33.527599334717
END:VEVENT
END:VCALENDAR