BEGIN:VCALENDAR
VERSION:2.0
PRODID:-//Bham Now - ECPv6.15.20//NONSGML v1.0//EN
CALSCALE:GREGORIAN
METHOD:PUBLISH
X-WR-CALNAME:Bham Now
X-ORIGINAL-URL:https://bhamnow.com
X-WR-CALDESC:Events for Bham Now
REFRESH-INTERVAL;VALUE=DURATION:PT1H
X-Robots-Tag:noindex
X-PUBLISHED-TTL:PT1H
BEGIN:VTIMEZONE
TZID:America/Chicago
BEGIN:DAYLIGHT
TZOFFSETFROM:-0600
TZOFFSETTO:-0500
TZNAME:CDT
DTSTART:20240310T080000
END:DAYLIGHT
BEGIN:STANDARD
TZOFFSETFROM:-0500
TZOFFSETTO:-0600
TZNAME:CST
DTSTART:20241103T070000
END:STANDARD
BEGIN:DAYLIGHT
TZOFFSETFROM:-0600
TZOFFSETTO:-0500
TZNAME:CDT
DTSTART:20250309T080000
END:DAYLIGHT
BEGIN:STANDARD
TZOFFSETFROM:-0500
TZOFFSETTO:-0600
TZNAME:CST
DTSTART:20251102T070000
END:STANDARD
BEGIN:DAYLIGHT
TZOFFSETFROM:-0600
TZOFFSETTO:-0500
TZNAME:CDT
DTSTART:20260308T080000
END:DAYLIGHT
BEGIN:STANDARD
TZOFFSETFROM:-0500
TZOFFSETTO:-0600
TZNAME:CST
DTSTART:20261101T070000
END:STANDARD
END:VTIMEZONE
BEGIN:VEVENT
DTSTART;TZID=America/Chicago:20250712T200000
DTEND;TZID=America/Chicago:20250712T233000
DTSTAMP:20260423T122850
CREATED:20250609T182600Z
LAST-MODIFIED:20250609T182600Z
UID:10081960-1752350400-1752363000@bhamnow.com
SUMMARY:Dance Yrself Clean: An Indie Dance Party w/ wknd passes to Shaky Knees
DESCRIPTION:Dance Yrself Clean:An Indie Dance Party w/wknd passes to Shaky Knees \nSaturday July 12th! 107.3’s Essential Indie is coming to Saturn and they want you to Dance Yrself Clean! Playing all your favs from the 2000s\, they’ve got the tunes that will get you moving for this dance party. Music from Yeah Yeah Yeah’s\, Interpol\, LCD Soundsystem\, MGMT\, The Killers\, Arctic Monkeys\, Wet Leg\, Fontaines DC\, Tame Impala and more. \nThey are also giving away a pair of weekend passes to Shaky Knees Festival in Atlanta. \nDoors Open at 8pm!
URL:https://bhamnow.com/bhamn-event/dance-yrself-clean-an-indie-dance-party-w-wknd-passes-to-shaky-knees/
LOCATION:Saturn\, 200 41st Street S\, Birmingham\, AL\, 35222\, 2 41st Pl N\, United States
CATEGORIES:Music
ATTACH;FMTTYPE=image/png:https://bhamnow.com/wp-content/uploads/2025/06/dance-yrself-July.png
GEO:33.527903;-86.775328
X-APPLE-STRUCTURED-LOCATION;VALUE=URI;X-ADDRESS=Saturn 200 41st Street S Birmingham AL 35222 2 41st Pl N United States;X-APPLE-RADIUS=500;X-TITLE=2 41st Pl N:geo:-86.775328,33.527903
END:VEVENT
END:VCALENDAR