BEGIN:VCALENDAR
VERSION:2.0
PRODID:-//Bham Now - ECPv6.15.20//NONSGML v1.0//EN
CALSCALE:GREGORIAN
METHOD:PUBLISH
X-ORIGINAL-URL:https://bhamnow.com
X-WR-CALDESC:Events for Bham Now
REFRESH-INTERVAL;VALUE=DURATION:PT1H
X-Robots-Tag:noindex
X-PUBLISHED-TTL:PT1H
BEGIN:VTIMEZONE
TZID:America/Chicago
BEGIN:DAYLIGHT
TZOFFSETFROM:-0600
TZOFFSETTO:-0500
TZNAME:CDT
DTSTART:20240310T080000
END:DAYLIGHT
BEGIN:STANDARD
TZOFFSETFROM:-0500
TZOFFSETTO:-0600
TZNAME:CST
DTSTART:20241103T070000
END:STANDARD
BEGIN:DAYLIGHT
TZOFFSETFROM:-0600
TZOFFSETTO:-0500
TZNAME:CDT
DTSTART:20250309T080000
END:DAYLIGHT
BEGIN:STANDARD
TZOFFSETFROM:-0500
TZOFFSETTO:-0600
TZNAME:CST
DTSTART:20251102T070000
END:STANDARD
BEGIN:DAYLIGHT
TZOFFSETFROM:-0600
TZOFFSETTO:-0500
TZNAME:CDT
DTSTART:20260308T080000
END:DAYLIGHT
BEGIN:STANDARD
TZOFFSETFROM:-0500
TZOFFSETTO:-0600
TZNAME:CST
DTSTART:20261101T070000
END:STANDARD
END:VTIMEZONE
BEGIN:VEVENT
DTSTART;TZID=America/Chicago:20250417T200000
DTEND;TZID=America/Chicago:20250417T220000
DTSTAMP:20260425T083429
CREATED:20250410T170525Z
LAST-MODIFIED:20250410T170525Z
UID:10080328-1744920000-1744927200@bhamnow.com
SUMMARY:The Upstairs Comedy Series: Baron Vaughn
DESCRIPTION:The Upstairs Comedy Series at Avondale Brewing Company is thrilled to welcome veteran comic/actor/writer\, Baron Vaugh\, to the stage! Baron could be seen acting alongside legends Jane Fonda and Lily Tomlin on Netflix’s Grace & Frankie in the role of “Bud” and is the voice of “Tom Servo” in the new Mystery Science Theater 3000 also streaming on Netflix. The co-creator and co-host of the acclaimed Comedy Central showcase series The New Negroes with Baron Vaughn and Open Mike Eagle\, he has also appeared on Comedy Central in his own The Half Hour\, as well as The Meltdown with Jonah and Kumail. He’s also appeared on HBO’s 2 Dope Queens\, TBS’ Conan (twice)\, and CBS’ @aftermidnight.
URL:https://bhamnow.com/bhamn-event/the-upstairs-comedy-series-baron-vaughn/
LOCATION:Avondale Brewing Company – Upstairs\, 201 41st St S\, Birmingham\, AL\, 35222\, 2 41st St S\, United States
CATEGORIES:Comedy
GEO:33.526671;-86.775883
X-APPLE-STRUCTURED-LOCATION;VALUE=URI;X-ADDRESS=Avondale Brewing Company – Upstairs 201 41st St S Birmingham AL 35222 2 41st St S United States;X-APPLE-RADIUS=500;X-TITLE=2 41st St S:geo:-86.775883,33.526671
END:VEVENT
END:VCALENDAR