BEGIN:VCALENDAR
VERSION:2.0
PRODID:-//Bham Now - ECPv6.15.20//NONSGML v1.0//EN
CALSCALE:GREGORIAN
METHOD:PUBLISH
X-WR-CALNAME:Bham Now
X-ORIGINAL-URL:https://bhamnow.com
X-WR-CALDESC:Events for Bham Now
REFRESH-INTERVAL;VALUE=DURATION:PT1H
X-Robots-Tag:noindex
X-PUBLISHED-TTL:PT1H
BEGIN:VTIMEZONE
TZID:America/Chicago
BEGIN:DAYLIGHT
TZOFFSETFROM:-0600
TZOFFSETTO:-0500
TZNAME:CDT
DTSTART:20240310T080000
END:DAYLIGHT
BEGIN:STANDARD
TZOFFSETFROM:-0500
TZOFFSETTO:-0600
TZNAME:CST
DTSTART:20241103T070000
END:STANDARD
BEGIN:DAYLIGHT
TZOFFSETFROM:-0600
TZOFFSETTO:-0500
TZNAME:CDT
DTSTART:20250309T080000
END:DAYLIGHT
BEGIN:STANDARD
TZOFFSETFROM:-0500
TZOFFSETTO:-0600
TZNAME:CST
DTSTART:20251102T070000
END:STANDARD
BEGIN:DAYLIGHT
TZOFFSETFROM:-0600
TZOFFSETTO:-0500
TZNAME:CDT
DTSTART:20260308T080000
END:DAYLIGHT
BEGIN:STANDARD
TZOFFSETFROM:-0500
TZOFFSETTO:-0600
TZNAME:CST
DTSTART:20261101T070000
END:STANDARD
END:VTIMEZONE
BEGIN:VEVENT
DTSTART;TZID=America/Chicago:20250525T170000
DTEND;TZID=America/Chicago:20250525T180000
DTSTAMP:20260423T182500
CREATED:20250510T143515Z
LAST-MODIFIED:20250525T150514Z
UID:10081283-1748192400-1748196000@bhamnow.com
SUMMARY:Jazz on 4th: The Bill Perry Group
DESCRIPTION:  \nJoin the Alabama Jazz Hall of Fame at the Carver Theatre for our Sunday series\, Jazz on 4th! We’re thrilled to welcome The Bill Perry Group\, for a captivating live jazz performance. \nDate: May 25th\, 2025\n\nTime: 5:00 PM – 6:00 PM (Doors open at 4:30 PM)\n\n.\nDon’t miss this unforgettable evening of live jazz\, vibrant energy\, and great company. We can’t wait to share an incredible night of music with you! \n  \nPURCHASE YOUR TICKETS HERE!!
URL:https://bhamnow.com/bhamn-event/jazz-on-4th-the-bill-perry-group/
LOCATION:Carver Theatre\, 1631 4th Avenue North\, Birmingham\, AL\, 35203\, United States
CATEGORIES:Fun,Jazz at the Carver
ATTACH;FMTTYPE=image/jpeg:https://jazzhall.com/wp-content/uploads/2025/05/bill-perry-flyer-update.png
END:VEVENT
BEGIN:VEVENT
DTSTART;TZID=America/Chicago:20250522T200000
DTEND;TZID=America/Chicago:20250522T220000
DTSTAMP:20260423T182500
CREATED:20250503T135031Z
LAST-MODIFIED:20250522T145018Z
UID:10080690-1747944000-1747951200@bhamnow.com
SUMMARY:Energy Alabama and Earth Libraries Present: The Sun Ra Arkestra LIVE at the Carver Theatre
DESCRIPTION:Please join us for this once-in-a-lifetime celebration honoring the life\, music and legacy– and 111th birthday!!! — of Birmingham’s very own Sun Ra with a special concert by the one and only Sun Ra Arkestra. \nTo help commemorate the occasion\, the band will be presenting a special program of music at the Alabama Jazz Hall of Fame on May 22nd\, as part of the four day Sun Ra Day Festival happening at venues around the Magic City from May 21-24\, that will touch on several iterations of Ra’s unique sonic catalog. \nThe band will be doing a short meet and greet for ticket holders starting at 7\, followed by the concert at 8\, and hope you all will come out to help us pay tribute to this true Alabama original and world-renowned pioneer of modern music. Space is the place!!! \nGeneral admission seating is first come\nWe hope to see you there!\n\n\n\nBUY TICKETS HERE!!!
URL:https://bhamnow.com/bhamn-event/energy-alabama-and-earth-libraries-present-the-sun-ra-arkestra-live-at-the-carver-theatre/
LOCATION:Carver Theatre\, 1631 4th Avenue North\, Birmingham\, AL\, 35203\, United States
CATEGORIES:Festivals,Fun,Jazz at the Carver,Special Events
ATTACH;FMTTYPE=image/jpeg:https://jazzhall.com/wp-content/uploads/2025/05/original-e1f31d66-25d3-40f9-a63f-76c3d5c7f97a.jpeg
END:VEVENT
BEGIN:VEVENT
DTSTART;TZID=America/Chicago:20250522T170000
DTEND;TZID=America/Chicago:20250522T190000
DTSTAMP:20260423T182500
CREATED:20250517T145013Z
LAST-MODIFIED:20250522T145017Z
UID:10081773-1747933200-1747940400@bhamnow.com
SUMMARY:SUN RA HAPPY HOUR
DESCRIPTION:Date: 05/22 \nTime: 5:00 pm – 7:00 pm \nAdmission: FREE \nAttention\, Jazz lovers! Join us for a special happy hour at the Carver Theatre for an unforgettable evening. Sip on delicious cocktails while enjoying the sounds of live jazz music from Jose Carr. This happy hour is in conjunction with the Sun Ra concert that begins at 8pm. Happy Hour is FREE to attend but you must have a ticket to attend the concert! \n$1 off beer \n$5 pours \n$8 Margaritas \nWe will be debuting our official Sun Ra inspired drink\, along with a special menu for this happy hour! Swing by the Carver and let the music take you on a ride – it’s going to be a jazzing good time!! \n  \nWant to attend the Sun Ra Arkestra Concert? Grab your tickets now: ticket link
URL:https://bhamnow.com/bhamn-event/sun-ra-happy-hour/
LOCATION:Carver Theatre\, 1631 4th Avenue North\, Birmingham\, AL\, 35203\, United States
CATEGORIES:Fun
ATTACH;FMTTYPE=image/jpeg:https://jazzhall.com/wp-content/uploads/2025/05/sun-ra-happy-hour-flyer.png
END:VEVENT
BEGIN:VEVENT
DTSTART;TZID=America/Chicago:20250515T170000
DTEND;TZID=America/Chicago:20250515T190000
DTSTAMP:20260423T182500
CREATED:20250513T143515Z
LAST-MODIFIED:20250515T143544Z
UID:10081681-1747328400-1747335600@bhamnow.com
SUMMARY:Jazz Happy Hour 05/15
DESCRIPTION:  \nDate: 05/15 (EVERY THURSDAY) \nTime: 5:00 pm – 7:00 pm \nAdmission: FREE \nAttention\, Jazz lovers! Join us back this Thursday at the iconic Carver Theatre for an unforgettable Jazz Happy Hour. Sip on delicious cocktails while enjoying the smooth sounds of live jazz music. Don’t miss out on the perfect blend of great vibes\, great drinks\, and even greater tunes. \n$1 off beer \n$5 pours \n$8 Margaritas \nSwing by the Carver and let the music take you on a ride – it’s going to be a jazzing good time!!
URL:https://bhamnow.com/bhamn-event/jazz-happy-hour-05-15/
LOCATION:Carver Theatre\, 1631 4th Avenue North\, Birmingham\, AL\, 35203\, United States
CATEGORIES:Fun
ATTACH;FMTTYPE=image/jpeg:https://jazzhall.com/wp-content/uploads/2025/04/jazz-happy-hour-official.png
END:VEVENT
BEGIN:VEVENT
DTSTART;TZID=America/Chicago:20250506T173000
DTEND;TZID=America/Chicago:20250506T183000
DTSTAMP:20260423T182500
CREATED:20250405T091518Z
LAST-MODIFIED:20250506T135019Z
UID:10080286-1746552600-1746556200@bhamnow.com
SUMMARY:Volunteer Orientation 05/06
DESCRIPTION:  \nThank you for your interest in volunteering at the Alabama Jazz Hall of Fame! The volunteer orientation will take place on May 06\, 2025\, from 5:30 to 6:30 pm. This session is mandatory for all volunteers and will provide valuable information about our organization and the various volunteer roles available. \nWe look forward to seeing you there and working together to support the Jazz Hall’s mission! \nLocation: Carver Theatre for the Performing Arts\, 1631 4th Ave N\, Birmingham\, AL 35203 \nDate and time: Tues\, May 6\, 2025\, 5:30 PM – 6:30 PM \n  \nIf you have any questions\, please contact our Marketing Director at sharrison@jazzhall.com. \nRSVP HERE!
URL:https://bhamnow.com/bhamn-event/volunteer-orientation-05-06/
LOCATION:Carver Theatre\, 1631 4th Avenue North\, Birmingham\, AL\, 35203\, United States
CATEGORIES:Fun
ATTACH;FMTTYPE=image/jpeg:https://jazzhall.com/wp-content/uploads/2025/04/volunteer-orientaion-flyer-may-6.png
END:VEVENT
BEGIN:VEVENT
DTSTART;TZID=America/Chicago:20250427T170000
DTEND;TZID=America/Chicago:20250427T180000
DTSTAMP:20260423T182500
CREATED:20250329T075020Z
LAST-MODIFIED:20250427T125026Z
UID:10079516-1745773200-1745776800@bhamnow.com
SUMMARY:Jazz on 4th: Birmingham Heritage Band
DESCRIPTION:  \nJoin the Alabama Jazz Hall of Fame at the Carver Theatre for our new Sunday series\, Jazz on 4th! We’re thrilled to welcome the Birmingham Heritage Band\, under the direction of Bo Berry\, for a captivating live jazz performance. \nFounded in 1976 in celebration of Birmingham Bicentennial\, the Birmingham Heritage Band has since become a dynamic ensemble that showcases the very best of Birmingham’s jazz legacy. With its rich history and diverse talent\, this band is a true embodiment of the city’s vibrant jazz tradition. \nDate: April 27th\, 2025\nTime: 5:00 PM – 6:00 PM (Doors open at 4:00 PM)\n\n\nGeneral admission seating is first come\nDon’t miss out on this unforgettable evening of music and community spirit. We look forward to seeing you for an incredible night of live jazz! \n  \nGRAB YOUR TICKETS HERE!!
URL:https://bhamnow.com/bhamn-event/jazz-on-4th-birmingham-heritage-band/
LOCATION:Carver Theatre\, 1631 4th Avenue North\, Birmingham\, AL\, 35203\, United States
CATEGORIES:Fun,Jazz at the Carver
ATTACH;FMTTYPE=image/jpeg:https://jazzhall.com/wp-content/uploads/2025/03/heritage-band-flyer-2.png
END:VEVENT
BEGIN:VEVENT
DTSTART;TZID=America/Chicago:20250417T170000
DTEND;TZID=America/Chicago:20250417T190000
DTSTAMP:20260423T182500
CREATED:20250409T103514Z
LAST-MODIFIED:20250417T122016Z
UID:10080318-1744909200-1744916400@bhamnow.com
SUMMARY:Jazz Happy Hour ft. Jose Carr
DESCRIPTION:  \nDate: Starting 04/17 (EVERY THURSDAY) \nTime: 5:00 pm – 7:00 pm \nAdmission: FREE \nAttention\, Jazz lovers! Starting April 17th\, join us every Thursday at the iconic Carver Theatre for an unforgettable Jazz Happy Hour. Sip on delicious cocktails while enjoying the smooth sounds of live jazz music. Don’t miss out on the perfect blend of great vibes\, great drinks\, and even greater tunes. \nSwing by the Carver and let the music take you on a ride – it’s going to be a jazzing good time!!
URL:https://bhamnow.com/bhamn-event/jazz-happy-hour-ft-jose-carr/
LOCATION:Carver Theatre\, 1631 4th Avenue North\, Birmingham\, AL\, 35203\, United States
CATEGORIES:Fun,Jazz at the Carver
ATTACH;FMTTYPE=image/jpeg:https://jazzhall.com/wp-content/uploads/2025/04/jazz-happy-hour-official.png
END:VEVENT
BEGIN:VEVENT
DTSTART;TZID=America/Chicago:20250402T173000
DTEND;TZID=America/Chicago:20250402T180000
DTSTAMP:20260423T182500
CREATED:20250329T075018Z
LAST-MODIFIED:20250402T085020Z
UID:10079515-1743615000-1743616800@bhamnow.com
SUMMARY:Volunteer Orientation 04/02
DESCRIPTION:  \nThank you for your interest in volunteering at the Alabama Jazz Hall of Fame! The volunteer orientation will take place on April 02\, 2025\, from 5:30 to 6:00 pm. This session is mandatory for all volunteers and will provide valuable information about our organization and the various volunteer roles available. \nWe look forward to seeing you there and working together to support the Jazz Hall’s mission! \n  \nLocation: Carver Theatre for the Performing Arts\, 1631 4th Ave N\, Birmingham\, AL 35203 \nDate and time: Wed\, Apr 2\, 2025\, 5:30 PM – 6:00 PM \n  \nIf you have any questions\, please contact our Marketing Director at sharrison@jazzhall.com. \nRSVP HERE
URL:https://bhamnow.com/bhamn-event/volunteer-orientation-04-02/
LOCATION:Carver Theatre\, 1631 4th Avenue North\, Birmingham\, AL\, 35203\, United States
CATEGORIES:Fun
ATTACH;FMTTYPE=image/jpeg:https://jazzhall.com/wp-content/uploads/2025/03/volunteer-orientaion-flyer-april.png
END:VEVENT
BEGIN:VEVENT
DTSTART;TZID=America/Chicago:20250322T190000
DTEND;TZID=America/Chicago:20250322T210000
DTSTAMP:20260423T182500
CREATED:20250306T053044Z
LAST-MODIFIED:20250322T075016Z
UID:10078360-1742670000-1742677200@bhamnow.com
SUMMARY:Stand UP on 4th – POSTPONED
DESCRIPTION:Stand Up on 4th at the Carver Theatre has been postponed to a later date. We apologize for any inconvenience this may have caused.\n\nAny questions or concerns\, please feel free to contact us at info@jazzhall.com.
URL:https://bhamnow.com/bhamn-event/stand-up-on-4th/
LOCATION:Carver Theatre\, 1631 4th Avenue North\, Birmingham\, AL\, 35203\, United States
CATEGORIES:Fun
ATTACH;FMTTYPE=image/jpeg:https://jazzhall.com/wp-content/uploads/2025/03/official-comedy-show-flyer.png
END:VEVENT
END:VCALENDAR