BEGIN:VCALENDAR
VERSION:2.0
PRODID:-//Bham Now - ECPv6.15.20//NONSGML v1.0//EN
CALSCALE:GREGORIAN
METHOD:PUBLISH
X-ORIGINAL-URL:https://bhamnow.com
X-WR-CALDESC:Events for Bham Now
REFRESH-INTERVAL;VALUE=DURATION:PT1H
X-Robots-Tag:noindex
X-PUBLISHED-TTL:PT1H
BEGIN:VTIMEZONE
TZID:America/Chicago
BEGIN:DAYLIGHT
TZOFFSETFROM:-0600
TZOFFSETTO:-0500
TZNAME:CDT
DTSTART:20240310T080000
END:DAYLIGHT
BEGIN:STANDARD
TZOFFSETFROM:-0500
TZOFFSETTO:-0600
TZNAME:CST
DTSTART:20241103T070000
END:STANDARD
BEGIN:DAYLIGHT
TZOFFSETFROM:-0600
TZOFFSETTO:-0500
TZNAME:CDT
DTSTART:20250309T080000
END:DAYLIGHT
BEGIN:STANDARD
TZOFFSETFROM:-0500
TZOFFSETTO:-0600
TZNAME:CST
DTSTART:20251102T070000
END:STANDARD
BEGIN:DAYLIGHT
TZOFFSETFROM:-0600
TZOFFSETTO:-0500
TZNAME:CDT
DTSTART:20260308T080000
END:DAYLIGHT
BEGIN:STANDARD
TZOFFSETFROM:-0500
TZOFFSETTO:-0600
TZNAME:CST
DTSTART:20261101T070000
END:STANDARD
END:VTIMEZONE
BEGIN:VEVENT
DTSTART;TZID=America/Chicago:20251007T170000
DTEND;TZID=America/Chicago:20251007T183000
DTSTAMP:20260421T010710
CREATED:20251006T151537Z
LAST-MODIFIED:20251006T151537Z
UID:10085321-1759856400-1759861800@bhamnow.com
SUMMARY:Greek Wine Tasting
DESCRIPTION:We’re thrilled to host Andrea Englisis from Athenee Imports next Tuesday\, 10/7 for a Greek wine tasting! Andrea will be pouring 5 wines\, including: \nThymioloulos Assyrtiko\nFragospito Vilana\nFragospito Kotsifali\nThymiopoulos Xinomavro\nKitma Spiropoulos Agiorgitiko Nemea \nThis tasting will be on the casual side\, come any time between 5:00 and 6:30\, taste at your leisure and chat with Andrea! We’ll have light snacks to accompany. \nTickets are $20 each plus gratuity\, including a $10 credit towards the purchase of any wines sampled\, available for purchase on our website! \nCome learn about these unique wines (& find your perfect pairing for the upcoming food festival season!)
URL:https://bhamnow.com/bhamn-event/greek-wine-tasting/
LOCATION:Red or White Birmingham\, 3916 Clairmont Ave\, Birmingham\, AL\, 35222
ATTACH;FMTTYPE=image/jpeg:https://bhamnow.com/wp-content/uploads/2025/10/start-AT-5pm.jpeg
END:VEVENT
BEGIN:VEVENT
DTSTART;TZID=America/Chicago:20251007T170000
DTEND;TZID=America/Chicago:20251007T183000
DTSTAMP:20260421T010710
CREATED:20251006T151519Z
LAST-MODIFIED:20251006T151519Z
UID:10085346-1759856400-1759861800@bhamnow.com
SUMMARY:Greek Wine Tasting at red or white
DESCRIPTION:We’re thrilled to host Andrea Englisis from Athenee Imports next Tuesday\, 10/7 for a Greek wine tasting! Andrea will be pouring 5 wines\, including: \nThymioloulos Assyrtiko\nFragospito Vilana\nFragospito Kotsifali\nThymiopoulos Xinomavro\nKitma Spiropoulos Agiorgitiko Nemea \nThis tasting will be on the casual side\, come any time between 5:00 and 6:30\, taste at your leisure and chat with Andrea! We’ll have light snacks to accompany. \nTickets are $20 each plus gratuity\, including a $10 credit towards the purchase of any wines sampled\, link in bio to purchase!
URL:https://bhamnow.com/bhamn-event/greek-wine-tasting-at-red-or-white/
LOCATION:Red or White Birmingham\, 3916 Clairmont Ave\, Birmingham\, AL\, 35222
CATEGORIES:Wine Tasting
ATTACH;FMTTYPE=image/jpeg:https://bhamnow.com/wp-content/uploads/2025/10/start-AT-5pm.jpg
END:VEVENT
BEGIN:VEVENT
DTSTART;TZID=America/Chicago:20250918T173000
DTEND;TZID=America/Chicago:20250918T203000
DTSTAMP:20260421T010710
CREATED:20250903T194857Z
LAST-MODIFIED:20250903T194857Z
UID:10084112-1758216600-1758227400@bhamnow.com
SUMMARY:Pooches on the Patio at Vino
DESCRIPTION:🐶 Vino to Host Pooches on the Patio 🐶 \nIt’s pawty time! Bring your furry friends and enjoy an evening of delectable Mediterranean cuisine\, Tito’s Handmade Vodka cocktails\, and heartwarming fun—all while supporting the Greater Birmingham Humane Society (GBHS). Pooches on the Patio\, hosted by Vino\, will be Thursday\, Sept. 18th from 5:30 to 8:30 p.m. \n🐾Sponsored by Tito’s Handmade Vodka\, we can’t forget about the cockTAILS that will be debuting at this event! The Barkarita and The Cranberry American Mutt both made with Tito’s. \n🐩Meet adoptable pups from GBHS and enter to win exciting prizes like a $100 Vino gift card. \n🍸Before you leave\, don’t forget to grab your complimentary goodie bag from Vino and check out Tito’s Vodka for Dog People merchandise. \nFor reservations and more information\, visit www.vinobirmingham.com or call 205-870-8404. \nBone appétit!
URL:https://bhamnow.com/bhamn-event/pooches-on-the-patio-at-vino/
LOCATION:Vino & Gallery Bar\, 1930 Cahaba Rd\, Mountain Brook\, AL\, 35223\, United States
CATEGORIES:Community,Events,Featured Event,Fun Outside,Fundraiser
ATTACH;FMTTYPE=image/png:https://bhamnow.com/wp-content/uploads/2025/09/Black-and-White-Minimalist-Illustrative-Party-Menu-Instagram-Post-45-11.png
GEO:33.4952741;-86.7819414
X-APPLE-STRUCTURED-LOCATION;VALUE=URI;X-ADDRESS=Vino & Gallery Bar 1930 Cahaba Rd Mountain Brook AL 35223 United States;X-APPLE-RADIUS=500;X-TITLE=1930 Cahaba Rd:geo:-86.7819414,33.4952741
END:VEVENT
END:VCALENDAR