BEGIN:VCALENDAR
VERSION:2.0
PRODID:-//Bham Now - ECPv6.15.20//NONSGML v1.0//EN
CALSCALE:GREGORIAN
METHOD:PUBLISH
X-ORIGINAL-URL:https://bhamnow.com
X-WR-CALDESC:Events for Bham Now
REFRESH-INTERVAL;VALUE=DURATION:PT1H
X-Robots-Tag:noindex
X-PUBLISHED-TTL:PT1H
BEGIN:VTIMEZONE
TZID:America/Chicago
BEGIN:DAYLIGHT
TZOFFSETFROM:-0600
TZOFFSETTO:-0500
TZNAME:CDT
DTSTART:20240310T080000
END:DAYLIGHT
BEGIN:STANDARD
TZOFFSETFROM:-0500
TZOFFSETTO:-0600
TZNAME:CST
DTSTART:20241103T070000
END:STANDARD
BEGIN:DAYLIGHT
TZOFFSETFROM:-0600
TZOFFSETTO:-0500
TZNAME:CDT
DTSTART:20250309T080000
END:DAYLIGHT
BEGIN:STANDARD
TZOFFSETFROM:-0500
TZOFFSETTO:-0600
TZNAME:CST
DTSTART:20251102T070000
END:STANDARD
BEGIN:DAYLIGHT
TZOFFSETFROM:-0600
TZOFFSETTO:-0500
TZNAME:CDT
DTSTART:20260308T080000
END:DAYLIGHT
BEGIN:STANDARD
TZOFFSETFROM:-0500
TZOFFSETTO:-0600
TZNAME:CST
DTSTART:20261101T070000
END:STANDARD
END:VTIMEZONE
BEGIN:VEVENT
DTSTART;TZID=America/Chicago:20250927T235900
DTEND;TZID=America/Chicago:20250928T030000
DTSTAMP:20260421T094144
CREATED:20250529T175502Z
LAST-MODIFIED:20250529T175502Z
UID:10081908-1759017540-1759028400@bhamnow.com
SUMMARY:Rocky Horror Hot Dogs Present: The Rocky Horror Picture Show
DESCRIPTION:The Rocky Horror Hot Dogs is a live shadowcast experience of the cult classic The Rocky Horror Picture Show at Sidewalk Film Center + Cinema. This comedy-based troupe will chill you\, thrill you\, and fulfill you as they act out your favorite scenes on stage and celebrate a night of debauchery. Outside prop bags are not allowed. Prop Bags will be available at the cinema (while supplies last and include theatre approved props) for purchase with proceeds going to The Rocky Horror Hot Dogs shadowcasters.
URL:https://bhamnow.com/bhamn-event/rocky-horror-hot-dogs-present-the-rocky-horror-picture-show/2025-09-27/
LOCATION:Sidewalk Cinema @ The Pizitz\, 1821 Second Avenue North\, Birmingham\, AL\, 35203\, United States\, United States
ATTACH;FMTTYPE=image/png:https://bhamnow.com/wp-content/uploads/2025/05/RHHD-Logo-with-text.png
ORGANIZER;CN="Sidewalk Film Center + Cinema":MAILTO:sidewalk@sidewalkfest.com
GEO:37.09024;-95.712891
END:VEVENT
BEGIN:VEVENT
DTSTART;VALUE=DATE:20250823
DTEND;VALUE=DATE:20250826
DTSTAMP:20260421T094144
CREATED:20250819T080515Z
LAST-MODIFIED:20250823T080513Z
UID:10083961-1755910800-1756083599@bhamnow.com
SUMMARY:27th Annual Sidewalk Film Festival
DESCRIPTION:  \nThe 27th Annual Sidewalk Film Festival presented by Regions Bank will take place August 18th – 24th\, 2025 in Downtown Birmingham’s Historic Theatre District\, offering screenings of more than 200 films\, filmmaker Q&As\, panels\, workshops\, networking events and parties. \n  \nGRAB YOUR FESTIVAL TICKETS HERE
URL:https://bhamnow.com/bhamn-event/27th-annual-sidewalk-film-festival/
LOCATION:Carver Theatre\, 1631 4th Avenue North\, Birmingham\, AL\, 35203\, United States
CATEGORIES:Festivals,Fun,Special Events
ATTACH;FMTTYPE=image/jpeg:https://jazzhall.com/wp-content/uploads/2025/08/sidewalk-film-festival-flyer.png
END:VEVENT
END:VCALENDAR