BEGIN:VCALENDAR
VERSION:2.0
PRODID:-//Bham Now - ECPv6.15.20//NONSGML v1.0//EN
CALSCALE:GREGORIAN
METHOD:PUBLISH
X-ORIGINAL-URL:https://bhamnow.com
X-WR-CALDESC:Events for Bham Now
REFRESH-INTERVAL;VALUE=DURATION:PT1H
X-Robots-Tag:noindex
X-PUBLISHED-TTL:PT1H
BEGIN:VTIMEZONE
TZID:America/Chicago
BEGIN:DAYLIGHT
TZOFFSETFROM:-0600
TZOFFSETTO:-0500
TZNAME:CDT
DTSTART:20240310T080000
END:DAYLIGHT
BEGIN:STANDARD
TZOFFSETFROM:-0500
TZOFFSETTO:-0600
TZNAME:CST
DTSTART:20241103T070000
END:STANDARD
BEGIN:DAYLIGHT
TZOFFSETFROM:-0600
TZOFFSETTO:-0500
TZNAME:CDT
DTSTART:20250309T080000
END:DAYLIGHT
BEGIN:STANDARD
TZOFFSETFROM:-0500
TZOFFSETTO:-0600
TZNAME:CST
DTSTART:20251102T070000
END:STANDARD
BEGIN:DAYLIGHT
TZOFFSETFROM:-0600
TZOFFSETTO:-0500
TZNAME:CDT
DTSTART:20260308T080000
END:DAYLIGHT
BEGIN:STANDARD
TZOFFSETFROM:-0500
TZOFFSETTO:-0600
TZNAME:CST
DTSTART:20261101T070000
END:STANDARD
BEGIN:DAYLIGHT
TZOFFSETFROM:-0600
TZOFFSETTO:-0500
TZNAME:CDT
DTSTART:20270314T080000
END:DAYLIGHT
BEGIN:STANDARD
TZOFFSETFROM:-0500
TZOFFSETTO:-0600
TZNAME:CST
DTSTART:20271107T070000
END:STANDARD
END:VTIMEZONE
BEGIN:VEVENT
DTSTART;TZID=America/Chicago:20260301T150000
DTEND;TZID=America/Chicago:20260301T163000
DTSTAMP:20260423T081310
CREATED:20260218T181119Z
LAST-MODIFIED:20260218T181119Z
UID:10092250-1772377200-1772382600@bhamnow.com
SUMMARY:Ladies Rock Camp Showcase
DESCRIPTION:Ladies Rock Camp is an intensive weekend program put on by Girls Rock Birmingham for female-identifying and non-binary folks 18 years of age and older that is redefining the term “lady” by creating an environment that is the antithesis of what we have been told it means to behave as one. Programming for Ladies Rock is similar to what girls do during our summer program: learn an instrument\, form a band\, write a song\, and perform your song live – in just a weekend! You’re invited to cheer on the bands of Ladies Rock Camp at our showcase March 1 at Saturn! You’ll hear the results of the hard work these women put into learning\, writing\, and honing their new craft as ROCKSTARS. Some very special guests will also be joining us. We want a HUGE turnout for these awesome folks so plan to be there!\nTickets are $10 and are available now through Saturn Birmingham. All proceeds go to help Girls Rock Birmingham bring empowering events to young girls. Kids under 18 are admitted FREE.
URL:https://bhamnow.com/bhamn-event/ladies-rock-camp-showcase/
LOCATION:Saturn Birmingham\, 200 41st St S\, Birmingham\, AL\, 35222\, United States
CATEGORIES:Arts,Concert,Concerts,Events,Feature,Fundraiser,Local Events,Music,Special Events
ATTACH;FMTTYPE=image/png:https://bhamnow.com/wp-content/uploads/2026/02/Ladies-Rock-Showcase-11-x-17-in-Instagram-Post-45.png
GEO:33.5242749;-86.7746153
X-APPLE-STRUCTURED-LOCATION;VALUE=URI;X-ADDRESS=Saturn Birmingham 200 41st St S Birmingham AL 35222 United States;X-APPLE-RADIUS=500;X-TITLE=200 41st St S:geo:-86.7746153,33.5242749
END:VEVENT
BEGIN:VEVENT
DTSTART;TZID=America/Chicago:20250712T200000
DTEND;TZID=America/Chicago:20250712T233000
DTSTAMP:20260423T081310
CREATED:20250609T182600Z
LAST-MODIFIED:20250609T182600Z
UID:10081960-1752350400-1752363000@bhamnow.com
SUMMARY:Dance Yrself Clean: An Indie Dance Party w/ wknd passes to Shaky Knees
DESCRIPTION:Dance Yrself Clean:An Indie Dance Party w/wknd passes to Shaky Knees \nSaturday July 12th! 107.3’s Essential Indie is coming to Saturn and they want you to Dance Yrself Clean! Playing all your favs from the 2000s\, they’ve got the tunes that will get you moving for this dance party. Music from Yeah Yeah Yeah’s\, Interpol\, LCD Soundsystem\, MGMT\, The Killers\, Arctic Monkeys\, Wet Leg\, Fontaines DC\, Tame Impala and more. \nThey are also giving away a pair of weekend passes to Shaky Knees Festival in Atlanta. \nDoors Open at 8pm!
URL:https://bhamnow.com/bhamn-event/dance-yrself-clean-an-indie-dance-party-w-wknd-passes-to-shaky-knees/
LOCATION:Saturn\, 200 41st Street S\, Birmingham\, AL\, 35222\, 2 41st Pl N\, United States
CATEGORIES:Music
ATTACH;FMTTYPE=image/png:https://bhamnow.com/wp-content/uploads/2025/06/dance-yrself-July.png
GEO:33.527903;-86.775328
X-APPLE-STRUCTURED-LOCATION;VALUE=URI;X-ADDRESS=Saturn 200 41st Street S Birmingham AL 35222 2 41st Pl N United States;X-APPLE-RADIUS=500;X-TITLE=2 41st Pl N:geo:-86.775328,33.527903
END:VEVENT
BEGIN:VEVENT
DTSTART;TZID=America/Chicago:20250430T200000
DTEND;TZID=America/Chicago:20250430T210000
DTSTAMP:20260423T081310
CREATED:20250403T161159Z
LAST-MODIFIED:20250403T161159Z
UID:10079988-1746043200-1746046800@bhamnow.com
SUMMARY:Everything Is Great! A Town Hall for the People
DESCRIPTION:Part Town Hall\, Part improvised parody. \nReal issues and questions are fielded by comedians playing the roles of absent elected officials in this improvised live game show version of a TOWN HALL! \nComedians have come together to take the reins of the absurdity of our current political moment and create a hilarious and cathartic town hall event. \nAlabama native and internationally touring performer Matt Davis (MattDavisComedy.com) debuts a brand new show that addresses the current moment head on. \nDesigned in the vein of other Fringe Arts Festival shows Matt has produced\, the format combines interactive elements and improvised lines with an almost game show-esque excitement to parody the spectacle and dismissiveness on display between elected officials and the people they seem loath to represent. \nAn expert cast of improvisers (some of the area’s best) are thrown in the game to represent the absent\, empty chair\, elected officials. Through a series of rounds the comedians lend their voice to the missing officials\, and answer real questions and concerns posed by the audience. But! The comedians must toe-the-line that “everything is great” in all their responses. That is\, if they wish to receive points from our host\, Mr. Dark Money himself. The audience\, however\, is here to win\, too! And they boo and jeer on queue\, amid ridiculous answers\, blatant sponsorships\, redemption groveling\, surprise guests\, and other wild happenings. \nAll together it turns our town hall parody into a hilarious evening of improvised comedy\, and real community catharsis! Grab your civic-minded friends\, or those you think need to be inspired to get involved\, and meet us April 30th at Saturn in Avondale for what we hope is the first of many wild and funny nights. \nMore info can be found on: https://TownHallShow.com
URL:https://bhamnow.com/bhamn-event/everything-is-great-a-town-hall-for-the-people/
LOCATION:Saturn\, 200 41st Street S\, Birmingham\, AL\, 35222\, 2 41st Pl N\, United States
CATEGORIES:Comedy,Events,Town Hall
ATTACH;FMTTYPE=image/png:https://bhamnow.com/wp-content/uploads/2025/04/2025-04-30-EIG-TownHall-1920x1005-web.png
GEO:33.527903;-86.775328
X-APPLE-STRUCTURED-LOCATION;VALUE=URI;X-ADDRESS=Saturn 200 41st Street S Birmingham AL 35222 2 41st Pl N United States;X-APPLE-RADIUS=500;X-TITLE=2 41st Pl N:geo:-86.775328,33.527903
END:VEVENT
END:VCALENDAR