BEGIN:VCALENDAR
VERSION:2.0
PRODID:-//Bham Now - ECPv6.15.20//NONSGML v1.0//EN
CALSCALE:GREGORIAN
METHOD:PUBLISH
X-ORIGINAL-URL:https://bhamnow.com
X-WR-CALDESC:Events for Bham Now
REFRESH-INTERVAL;VALUE=DURATION:PT1H
X-Robots-Tag:noindex
X-PUBLISHED-TTL:PT1H
BEGIN:VTIMEZONE
TZID:America/Chicago
BEGIN:DAYLIGHT
TZOFFSETFROM:-0600
TZOFFSETTO:-0500
TZNAME:CDT
DTSTART:20240310T080000
END:DAYLIGHT
BEGIN:STANDARD
TZOFFSETFROM:-0500
TZOFFSETTO:-0600
TZNAME:CST
DTSTART:20241103T070000
END:STANDARD
BEGIN:DAYLIGHT
TZOFFSETFROM:-0600
TZOFFSETTO:-0500
TZNAME:CDT
DTSTART:20250309T080000
END:DAYLIGHT
BEGIN:STANDARD
TZOFFSETFROM:-0500
TZOFFSETTO:-0600
TZNAME:CST
DTSTART:20251102T070000
END:STANDARD
BEGIN:DAYLIGHT
TZOFFSETFROM:-0600
TZOFFSETTO:-0500
TZNAME:CDT
DTSTART:20260308T080000
END:DAYLIGHT
BEGIN:STANDARD
TZOFFSETFROM:-0500
TZOFFSETTO:-0600
TZNAME:CST
DTSTART:20261101T070000
END:STANDARD
END:VTIMEZONE
BEGIN:VEVENT
DTSTART;TZID=America/Chicago:20250726T190000
DTEND;TZID=America/Chicago:20250726T203000
DTSTAMP:20260423T212841
CREATED:20250623T213520Z
LAST-MODIFIED:20250726T030520Z
UID:10082628-1753556400-1753561800@bhamnow.com
SUMMARY:The Roland Barber Quintet featuring Joel Frahm
DESCRIPTION:Date: Saturday\, July 26th\, 2025Time: 7:00 PM – 8:30 PM (Doors open at 6:30 PM)\n \nJoin the Alabama Jazz Hall of Fame at the Carver Theatre for a special evening of live jazz with The Roland Barber Quintet featuring Joel Frahm! \nWe’re proud to present this dynamic performance as part of our ongoing commitment to showcasing world-class jazz in the heart of Birmingham. \nRoland Barber\, a Nashville native and internationally acclaimed trombonist\, brings his soulful\, blues-rooted style and fiery bebop mastery to the Carver stage. Joining him is Joel Frahm\, a saxophonist celebrated for his rich tone\, lyrical phrasing\, and vibrant improvisation—making this a night of unforgettable musical synergy. \nGeneral admission seating is first come\, first served.VIP tickets are available\, which includes early access into the venue and exclusive perks. \nWe look forward to seeing you for an inspiring night of live jazz at the Carver Theatre!! \n\nPURCHASE YOUR TICKETS HERE.
URL:https://bhamnow.com/bhamn-event/the-roland-barber-quintet-featuring-joel-frahm/
LOCATION:Carver Theatre\, 1631 4th Avenue North\, Birmingham\, AL\, 35203\, United States
CATEGORIES:Fun,Jazz at the Carver
ATTACH;FMTTYPE=image/jpeg:https://jazzhall.com/wp-content/uploads/2025/06/roland-barber-concert-flyer.png
END:VEVENT
END:VCALENDAR