BEGIN:VCALENDAR
VERSION:2.0
PRODID:-//Bham Now - ECPv6.15.20//NONSGML v1.0//EN
CALSCALE:GREGORIAN
METHOD:PUBLISH
X-ORIGINAL-URL:https://bhamnow.com
X-WR-CALDESC:Events for Bham Now
REFRESH-INTERVAL;VALUE=DURATION:PT1H
X-Robots-Tag:noindex
X-PUBLISHED-TTL:PT1H
BEGIN:VTIMEZONE
TZID:America/Chicago
BEGIN:DAYLIGHT
TZOFFSETFROM:-0600
TZOFFSETTO:-0500
TZNAME:CDT
DTSTART:20240310T080000
END:DAYLIGHT
BEGIN:STANDARD
TZOFFSETFROM:-0500
TZOFFSETTO:-0600
TZNAME:CST
DTSTART:20241103T070000
END:STANDARD
BEGIN:DAYLIGHT
TZOFFSETFROM:-0600
TZOFFSETTO:-0500
TZNAME:CDT
DTSTART:20250309T080000
END:DAYLIGHT
BEGIN:STANDARD
TZOFFSETFROM:-0500
TZOFFSETTO:-0600
TZNAME:CST
DTSTART:20251102T070000
END:STANDARD
BEGIN:DAYLIGHT
TZOFFSETFROM:-0600
TZOFFSETTO:-0500
TZNAME:CDT
DTSTART:20260308T080000
END:DAYLIGHT
BEGIN:STANDARD
TZOFFSETFROM:-0500
TZOFFSETTO:-0600
TZNAME:CST
DTSTART:20261101T070000
END:STANDARD
BEGIN:DAYLIGHT
TZOFFSETFROM:-0600
TZOFFSETTO:-0500
TZNAME:CDT
DTSTART:20270314T080000
END:DAYLIGHT
BEGIN:STANDARD
TZOFFSETFROM:-0500
TZOFFSETTO:-0600
TZNAME:CST
DTSTART:20271107T070000
END:STANDARD
END:VTIMEZONE
BEGIN:VEVENT
DTSTART;TZID=America/Chicago:20260418T093000
DTEND;TZID=America/Chicago:20260418T113000
DTSTAMP:20260421T164832
CREATED:20260219T194003Z
LAST-MODIFIED:20260219T194003Z
UID:10092318-1776504600-1776511800@bhamnow.com
SUMMARY:She's Into STEM: A Free STEM Fair For Girls in Grades 6- 12
DESCRIPTION:She’s Into STEM is GirlSpring’s FREE annual STEM Fair for Girls in Grades 6 to 12! Meet prominent women from a variety of STEM (Science\, Technology\, Engineering\, and Math) fields and discover all the benefits of pursuing a career in STEM\, and the wide variety of opportunities available. The event will begin with a panel discussion\, followed by Q & A and interactive breakout sessions. \nThe STEM Fair is part of the GirlSpring Wonder Women Series\, sponsored by Coca-Cola Bottling Company United. \nRegister for this free event at our website to secure your spot: https://girlspring.com/april-5-shes-into-stem-a-stem-fair-for-girls/
URL:https://bhamnow.com/bhamn-event/shes-into-stem-a-free-stem-fair-for-girls-in-grades-6-12/
LOCATION:Junior League of Birmingham\, 2212 20th Ave S\, Birmingham\, AL\, United States
CATEGORIES:Educational,EDUCATIONAL EVENT,Teens,Youth Education
ATTACH;FMTTYPE=image/png:https://bhamnow.com/wp-content/uploads/2026/02/STEM-Fair-Instagram-Post-with-Coca-Cola-logo-1.png
GEO:33.493601;-86.785018
X-APPLE-STRUCTURED-LOCATION;VALUE=URI;X-ADDRESS=Junior League of Birmingham 2212 20th Ave S Birmingham AL United States;X-APPLE-RADIUS=500;X-TITLE=2212 20th Ave S:geo:-86.785018,33.493601
END:VEVENT
BEGIN:VEVENT
DTSTART;TZID=America/Chicago:20260129T180000
DTEND;TZID=America/Chicago:20260129T203000
DTSTAMP:20260421T164832
CREATED:20260116T155834Z
LAST-MODIFIED:20260116T155834Z
UID:10091511-1769709600-1769718600@bhamnow.com
SUMMARY:Girlspring Winter Party 2026
DESCRIPTION:2026 is GirlSpring’s 15th anniversary! At this year’s Winter Party\, we’ll celebrate the achievements of GirlSpring’s earliest Springboarders\, who are now finished with college and making their mark in the world. We hope you will join us in celebrating these future leaders! As always\, the event will include great food\, music\, and cocktails. Our venue this year\, the Clubhouse on Highland\, was built in 1910\, and served as a home for the Alabama Federation of Women Club’s 3rd District for over 60 years. It is one of the finest examples of Arts and Crafts style in Birmingham.
URL:https://bhamnow.com/bhamn-event/girlspring-winter-party-2026/
LOCATION:Clubhouse on Highland\, 2908 Highland Ave S\, Birmingham\, AL\, 35205\, United States
CATEGORIES:3rd Party Fundraiser,Local Events
ATTACH;FMTTYPE=image/png:https://bhamnow.com/wp-content/uploads/2026/01/Copy-of-REVISEDwpGraphic2025-2.png
GEO:33.5068779;-86.7813746
X-APPLE-STRUCTURED-LOCATION;VALUE=URI;X-ADDRESS=Clubhouse on Highland 2908 Highland Ave S Birmingham AL 35205 United States;X-APPLE-RADIUS=500;X-TITLE=2908 Highland Ave S:geo:-86.7813746,33.5068779
END:VEVENT
BEGIN:VEVENT
DTSTART;TZID=America/Chicago:20260109T083000
DTEND;TZID=America/Chicago:20260109T160000
DTSTAMP:20260421T164832
CREATED:20251211T161905Z
LAST-MODIFIED:20251211T161905Z
UID:10088677-1767947400-1767974400@bhamnow.com
SUMMARY:Be Worth Funding®️ Bootcamp
DESCRIPTION:The Be Worth Funding® Bootcamp is a high-impact\, full-day training experience designed for nonprofit leaders who are ready to stop chasing dollars and start becoming funding-worthy. Led by Ty Boone — nonprofit success strategist\, architect of the Be Worth Funding® Framework\, and trusted advisor behind hundreds of millions secured for organizations nationwide — this Bootcamp is built to shift how nonprofit leaders think\, plan\, and fund their work in 2026 and beyond. \nAttendees will work through Ty’s Battle Plan™\, a strategic guide that strengthens organizational mindset\, sharpens mission clarity\, and positions nonprofits for sustainable funding. The day includes hands-on work sessions\, a dynamic expert panel\, real-time funding insights\, and practical tools leaders can take home and use immediately. \nWhether you’re new and underfunded or established and preparing for the next level\, this Bootcamp will help you move from raggedy to ready—so your nonprofit becomes the organization funders want to invest in. \nYou’ll Leave With:\n• A clear\, compelling mission that attracts partners and funders\n• A stronger organizational mindset grounded in readiness and sustainability\n• Funding strategies tailored for 2026’s shifting grant and corporate landscape\n• Action steps you can implement immediately to strengthen your organization\n• Ty’s Be Worth Funding® Battle Plan to guide your next 12–18 months
URL:https://bhamnow.com/bhamn-event/be-worth-funding%ef%b8%8f-bootcamp/
LOCATION:Innovation Depot\, 1500 1st Ave N\, Birmingham\, Alabama\, 35203\, United States
CATEGORIES:Business,Conference,Downtown,Featured Event
ATTACH;FMTTYPE=image/jpeg:https://bhamnow.com/wp-content/uploads/2025/12/file_1764954546235.jpeg
GEO:33.5118393;-86.8125728
X-APPLE-STRUCTURED-LOCATION;VALUE=URI;X-ADDRESS=Innovation Depot 1500 1st Ave N Birmingham Alabama 35203 United States;X-APPLE-RADIUS=500;X-TITLE=1500 1st Ave N:geo:-86.8125728,33.5118393
END:VEVENT
BEGIN:VEVENT
DTSTART;TZID=America/Chicago:20250513T080000
DTEND;TZID=America/Chicago:20250517T150000
DTSTAMP:20260421T164832
CREATED:20250407T185717Z
LAST-MODIFIED:20250407T185717Z
UID:10080289-1747123200-1747494000@bhamnow.com
SUMMARY:Habitat for Humanity's Women Build
DESCRIPTION:WOMEN BUILD is an inspiring fundraising event and movement where women come together to build\, invest in\, and advocate for quality\, affordable housing in our community. And yes\, it’s fun! This event is a chance to learn new skills\, forge friendships\, and make a real difference in someone’s life. Gather your friends\, book club\, or coworkers to help build a home and empower a family on their journey to homeownership! \nHow to get involved: \n1. Individual Participation: Donate or raise $125 as an individual. We’ll place you on a team!\n(Includes lunch and a t-shirt) \n2. Team Participation: Create a team of up to 15 and raise $2\,500 together.\n(Includes reserved day\, lunch\, t-shirts\, and custom pink hard hats)
URL:https://bhamnow.com/bhamn-event/habitat-for-humanitys-women-build/
LOCATION:AL
CATEGORIES:Fundraiser,Volunteer Opportunities,Volunteer Opportunity
ATTACH;FMTTYPE=image/jpeg:https://bhamnow.com/wp-content/uploads/2025/04/WB24.jpg
END:VEVENT
BEGIN:VEVENT
DTSTART;TZID=America/Chicago:20250508T180000
DTEND;TZID=America/Chicago:20250508T190000
DTSTAMP:20260421T164832
CREATED:20250501T204454Z
LAST-MODIFIED:20250501T204454Z
UID:10080663-1746727200-1746730800@bhamnow.com
SUMMARY:BUZZ Live! in Birmingham
DESCRIPTION:Join our free BUZZ Live! talk show on May 8\, 6:00 pm Central\, at Red Mountain Theatre Arts Campus! The event will include hors d’oeuvres\, cash bar\, and an opportunity for the greater Birmingham community to meet and greet the stars in the four new episodes of our television show BUZZ: Christian Service Mission\, Holy Family Cristo Rey\, Sav-A-Life\, and Down Syndrome of Alabama. \nDuring our one-hour show – which will be live-streamed to our Facebook and YouTube channels – we’ll talk with the leaders of these Birmingham\, Alabama nonprofits\, and share clips from our upcoming BUZZ episodes that highlight their inspiring missions. These four episodes air Fridays in May (starting May 9) at 8:30 pm Central on Alabama Public Television. Doors open at 5:30 pm. \nFunding for our production comes from the Mike & Gillian Goodrich Foundation and Hoar Construction. \nAbout BUZZ in Birmingham: \nLaunched in 2020\, BUZZ airs on public television in Virginia – and on YouTube – and features the great work that nonprofits do in our communities\, and the marketing pros who donate their time and talent to help these life-giving organizations attract more donors\, volunteers and clients to their cause. A native of Birmingham\, BUZZ creator Michael Hemphill brought his show to his hometown in 2023. Follow us on Facebook\, Instagram\, LinkedIn\, YouTube. \nAlabama Public Television broadcast schedule: \nMay 9\, 8:30 pm – Christian Service Mission\nBirmingham native Michael Hemphill is back in his hometown highlighting and helping nonprofits on BUZZ! In this episode\, BUZZ focuses not only on the people served by Christian Service Mission\, but its volunteers who do the serving. Such as Dickey Atchison … best known as Bo Jackson’s high school football coach\, who suffered a deep depression after the untimely death of his wife of 49 years. He found healing through his volunteer work building homes for people in need through Christian Service Mission. \nMay 16\, 8:30 pm – Holy Family Cristo Rey\nAlgebra\, social studies\, English … Information Technology at HOAR Construction? Human Resources at Blue Cross Blue Shield? Such corporate work study programs are part of the school day at Holy Family Cristo Rey. Founded more than 50 years as a Catholic school for the Ensley community\, Holy Family adopted the “Cristo Rey” model in 2007 to better serve low-income\, underserved families in Birmingham. Students today graduate with more than a diploma\, but a resume of real-world work experience and invaluable business skills. \nMay 23\, 8:30 pm – Sav-A-Life\nWhat about what to expect when you’re not expecting? That’s the life-changing reality confronting countless women each year who find themselves unexpectedly pregnant … and afraid. In a country that increasingly considers itself prolife\, but offers increasingly fewer services once that life is born\, women have only weeks at most to decide what to do about their pregnancy. The nonprofit Sav-A-Life provides wrap-around services so that the clients who walk through their doors make life-affirming choices for themselves and their unborn children. \nMay 30\, 8:30 pm – Down Syndrome of Alabama\nAbout one in 700 children are born with Down syndrome. That’s 85 births each year in Alabama. The future for them\, and their caregivers\, is fraught with a variety of worries and stress. Through Advocacy\, Connections and Education\, the nonprofit Down Syndrome of Alabama envisions a state where individuals with Down syndrome are accepted and included for who they are. DSA provides hope and support to each person and their families with educational resources and networking opportunities throughout all stages of life.
URL:https://bhamnow.com/bhamn-event/buzz-live-in-birmingham/
LOCATION:Birmingham\, AL\, United States
CATEGORIES:Community,Downtown,EDUCATIONAL EVENT,Family Friendly Programs,Film Festival,Meet & Greet,Special Event
ATTACH;FMTTYPE=image/jpeg:https://bhamnow.com/wp-content/uploads/2025/05/BUZZ-in-Birmingham-Preview-Party-May-2025.jpg
END:VEVENT
BEGIN:VEVENT
DTSTART;TZID=America/Chicago:20250308T110000
DTEND;TZID=America/Chicago:20250308T140000
DTSTAMP:20260421T164832
CREATED:20250225T234224Z
LAST-MODIFIED:20250225T234224Z
UID:10077095-1741431600-1741442400@bhamnow.com
SUMMARY:Pre-Saint Patrick’s Day Kick-off Brunch
DESCRIPTION:Celebrate the legacy of Saint Patrick and the enduring influence of the Celts at the Saint Patrick’s Day Kick-off Brunch—a memorable event full of Irish culture\, inspiring conversations\, and opportunities to support the mission of Revive Ireland. 🌟  \nWhat to Expect: \nDelicious Irish-Inspired Brunch: Indulge in a curated menu of Irish favorites and modern brunch classics.\nSilent Auction: Bid on unique Irish and local treasures\, with all proceeds supporting Revive Ireland’s mission to help churches in Ireland and across Europe thrive. \nLive Irish Pastor Roundtable: Watch and listen into leading Irish pastors as they explore “The Real Saint Patrick”—his legacy and the relevance of Ireland’s  Celtic heritage today. Whether attending in person or online\, this is a conversation you won’t want to miss!  \nTickets are available through our secure Donorbox platform. Your ticket purchase directly supports Revive Ireland’s mission to Empower Pastors\,  Strengthen Churches\, and Transform Lives in  Ireland.  These tickets are tax deductible. Options are Single\, Couple\, or Online Only.
URL:https://bhamnow.com/bhamn-event/pre-saint-patricks-day-kick-off-brunch/
LOCATION:The Cotswold Clubhouse\, Birmingham\, AL\, 35242\, United States
CATEGORIES:Events
ATTACH;FMTTYPE=image/png:https://bhamnow.com/wp-content/uploads/2025/02/share_4533274132165654648.png
GEO:33.4165524;-86.681253
END:VEVENT
END:VCALENDAR